Workbook

Sheet Cover
B1: The Charles Schwab Corporation (NYSE: SCHW)
B2: Company Model — built by Shortcut
B3: $ millions, except per share
B4: Period (navigation only) | C4: 3Q25A | D4: 4Q25A | E4: FY25A | F4: 1Q26A | G4: 2Q26A | H4: 3Q26E
B5: Period end | C5: =DATE(2025,9,30) -> 45930 | D5: =DATE(2025,12,31) -> 46022 | E5: =DATE(2025,12,31) -> 46022 | F5: =DATE(2026,3,31) -> 46112 | G5: =DATE(2026,6,30) -> 46203 | H5: =DATE(2026,9,30) -> 46295
B6: Days in period | C6: =C5-DATE(2025,6,30) -> 92 | D6: =D5-C5 -> 92 | E6: =E5-DATE(2024,12,31) -> 365 | F6: =F5-D5 -> 90 | G6: =G5-F5 -> 91 | H6: =H5-G5 -> 92
B9: Company information
B10: Company | C10: The Charles Schwab Corporation
B11: Ticker | C11: SCHW
B12: Exchange | C12: NYSE
B13: Fiscal year end | C13: ="December 31 (CapIQ: "&Inputs!C20&")" -> December 31 (CapIQ: Dec-31)
B14: Currency | C14: USD
B15: EPS basis | C15: Adjusted (non-GAAP) diluted EPS = CapIQ normalized; excludes amortization of acquired intangibles, acquisition/integration and restructuring costs, net of tax
B16: Forecast period | C16: 3Q26E = FQ3 2026 (supplied label "FQ3 2026 - Sep 2026"); fiscal quarter = calendar quarter ended 2026-09-30
B17: Information cutoff | C17: 2026-10-11 22:24 UTC
B18: Expected report date | C18: =TEXT(Inputs!C19,"yyyy-mm-dd")&" (before market open per MarketBeat/Earnings Whispers; not confirmed by an issuer release in our sources)" -> 2026-10-15 (before market open per MarketBeat/Earnings Whispers; not confirmed by an issuer release in our sources)
B19: Author | C19: Shortcut
B21: Headline 3Q26E — estimate vs consensus at cutoff vs guidance
B22: Metric | C22: Shortcut estimate | D22: Consensus (CapIQ, 2026-10-11) | E22: Variance | F22: Variance % | G22: Guidance midpoint (derived) | H22: Est. vs guidance
B23: Total net revenues ($m) | C23: ='Income Statement'!H27 -> 7150.479 | D23: =Inputs!C38 -> 7199.92 | E23: =C23-D23 -> -49.440995 | F23: =C23/D23-1 -> -0.0068668812 | G23: =Guidance!H33 -> 7219.0078 | H23: =C23-G23 -> -68.528755
B24: Adjusted net income to common ($m) | C24: ='Income Statement'!H92 -> 2879.7773 | D24: =Inputs!C51 -> 2882.55 | E24: =C24-D24 -> -2.7726874 | F24: =C24/D24-1 -> -0.00096188699 | G24: =Guidance!H39 -> 2901.8169 | H24: =C24-G24 -> -22.039561
B25: Adjusted diluted EPS (consensus basis) | C25: ='Income Statement'!H99 -> 1.6639759 | D25: =Inputs!C22 -> 1.66 | E25: =C25-D25 -> 0.0039758618 | F25: =C25/D25-1 -> 0.0023950975 | G25: =Guidance!H40 -> 1.6767106 | H25: =C25-G25 -> -0.012734768
B26: GAAP net income to common ($m) | C26: ='Income Statement'!H70 -> 2759.6723 | D26: =Inputs!C52 -> 2785.85 | E26: =C26-D26 -> -26.177687 | F26: =C26/D26-1 -> -0.0093966608 | G26: n/a | H26: n/a
B27: GAAP diluted EPS | C27: ='Income Statement'!H78 -> 1.5945775 | D27: =Inputs!C31 -> 1.61 | E27: =C27-D27 -> -0.015422498 | F27: =C27/D27-1 -> -0.0095791911 | G27: n/a | H27: n/a
B28: Adjusted pre-tax income ($m) | C28: ='Income Statement'!H110 -> 3850.479 | D28: =Inputs!C49 -> 3888.34 | E28: =C28-D28 -> -37.860995 | F28: =C28/D28-1 -> -0.0097370588 | G28: =Guidance!H38 -> 3879.0738 | H28: =C28-G28 -> -28.594755
B29: P(beat consensus EPS) | C29: =Inputs!C123 -> 0.62285714
B30: Confidence | C30: =Inputs!C124 -> medium
B31: Overall model check result | C31: =IF(AND((SUMIF('Revenue summary'!C33:H33,">0")-SUMIF('Revenue summary'!C33:H33,"<0")+0*SUM('Revenue summary'!C33:H33))<0.5,(SUMIF('Balance Sheet'!C43:H43,">0")-SUMIF('Balance Sheet'!C43:H43,"<0")+0*SUM('Balance Sheet'!C43:H43))<0.5,(SUMIF('Cash Flow Statement'!C61:H61,">0")-SUMIF('Cash Flow Statement'!C61:H61,"<0")+0*SUM('Cash Flow Statement'!C61:H61))<0.5,(SUMIF('Cash Flow Statement'!D62:H62,">0")-SUMIF('Cash Flow Statement'!D62:H62,"<0")+0*SUM('Cash Flow Statement'!D62:H62))<0.5,(SUMIF('Cash Flow Statement'!C117:G117,">0")-SUMIF('Cash Flow Statement'!C117:G117,"<0")+0*SUM('Cash Flow Statement'!C117:G117))<0.5,ABS('Income Statement'!E122)<0.5,ABS('Revenue summary'!E442)<0.5,ABS('Income Statement'!E121)<0.5,ABS('Segment - Investor Services'!E156)<0.5,ABS('Segment - Advisor Services'!E152)<0.5,ABS('Revenue summary'!E445)<0.5,(SUMIF('Segment - Advisor Services'!C150:H150,">0")-SUMIF('Segment - Advisor Services'!C150:H150,"<0")+0*SUM('Segment - Advisor Services'!C150:H150))<0.5,(SUMIF('Segment - Advisor Services'!C151:H151,">0")-SUMIF('Segment - Advisor Services'!C151:H151,"<0")+0*SUM('Segment - Advisor Services'!C151:H151))<0.5,C32="PASS"),"PASS","FAIL") -> PASS | I31: C31 gate composition. Genuine historical/source ties: C:G columns of Revenue summary row 33, Balance Sheet row 43, Cash Flow rows 61/62, Cash Flow C117:G117 (YTD), Segment AS C150:G151; FY25 10-K ties IS E121/E122 and Revenue summary E445; NNA terms inside Seg IS E156 and Seg AS E152; plus C32. Partial check: Revenue summary E442 is an FY25 additivity check (genuine only for the NII/AMA detail lines; trading/BDA/other terms are identities because E377/E396/E419 = 1H25 + 3Q25 + 4Q25). Construction identities (cannot fail; kept for traceability, NOT independent evidence for 3Q26E): H column of Revenue summary H33 (segments = company × complementary shares), Balance Sheet H43 (cash H10 is the balancing plug), Seg AS H150/H151; and the FY25 segment-line terms in Seg IS E156 / Seg AS E152 (4Q25 segment lines backsolved as FY − 1H25 − 3Q25). Wiring checks (can fail, but test only that every BS movement maps into the CF, not the forecast): Cash Flow H61/H62. IS H104 EPS×shares identity is excluded. A PASS therefore does not independently validate the 3Q26E forecast.
B32: Historical source-tie check | C32: =IF(AND((SUMIF('Revenue summary'!C441:G441,">0")-SUMIF('Revenue summary'!C441:G441,"<0")+0*SUM('Revenue summary'!C441:G441))<0.5,(SUMIF('Income Statement'!C81:G81,">0")-SUMIF('Income Statement'!C81:G81,"<0")+0*SUM('Income Statement'!C81:G81))<0.005,(SUMIF('Income Statement'!C102:G102,">0")-SUMIF('Income Statement'!C102:G102,"<0")+0*SUM('Income Statement'!C102:G102))<0.005,(SUMIF('Income Statement'!C103:G103,">0")-SUMIF('Income Statement'!C103:G103,"<0")+0*SUM('Income Statement'!C103:G103))<0.005),"PASS","FAIL") -> PASS | I32: C32 = historical source ties: CapIQ revenue (Revenue summary C441:G441), reported GAAP EPS (IS C81:G81), reported adj. EPS (IS C102:G102), CapIQ normalized EPS (IS C103:G103).
B33: Consensus detail at cutoff (frozen scoring baseline) and newer references (recorded separately)
B34: EPS ests: n / high / low / sd | C34: =Inputs!C27 -> 19 | D34: =Inputs!C24 -> 1.73 | E34: =Inputs!C25 -> 1.59 | F34: =Inputs!C26 -> 0.03
B35: Revenue ests: n / high / low / sd | C35: =Inputs!C43 -> 13 | D35: =Inputs!C40 -> 7278 | E35: =Inputs!C41 -> 7060.92 | F35: =Inputs!C42 -> 60.88
B36: Other references (not used to replace the frozen baseline): Benzinga/Tickeron $1.67 & $7.21bn; Earnings Whispers whisper $1.68; BofA $1.66
B37: Mkt cap $bn / bucket / start P | C37: =Inputs!C109 -> 167.23 | D37: =Inputs!C113 -> Large | E37: =Inputs!C121 -> 0.80285714

Sheet Revenue summary
B1: The Charles Schwab Corporation (NYSE: SCHW)
B2: Revenue summary and company revenue drivers
B3: $ millions, except per share
B4: Period | C4: 3Q25A | D4: 4Q25A | E4: FY25A | F4: 1Q26A | G4: 2Q26A | H4: 3Q26E
B5: Period end | C5: =DATE(2025,9,30) -> 45930 | D5: =DATE(2025,12,31) -> 46022 | E5: =DATE(2025,12,31) -> 46022 | F5: =DATE(2026,3,31) -> 46112 | G5: =DATE(2026,6,30) -> 46203 | H5: =DATE(2026,9,30) -> 46295
B6: Days in period | C6: =C5-DATE(2025,6,30) -> 92 | D6: =D5-C5 -> 92 | E6: =E5-DATE(2024,12,31) -> 365 | F6: =F5-D5 -> 90 | G6: =G5-F5 -> 91 | H6: =H5-G5 -> 92
B9: Net revenues by reported segment
B10: Investor Services net revenues | C10: ='Segment - Investor Services'!C90 -> 4883 | D10: ='Segment - Investor Services'!D90 -> 5036 | E10: ='Segment - Investor Services'!E90 -> 18999 | F10: ='Segment - Investor Services'!F90 -> 5077 | G10: ='Segment - Investor Services'!G90 -> 5528 | H10: ='Segment - Investor Services'!H90 -> 5574.9066
B11: % Y/Y | H11: =IF(OR(H10="",C10=""),"",IF(C10=0,"n/m",H10/C10-1)) -> 0.14169703
B12: % Q/Q | D12: =IF(OR(D10="",C10=""),"",IF(C10=0,"n/m",D10/C10-1)) -> 0.031333197 | F12: =IF(OR(F10="",D10=""),"",IF(D10=0,"n/m",F10/D10-1)) -> 0.008141382 | G12: =IF(OR(G10="",F10=""),"",IF(F10=0,"n/m",G10/F10-1)) -> 0.088831987 | H12: =IF(OR(H10="",G10=""),"",IF(G10=0,"n/m",H10/G10-1)) -> 0.0084852779
B13: % of total net revenues | C13: =C10/C26 -> 0.79592502 | D13: =D10/D26 -> 0.79482323 | E13: =E10/E26 -> 0.79423937 | F13: =F10/F26 -> 0.78324591 | G13: =G10/G26 -> 0.78167421 | H13: =H10/H26 -> 0.77965499
B14: Total growth Y/Y | H14: =IF(C10=0,"n/m",H10/C10-1) -> 0.14169703
B15: M&A / scope contribution (Forge) | H15: =H405*'Segment - Investor Services'!H80/C10 -> 0.007188204 | I15: Forge scope allocated with the segment build's other-revenue shares (IS 78% / AS 22%; Seg IS!H80, Seg AS!H74). 10-Q assigns Forge goodwill to Investor Services, but no segment revenue split for Forge is disclosed (unresolved); consolidated revenue/EPS unaffected.
B16: FX impact | H16: 0
B17: Organic growth | H17: =(1+H14)/((1+H15)*(1+H16))-1 -> 0.13354885
B18: Advisor Services net revenues | C18: ='Segment - Advisor Services'!C84 -> 1252 | D18: ='Segment - Advisor Services'!D84 -> 1300 | E18: ='Segment - Advisor Services'!E84 -> 4922 | F18: ='Segment - Advisor Services'!F84 -> 1405 | G18: ='Segment - Advisor Services'!G84 -> 1544 | H18: ='Segment - Advisor Services'!H84 -> 1575.5724
B19: % Y/Y | H19: =IF(OR(H18="",C18=""),"",IF(C18=0,"n/m",H18/C18-1)) -> 0.2584444
B20: % Q/Q | D20: =IF(OR(D18="",C18=""),"",IF(C18=0,"n/m",D18/C18-1)) -> 0.038338658 | F20: =IF(OR(F18="",D18=""),"",IF(D18=0,"n/m",F18/D18-1)) -> 0.080769231 | G20: =IF(OR(G18="",F18=""),"",IF(F18=0,"n/m",G18/F18-1)) -> 0.098932384 | H20: =IF(OR(H18="",G18=""),"",IF(G18=0,"n/m",H18/G18-1)) -> 0.020448438
B21: % of total net revenues | C21: =C18/C26 -> 0.20407498 | D21: =D18/D26 -> 0.20517677 | E21: =E18/E26 -> 0.20576063 | F21: =F18/F26 -> 0.21675409 | G21: =G18/G26 -> 0.21832579 | H21: =H18/H26 -> 0.22034501
B22: Total growth Y/Y | H22: =IF(C18=0,"n/m",H18/C18-1) -> 0.2584444
B23: M&A / scope contribution | H23: =H405*'Segment - Advisor Services'!H74/C18 -> 0.0079073482
B24: FX impact | H24: 0
B25: Organic growth | H25: =(1+H22)/((1+H23)*(1+H24))-1 -> 0.24857151
B26: Total net revenues | C26: =C10+C18 -> 6135 | D26: =D10+D18 -> 6336 | E26: =E10+E18 -> 23921 | F26: =F10+F18 -> 6482 | G26: =G10+G18 -> 7072 | H26: =H10+H18 -> 7150.479
B27: % Y/Y | H27: =IF(OR(H26="",C26=""),"",IF(C26=0,"n/m",H26/C26-1)) -> 0.16552225
B28: % Q/Q | D28: =IF(OR(D26="",C26=""),"",IF(C26=0,"n/m",D26/C26-1)) -> 0.032762836 | F28: =IF(OR(F26="",D26=""),"",IF(D26=0,"n/m",F26/D26-1)) -> 0.023042929 | G28: =IF(OR(G26="",F26=""),"",IF(F26=0,"n/m",G26/F26-1)) -> 0.09102129 | H28: =IF(OR(H26="",G26=""),"",IF(G26=0,"n/m",H26/G26-1)) -> 0.011097144
B29: Total growth Y/Y | H29: =IF(C26=0,"n/m",H26/C26-1) -> 0.16552225
B30: M&A / scope contribution (Forge) | H30: =H405/C26 -> 0.0073349633
B31: FX impact | H31: 0
B32: Organic growth | H32: =(1+H29)/((1+H30)*(1+H31))-1 -> 0.15703544
B33: Chk: segments − total revenue | C33: =ROUND(C26-C438,3) -> 0 | D33: =ROUND(D26-D438,3) -> 0 | E33: =ROUND(E26-E438,3) -> 0 | F33: =ROUND(F26-F438,3) -> 0 | G33: =ROUND(G26-G438,3) -> 0 | H33: =ROUND(H26-H438,3) -> 0 | I33: C:G = historical source tie. H (3Q26E) = construction identity: segment revenues are company lines × complementary shares, so H33 cannot fail.
B34: Geography: substantially all revenue is US-based; no geographic split is disclosed (2025 10-K) — Geo tab omitted
B36: Net interest revenue build — average balances, interest and yields (act/365 model basis)
B37: Avg bal: Cash & equivalents | C37: 24298 | D37: 29491 | E37: 28054 | F37: 32477 | G37: 30707 | H37: 29000
B38: % Y/Y change | H38: =IF(OR(H37="",C37=""),"",IF(C37=0,"n/m",H37/C37-1)) -> 0.19351387
B39: Q/Q change (abs) | D39: =IF(OR(D37="",C37=""),"",D37-C37) -> 5193 | F39: =IF(OR(F37="",D37=""),"",F37-D37) -> 2986 | G39: =IF(OR(G37="",F37=""),"",G37-F37) -> -1770 | H39: =IF(OR(H37="",G37=""),"",H37-G37) -> -1707
B40: Avg bal: Segregated cash & inv. | C40: 46046 | D40: 45114 | E40: 44359 | F40: 43946 | G40: 41326 | H40: 36000
B41: % Y/Y change | H41: =IF(OR(H40="",C40=""),"",IF(C40=0,"n/m",H40/C40-1)) -> -0.21817313
B42: Q/Q change (abs) | D42: =IF(OR(D40="",C40=""),"",D40-C40) -> -932 | F42: =IF(OR(F40="",D40=""),"",F40-D40) -> -1168 | G42: =IF(OR(G40="",F40=""),"",G40-F40) -> -2620 | H42: =IF(OR(H40="",G40=""),"",H40-G40) -> -5326
B43: Avg bal: Margin receivables | C43: 90121 | D43: 100086 | E43: 87300 | F43: 104520 | G43: 112136 | H43: 123500
...

Sheet Segment - Investor Services
B1: The Charles Schwab Corporation (NYSE: SCHW)
B2: Segment — Investor Services
B3: $ millions, except per share
B4: Period | C4: 3Q25A | D4: 4Q25A | E4: FY25A | F4: 1Q26A | G4: 2Q26A | H4: 3Q26E
B5: Period end | C5: =DATE(2025,9,30) -> 45930 | D5: =DATE(2025,12,31) -> 46022 | E5: =DATE(2025,12,31) -> 46022 | F5: =DATE(2026,3,31) -> 46112 | G5: =DATE(2026,6,30) -> 46203 | H5: =DATE(2026,9,30) -> 46295
B6: Days in period | C6: =C5-DATE(2025,6,30) -> 92 | D6: =D5-C5 -> 92 | E6: =E5-DATE(2024,12,31) -> 365 | F6: =F5-D5 -> 90 | G6: =G5-F5 -> 91 | H6: =H5-G5 -> 92
B9: Segment client assets ladder ($bn)
B10: Segment client assets, opening | C10: =Inputs!D184 -> 6069.9 | D10: =C20 -> 6577.2 | E10: =Inputs!D183 -> 5721.6 | F10: =D20 -> 6707.5 | G10: =F20 -> 6566.4 | H10: =G20 -> 7343
B11: Segment NNA | C11: 52.7 | D11: 60.4 | E11: =Inputs!C176+C11+D11 -> 213.8 | F11: 54.1 | G11: 38.5 | H11: ='Revenue summary'!H447*H14 -> 72.076
B12: % Y/Y change | H12: =IF(OR(H11="",C11=""),"",IF(C11=0,"n/m",H11/C11-1)) -> 0.36766603
B13: Q/Q change (abs) | D13: =IF(OR(D11="",C11=""),"",D11-C11) -> 7.7 | F13: =IF(OR(F11="",D11=""),"",F11-D11) -> -6.3 | G13: =IF(OR(G11="",F11=""),"",G11-F11) -> -15.6 | H13: =IF(OR(H11="",G11=""),"",H11-G11) -> 33.576
B14: Seg. share: NNA | C14: =C11/'Revenue summary'!C447 -> 0.3921131 | D14: =D11/'Revenue summary'!D447 -> 0.3817952 | E14: =E11/'Revenue summary'!E447 -> 0.42880064 | F14: =F11/'Revenue summary'!F447 -> 0.38670479 | G14: =G11/'Revenue summary'!G447 -> 0.32434709 | H14: 0.37
B15: Change Q/Q (bp) | D15: =IF(OR(D14="",C14=""),"",(D14-C14)*10000) -> -103.17899 | F15: =IF(OR(F14="",D14=""),"",(F14-D14)*10000) -> 49.095932 | G15: =IF(OR(G14="",F14=""),"",(G14-F14)*10000) -> -623.57696 | H15: =IF(OR(H14="",G14=""),"",(H14-G14)*10000) -> 456.52906
B16: Change Y/Y (bp) | H16: =IF(OR(H14="",C14=""),"",(H14-C14)*10000) -> -221.13095
B17: Segment market gains (derived) | C17: =C20-C10-C11 -> 454.6 | D17: =D20-D10-D11 -> 69.9 | E17: =E20-E10-E11 -> 772.1 | F17: =F20-F10-F11 -> -195.2 | G17: =G20-G10-G11 -> 738.1 | H17: ='Revenue summary'!H453*H10/'Revenue summary'!H446 -> 92.763254
B18: % Y/Y change | H18: =IF(OR(H17="",C17=""),"",IF(C17=0,"n/m",H17/C17-1)) -> -0.79594533
B19: Q/Q change (abs) | D19: =IF(OR(D17="",C17=""),"",D17-C17) -> -384.7 | F19: =IF(OR(F17="",D17=""),"",F17-D17) -> -265.1 | G19: =IF(OR(G17="",F17=""),"",G17-F17) -> 933.3 | H19: =IF(OR(H17="",G17=""),"",H17-G17) -> -645.33675
B20: Segment client assets, closing | C20: 6577.2 | D20: 6707.5 | E20: =D20 -> 6707.5 | F20: 6566.4 | G20: 7343 | H20: =H10+H11+H17 -> 7507.8393
B21: % Y/Y change | H21: =IF(OR(H20="",C20=""),"",IF(C20=0,"n/m",H20/C20-1)) -> 0.14149475
B22: Q/Q change (abs) | D22: =IF(OR(D20="",C20=""),"",D20-C20) -> 130.3 | F22: =IF(OR(F20="",D20=""),"",F20-D20) -> -141.1 | G22: =IF(OR(G20="",F20=""),"",G20-F20) -> 776.6 | H22: =IF(OR(H20="",G20=""),"",H20-G20) -> 164.83925
B23: Segment client assets, average | C23: =AVERAGE(C10,C20) -> 6323.55 | D23: =AVERAGE(D10,D20) -> 6642.35 | E23: =AVERAGE(E10,E20) -> 6214.55 | F23: =AVERAGE(F10,F20) -> 6636.95 | G23: =AVERAGE(G10,G20) -> 6954.7 | H23: =AVERAGE(H10,H20) -> 7425.4196 | I23: FY25 column = two-point (Dec-24/Dec-25) average proxy; FY ratio E97 is approximate.
B24: % Y/Y change | H24: =IF(OR(H23="",C23=""),"",IF(C23=0,"n/m",H23/C23-1)) -> 0.17424858
B25: Q/Q change (abs) | D25: =IF(OR(D23="",C23=""),"",D23-C23) -> 318.8 | F25: =IF(OR(F23="",D23=""),"",F23-D23) -> -5.4 | G25: =IF(OR(G23="",F23=""),"",G23-F23) -> 317.75 | H25: =IF(OR(H23="",G23=""),"",H23-G23) -> 470.71963
B26: Seg. % of company assets | C26: =C20/'Revenue summary'!C459 -> 0.56729832 | D26: =D20/'Revenue summary'!D459 -> 0.5635134 | E26: =E20/'Revenue summary'!E459 -> 0.5635134 | F26: =F20/'Revenue summary'!F459 -> 0.55799251 | G26: =G20/'Revenue summary'!G459 -> 0.56118121 | H26: =H20/'Revenue summary'!H459 -> 0.55841125
B27: Change Q/Q (bp) | D27: =IF(OR(D26="",C26=""),"",(D26-C26)*10000) -> -37.849207 | F27: =IF(OR(F26="",D26=""),"",(F26-D26)*10000) -> -55.208949 | G27: =IF(OR(G26="",F26=""),"",(G26-F26)*10000) -> 31.887038 | H27: =IF(OR(H26="",G26=""),"",(H26-G26)*10000) -> -27.699591
B28: Change Y/Y (bp) | H28: =IF(OR(H26="",C26=""),"",(H26-C26)*10000) -> -88.870708
B29: Seg. organic growth (ann.) | C29: =C11*(365/C$6)/C10 -> 0.034445629 | D29: =D11*(365/D$6)/D10 -> 0.036433503 | E29: =E11*(365/E$6)/E10 -> 0.03736717 | F29: =F11*(365/F$6)/F10 -> 0.032710482 | G29: =G11*(365/G$6)/G10 -> 0.02351716 | H29: =H11*(365/H$6)/H10 -> 0.038942353
B30: Change Q/Q (bp) | D30: =IF(OR(D29="",C29=""),"",(D29-C29)*10000) -> 19.878741 | F30: =IF(OR(F29="",D29=""),"",(F29-D29)*10000) -> -37.230212 | G30: =IF(OR(G29="",F29=""),"",(G29-F29)*10000) -> -91.93322 | H30: =IF(OR(H29="",G29=""),"",(H29-G29)*10000) -> 154.25193
B31: Change Y/Y (bp) | H31: =IF(OR(H29="",C29=""),"",(H29-C29)*10000) -> 44.96724
B32: Advisory assets, closing | C32: 792.5 | D32: 824.8 | E32: =D32 -> 824.8 | F32: 841.3 | G32: 929.8 | H32: 960
B33: % Y/Y change | H33: =IF(OR(H32="",C32=""),"",IF(C32=0,"n/m",H32/C32-1)) -> 0.21135647
B34: Q/Q change (abs) | D34: =IF(OR(D32="",C32=""),"",D32-C32) -> 32.3 | F34: =IF(OR(F32="",D32=""),"",F32-D32) -> 16.5 | G34: =IF(OR(G32="",F32=""),"",G32-F32) -> 88.5 | H34: =IF(OR(H32="",G32=""),"",H32-G32) -> 30.2
B35: Advisory assets % of segment assets | C35: =C32/C20 -> 0.120492 | D35: =D32/D20 -> 0.12296683 | E35: =E32/E20 -> 0.12296683 | F35: =F32/F20 -> 0.12812195 | G35: =G32/G20 -> 0.126624 | H35: =H32/H20 -> 0.12786635
B36: Change Q/Q (bp) | D36: =IF(OR(D35="",C35=""),"",(D35-C35)*10000) -> 24.748255 | F36: =IF(OR(F35="",D35=""),"",(F35-D35)*10000) -> 51.55126 | G36: =IF(OR(G35="",F35=""),"",(G35-F35)*10000) -> -14.979585 | H36: =IF(OR(H35="",G35=""),"",(H35-G35)*10000) -> 12.423541
B37: Change Y/Y (bp) | H37: =IF(OR(H35="",C35=""),"",(H35-C35)*10000) -> 73.743471
B39: Segment net revenues by line ($m) — 3Q26E = company line × segment share
B40: Seg. share: NII | C40: =C43/'Revenue summary'!C227 -> 0.7947541 | D40: =D43/'Revenue summary'!D227 -> 0.7887768 | E40: =E43/'Revenue summary'!E227 -> 0.79387234 | F40: =F43/'Revenue summary'!F227 -> 0.77131043 | G40: =G43/'Revenue summary'!G227 -> 0.76705392 | H40: 0.763
B41: Change Q/Q (bp) | D41: =IF(OR(D40="",C40=""),"",(D40-C40)*10000) -> -59.773014 | F41: =IF(OR(F40="",D40=""),"",(F40-D40)*10000) -> -174.66364 | G41: =IF(OR(G40="",F40=""),"",(G40-F40)*10000) -> -42.565154 | H41: =IF(OR(H40="",G40=""),"",(H40-G40)*10000) -> -40.539172
B42: Change Y/Y (bp) | H42: =IF(OR(H40="",C40=""),"",(H40-C40)*10000) -> -317.54098
B43: Net interest revenue | C43: 2424 | D43: =Inputs!D147-Inputs!C147-C43 -> 2502 | E43: =Inputs!C147+C43+D43 -> 9328 | F43: 2425 | G43: 2575 | H43: ='Revenue summary'!H227*H40 -> 2659.4852
...

Sheet Segment - Advisor Services
B1: The Charles Schwab Corporation (NYSE: SCHW)
B2: Segment — Advisor Services
B3: $ millions, except per share
B4: Period | C4: 3Q25A | D4: 4Q25A | E4: FY25A | F4: 1Q26A | G4: 2Q26A | H4: 3Q26E
B5: Period end | C5: =DATE(2025,9,30) -> 45930 | D5: =DATE(2025,12,31) -> 46022 | E5: =DATE(2025,12,31) -> 46022 | F5: =DATE(2026,3,31) -> 46112 | G5: =DATE(2026,6,30) -> 46203 | H5: =DATE(2026,9,30) -> 46295
B6: Days in period | C6: =C5-DATE(2025,6,30) -> 92 | D6: =D5-C5 -> 92 | E6: =E5-DATE(2024,12,31) -> 365 | F6: =F5-D5 -> 90 | G6: =G5-F5 -> 91 | H6: =H5-G5 -> 92
B9: Segment client assets ladder ($bn)
B10: Segment client assets, opening | C10: =Inputs!E184 -> 4687.4 | D10: =C20 -> 5016.7 | E10: =Inputs!E183 -> 4379.7 | F10: =D20 -> 5195.5 | G10: =F20 -> 5201.5 | H10: =G20 -> 5741.9
B11: Segment NNA | C11: 81.7 | D11: 97.8 | E11: =Inputs!C177+C11+D11 -> 284.8 | F11: 85.8 | G11: 80.2 | H11: ='Revenue summary'!H447-'Segment - Investor Services'!H11 -> 122.724
B12: % Y/Y change | H12: =IF(OR(H11="",C11=""),"",IF(C11=0,"n/m",H11/C11-1)) -> 0.50212974
B13: Q/Q change (abs) | D13: =IF(OR(D11="",C11=""),"",D11-C11) -> 16.1 | F13: =IF(OR(F11="",D11=""),"",F11-D11) -> -12 | G13: =IF(OR(G11="",F11=""),"",G11-F11) -> -5.6 | H13: =IF(OR(H11="",G11=""),"",H11-G11) -> 42.524
B14: Seg. share: NNA | C14: =C11/'Revenue summary'!C447 -> 0.6078869 | D14: =D11/'Revenue summary'!D447 -> 0.6182048 | E14: =E11/'Revenue summary'!E447 -> 0.57119936 | F14: =F11/'Revenue summary'!F447 -> 0.61329521 | G14: =G11/'Revenue summary'!G447 -> 0.67565291 | H14: =H11/'Revenue summary'!H447 -> 0.63
B15: Change Q/Q (bp) | D15: =IF(OR(D14="",C14=""),"",(D14-C14)*10000) -> 103.17899 | F15: =IF(OR(F14="",D14=""),"",(F14-D14)*10000) -> -49.095932 | G15: =IF(OR(G14="",F14=""),"",(G14-F14)*10000) -> 623.57696 | H15: =IF(OR(H14="",G14=""),"",(H14-G14)*10000) -> -456.52906
B16: Change Y/Y (bp) | H16: =IF(OR(H14="",C14=""),"",(H14-C14)*10000) -> 221.13095
B17: Segment market gains (derived) | C17: =C20-C10-C11 -> 247.6 | D17: =D20-D10-D11 -> 81 | E17: =E20-E10-E11 -> 531 | F17: =F20-F10-F11 -> -79.8 | G17: =G20-G10-G11 -> 460.2 | H17: ='Revenue summary'!H453*H10/'Revenue summary'!H446 -> 72.536746
B18: % Y/Y change | H18: =IF(OR(H17="",C17=""),"",IF(C17=0,"n/m",H17/C17-1)) -> -0.70704061
B19: Q/Q change (abs) | D19: =IF(OR(D17="",C17=""),"",D17-C17) -> -166.6 | F19: =IF(OR(F17="",D17=""),"",F17-D17) -> -160.8 | G19: =IF(OR(G17="",F17=""),"",G17-F17) -> 540 | H19: =IF(OR(H17="",G17=""),"",H17-G17) -> -387.66325
B20: Segment client assets, closing | C20: 5016.7 | D20: 5195.5 | E20: =D20 -> 5195.5 | F20: 5201.5 | G20: 5741.9 | H20: =H10+H11+H17 -> 5937.1607
B21: % Y/Y change | H21: =IF(OR(H20="",C20=""),"",IF(C20=0,"n/m",H20/C20-1)) -> 0.18347933
B22: Q/Q change (abs) | D22: =IF(OR(D20="",C20=""),"",D20-C20) -> 178.8 | F22: =IF(OR(F20="",D20=""),"",F20-D20) -> 6 | G22: =IF(OR(G20="",F20=""),"",G20-F20) -> 540.4 | H22: =IF(OR(H20="",G20=""),"",H20-G20) -> 195.26075
B23: Segment client assets, average | C23: =AVERAGE(C10,C20) -> 4852.05 | D23: =AVERAGE(D10,D20) -> 5106.1 | E23: =AVERAGE(E10,E20) -> 4787.6 | F23: =AVERAGE(F10,F20) -> 5198.5 | G23: =AVERAGE(G10,G20) -> 5471.7 | H23: =AVERAGE(H10,H20) -> 5839.5304 | I23: FY25 column = two-point (Dec-24/Dec-25) average proxy; FY ratio E91 is approximate.
B24: % Y/Y change | H24: =IF(OR(H23="",C23=""),"",IF(C23=0,"n/m",H23/C23-1)) -> 0.20351818
B25: Q/Q change (abs) | D25: =IF(OR(D23="",C23=""),"",D23-C23) -> 254.05 | F25: =IF(OR(F23="",D23=""),"",F23-D23) -> 92.4 | G25: =IF(OR(G23="",F23=""),"",G23-F23) -> 273.2 | H25: =IF(OR(H23="",G23=""),"",H23-G23) -> 367.83037
B26: Seg. % of company assets | C26: =C20/'Revenue summary'!C459 -> 0.43270168 | D26: =D20/'Revenue summary'!D459 -> 0.4364866 | E26: =E20/'Revenue summary'!E459 -> 0.4364866 | F26: =F20/'Revenue summary'!F459 -> 0.44200749 | G26: =G20/'Revenue summary'!G459 -> 0.43881879 | H26: =H20/'Revenue summary'!H459 -> 0.44158875
B27: Change Q/Q (bp) | D27: =IF(OR(D26="",C26=""),"",(D26-C26)*10000) -> 37.849207 | F27: =IF(OR(F26="",D26=""),"",(F26-D26)*10000) -> 55.208949 | G27: =IF(OR(G26="",F26=""),"",(G26-F26)*10000) -> -31.887038 | H27: =IF(OR(H26="",G26=""),"",(H26-G26)*10000) -> 27.699591
B28: Change Y/Y (bp) | H28: =IF(OR(H26="",C26=""),"",(H26-C26)*10000) -> 88.870708
B29: Seg. organic growth (ann.) | C29: =C11*(365/C$6)/C10 -> 0.069150461 | D29: =D11*(365/D$6)/D10 -> 0.077343845 | E29: =E11*(365/E$6)/E10 -> 0.065027285 | F29: =F11*(365/F$6)/F10 -> 0.066974625 | G29: =G11*(365/G$6)/G10 -> 0.061843952 | H29: =H11*(365/H$6)/H10 -> 0.084796693
B30: Change Q/Q (bp) | D30: =IF(OR(D29="",C29=""),"",(D29-C29)*10000) -> 81.933848 | F30: =IF(OR(F29="",D29=""),"",(F29-D29)*10000) -> -103.6922 | G30: =IF(OR(G29="",F29=""),"",(G29-F29)*10000) -> -51.30673 | H30: =IF(OR(H29="",G29=""),"",(H29-G29)*10000) -> 229.5274
B31: Change Y/Y (bp) | H31: =IF(OR(H29="",C29=""),"",(H29-C29)*10000) -> 156.46232
B33: Segment net revenues by line ($m) — 3Q26E = company line × segment share
B34: Seg. share: NII | C34: =C37/'Revenue summary'!C227 -> 0.2052459 | D34: =D37/'Revenue summary'!D227 -> 0.2112232 | E34: =E37/'Revenue summary'!E227 -> 0.20612766 | F34: =F37/'Revenue summary'!F227 -> 0.22868957 | G34: =G37/'Revenue summary'!G227 -> 0.23294608 | H34: =1-'Segment - Investor Services'!H40 -> 0.237
B35: Change Q/Q (bp) | D35: =IF(OR(D34="",C34=""),"",(D34-C34)*10000) -> 59.773014 | F35: =IF(OR(F34="",D34=""),"",(F34-D34)*10000) -> 174.66364 | G35: =IF(OR(G34="",F34=""),"",(G34-F34)*10000) -> 42.565154 | H35: =IF(OR(H34="",G34=""),"",(H34-G34)*10000) -> 40.539172
B36: Change Y/Y (bp) | H36: =IF(OR(H34="",C34=""),"",(H34-C34)*10000) -> 317.54098
B37: Net interest revenue | C37: 626 | D37: =Inputs!D161-Inputs!C161-C37 -> 670 | E37: =Inputs!C161+C37+D37 -> 2422 | F37: 719 | G37: 782 | H37: ='Revenue summary'!H227*H34 -> 826.07864
B38: % Y/Y | H38: =IF(OR(H37="",C37=""),"",IF(C37=0,"n/m",H37/C37-1)) -> 0.31961444
B39: % Q/Q | D39: =IF(OR(D37="",C37=""),"",IF(C37=0,"n/m",D37/C37-1)) -> 0.07028754 | F39: =IF(OR(F37="",D37=""),"",IF(D37=0,"n/m",F37/D37-1)) -> 0.073134328 | G39: =IF(OR(G37="",F37=""),"",IF(F37=0,"n/m",G37/F37-1)) -> 0.087621697 | H39: =IF(OR(H37="",G37=""),"",IF(G37=0,"n/m",H37/G37-1)) -> 0.056366543
B40: Total growth Y/Y | H40: =IF(C37=0,"n/m",H37/C37-1) -> 0.31961444
B41: M&A / scope contribution | H41: 0
B42: FX impact | H42: 0
B43: Organic growth | H43: =(1+H40)/((1+H41)*(1+H42))-1 -> 0.31961444
...

Sheet Income Statement
B1: The Charles Schwab Corporation (NYSE: SCHW)
B2: Income Statement
B3: $ millions, except per share
B4: Period | C4: 3Q25A | D4: 4Q25A | E4: FY25A | F4: 1Q26A | G4: 2Q26A | H4: 3Q26E
B5: Period end | C5: =DATE(2025,9,30) -> 45930 | D5: =DATE(2025,12,31) -> 46022 | E5: =DATE(2025,12,31) -> 46022 | F5: =DATE(2026,3,31) -> 46112 | G5: =DATE(2026,6,30) -> 46203 | H5: =DATE(2026,9,30) -> 46295
B6: Days in period | C6: =C5-DATE(2025,6,30) -> 92 | D6: =D5-C5 -> 92 | E6: =E5-DATE(2024,12,31) -> 365 | F6: =F5-D5 -> 90 | G6: =G5-F5 -> 91 | H6: =H5-G5 -> 92
B9: Net revenues
B10: Interest revenue | C10: ='Revenue summary'!C145 -> 3956 | D10: ='Revenue summary'!D145 -> 4004 | E10: ='Revenue summary'!E145 -> 15504 | F10: ='Revenue summary'!F145 -> 3962 | G10: ='Revenue summary'!G145 -> 4432 | H10: ='Revenue summary'!H145 -> 4847.8395
B11: Interest expense | C11: =-'Revenue summary'!C224 -> -906 | D11: =-'Revenue summary'!D224 -> -832 | E11: =-'Revenue summary'!E224 -> -3754 | F11: =-'Revenue summary'!F224 -> -818 | G11: =-'Revenue summary'!G224 -> -1075 | H11: =-'Revenue summary'!H224 -> -1362.2756
B12: Net interest revenue | C12: =C10+C11 -> 3050 | D12: =D10+D11 -> 3172 | E12: =E10+E11 -> 11750 | F12: =F10+F11 -> 3144 | G12: =G10+G11 -> 3357 | H12: =H10+H11 -> 3485.5639
B13: % Y/Y | H13: =IF(OR(H12="",C12=""),"",IF(C12=0,"n/m",H12/C12-1)) -> 0.14280783
B14: % Q/Q | D14: =IF(OR(D12="",C12=""),"",IF(C12=0,"n/m",D12/C12-1)) -> 0.04 | F14: =IF(OR(F12="",D12=""),"",IF(D12=0,"n/m",F12/D12-1)) -> -0.0088272383 | G14: =IF(OR(G12="",F12=""),"",IF(F12=0,"n/m",G12/F12-1)) -> 0.067748092 | H14: =IF(OR(H12="",G12=""),"",IF(G12=0,"n/m",H12/G12-1)) -> 0.03829725
B15: Asset mgmt & admin fees | C15: ='Revenue summary'!C344 -> 1673 | D15: ='Revenue summary'!D344 -> 1733 | E15: ='Revenue summary'!E344 -> 6506 | F15: ='Revenue summary'!F344 -> 1759 | G15: ='Revenue summary'!G344 -> 1825 | H15: ='Revenue summary'!H344 -> 1903.0701
B16: % Y/Y | H16: =IF(OR(H15="",C15=""),"",IF(C15=0,"n/m",H15/C15-1)) -> 0.13751948
B17: % Q/Q | D17: =IF(OR(D15="",C15=""),"",IF(C15=0,"n/m",D15/C15-1)) -> 0.035863718 | F17: =IF(OR(F15="",D15=""),"",IF(D15=0,"n/m",F15/D15-1)) -> 0.015002885 | G17: =IF(OR(G15="",F15=""),"",IF(F15=0,"n/m",G15/F15-1)) -> 0.037521319 | H17: =IF(OR(H15="",G15=""),"",IF(G15=0,"n/m",H15/G15-1)) -> 0.042778133
B18: Trading revenue | C18: ='Revenue summary'!C377 -> 995 | D18: ='Revenue summary'!D377 -> 1066 | E18: ='Revenue summary'!E377 -> 3921 | F18: ='Revenue summary'!F377 -> 1089 | G18: ='Revenue summary'!G377 -> 1215 | H18: ='Revenue summary'!H377 -> 1185.8307
B19: % Y/Y | H19: =IF(OR(H18="",C18=""),"",IF(C18=0,"n/m",H18/C18-1)) -> 0.19178961
B20: % Q/Q | D20: =IF(OR(D18="",C18=""),"",IF(C18=0,"n/m",D18/C18-1)) -> 0.071356784 | F20: =IF(OR(F18="",D18=""),"",IF(D18=0,"n/m",F18/D18-1)) -> 0.021575985 | G20: =IF(OR(G18="",F18=""),"",IF(F18=0,"n/m",G18/F18-1)) -> 0.11570248 | H20: =IF(OR(H18="",G18=""),"",IF(G18=0,"n/m",H18/G18-1)) -> -0.024007687
B21: Bank deposit account fees | C21: ='Revenue summary'!C396 -> 247 | D21: ='Revenue summary'!D396 -> 238 | E21: ='Revenue summary'!E396 -> 977 | F21: ='Revenue summary'!F396 -> 295 | G21: ='Revenue summary'!G396 -> 333 | H21: ='Revenue summary'!H396 -> 346.01439
B22: % Y/Y | H22: =IF(OR(H21="",C21=""),"",IF(C21=0,"n/m",H21/C21-1)) -> 0.40086796
B23: % Q/Q | D23: =IF(OR(D21="",C21=""),"",IF(C21=0,"n/m",D21/C21-1)) -> -0.036437247 | F23: =IF(OR(F21="",D21=""),"",IF(D21=0,"n/m",F21/D21-1)) -> 0.2394958 | G23: =IF(OR(G21="",F21=""),"",IF(F21=0,"n/m",G21/F21-1)) -> 0.12881356 | H23: =IF(OR(H21="",G21=""),"",IF(G21=0,"n/m",H21/G21-1)) -> 0.039082239
B24: Other | C24: ='Revenue summary'!C419 -> 170 | D24: ='Revenue summary'!D419 -> 127 | E24: ='Revenue summary'!E419 -> 767 | F24: ='Revenue summary'!F419 -> 195 | G24: ='Revenue summary'!G419 -> 342 | H24: ='Revenue summary'!H419 -> 230
B25: % Y/Y | H25: =IF(OR(H24="",C24=""),"",IF(C24=0,"n/m",H24/C24-1)) -> 0.35294118
B26: % Q/Q | D26: =IF(OR(D24="",C24=""),"",IF(C24=0,"n/m",D24/C24-1)) -> -0.25294118 | F26: =IF(OR(F24="",D24=""),"",IF(D24=0,"n/m",F24/D24-1)) -> 0.53543307 | G26: =IF(OR(G24="",F24=""),"",IF(F24=0,"n/m",G24/F24-1)) -> 0.75384615 | H26: =IF(OR(H24="",G24=""),"",IF(G24=0,"n/m",H24/G24-1)) -> -0.32748538
B27: Total net revenues | C27: =C12+C15+C18+C21+C24 -> 6135 | D27: =D12+D15+D18+D21+D24 -> 6336 | E27: =E12+E15+E18+E21+E24 -> 23921 | F27: =F12+F15+F18+F21+F24 -> 6482 | G27: =G12+G15+G18+G21+G24 -> 7072 | H27: =H12+H15+H18+H21+H24 -> 7150.479
B28: % Y/Y | H28: =IF(OR(H27="",C27=""),"",IF(C27=0,"n/m",H27/C27-1)) -> 0.16552225
B29: % Q/Q | D29: =IF(OR(D27="",C27=""),"",IF(C27=0,"n/m",D27/C27-1)) -> 0.032762836 | F29: =IF(OR(F27="",D27=""),"",IF(D27=0,"n/m",F27/D27-1)) -> 0.023042929 | G29: =IF(OR(G27="",F27=""),"",IF(F27=0,"n/m",G27/F27-1)) -> 0.09102129 | H29: =IF(OR(H27="",G27=""),"",IF(G27=0,"n/m",H27/G27-1)) -> 0.011097144
B31: Expenses excluding interest
B32: Compensation & benefits | C32: 1653 | D32: 1630 | E32: =Inputs!C134+C32+D32 -> 6491 | F32: 1812 | G32: 1790 | H32: 1815
B33: % of total net revenues | C33: =C32/C27 -> 0.26943765 | D33: =D32/D27 -> 0.2572601 | E33: =E32/E27 -> 0.27135153 | F33: =F32/F27 -> 0.27954335 | G33: =G32/G27 -> 0.25311086 | H33: =H32/H27 -> 0.25382915
B34: Professional services | C34: 293 | D34: 344 | E34: =Inputs!C135+C34+D34 -> 1197 | F34: 303 | G34: 307 | H34: 322
B35: % of total net revenues | C35: =C34/C27 -> 0.047758761 | D35: =D34/D27 -> 0.054292929 | E35: =E34/E27 -> 0.050039714 | F35: =F34/F27 -> 0.046744832 | G35: =G34/G27 -> 0.043410633 | H35: =H34/H27 -> 0.045031948
B36: Occupancy & equipment | C36: 280 | D36: 293 | E36: =Inputs!C136+C36+D36 -> 1117 | F36: 285 | G36: 301 | H36: 315
B37: % of total net revenues | C37: =C36/C27 -> 0.045639772 | D37: =D36/D27 -> 0.046243687 | E37: =E36/E27 -> 0.046695372 | F37: =F36/F27 -> 0.043967911 | G37: =G36/G27 -> 0.042562217 | H37: =H36/H27 -> 0.044052993
B38: Advertising & mkt development | C38: 101 | D38: 115 | E38: =Inputs!C137+C38+D38 -> 420 | F38: 101 | G38: 111 | H38: 125
B39: % of total net revenues | C39: =C38/C27 -> 0.016462918 | D39: =D38/D27 -> 0.018150253 | E39: =E38/E27 -> 0.017557794 | F39: =F38/F27 -> 0.015581611 | G39: =G38/G27 -> 0.015695701 | H39: =H38/H27 -> 0.017481346
B40: Communications | C40: 149 | D40: 142 | E40: =Inputs!C138+C40+D40 -> 620 | F40: 163 | G40: 198 | H40: 175
B41: % of total net revenues | C41: =C40/C27 -> 0.024286879 | D41: =D40/D27 -> 0.022411616 | E41: =E40/E27 -> 0.025918649 | F41: =F40/F27 -> 0.02514656 | G41: =G40/G27 -> 0.027997738 | H41: =H40/H27 -> 0.024473885
B42: Depreciation & amortization | C42: 212 | D42: 206 | E42: =Inputs!C139+C42+D42 -> 850 | F42: 201 | G42: 198 | H42: 225
B43: % of total net revenues | C43: =C42/C27 -> 0.034555827 | D43: =D42/D27 -> 0.032512626 | E43: =E42/E27 -> 0.035533632 | F43: =F42/F27 -> 0.031008948 | G43: =G42/G27 -> 0.027997738 | H43: =H42/H27 -> 0.031466423
...

Sheet Balance Sheet
B1: The Charles Schwab Corporation (NYSE: SCHW)
B2: Balance Sheet (period end)
B3: $ millions, except per share
B4: Period | C4: 3Q25A | D4: 4Q25A | E4: FY25A | F4: 1Q26A | G4: 2Q26A | H4: 3Q26E
B5: Period end | C5: =DATE(2025,9,30) -> 45930 | D5: =DATE(2025,12,31) -> 46022 | E5: =DATE(2025,12,31) -> 46022 | F5: =DATE(2026,3,31) -> 46112 | G5: =DATE(2026,6,30) -> 46203 | H5: =DATE(2026,9,30) -> 46295
B6: Days in period | C6: =C5-DATE(2025,6,30) -> 92 | D6: =D5-C5 -> 92 | E6: =E5-DATE(2024,12,31) -> 365 | F6: =F5-D5 -> 90 | G6: =G5-F5 -> 91 | H6: =H5-G5 -> 92
B9: Assets
B10: Cash & equivalents | C10: 30572 | D10: 46030 | E10: =D10 -> 46030 | F10: 44975 | G10: 40580 | H10: =H42-SUM(H11:H20) -> 30352.301 | I10: 3Q26E balance sheet ILLUSTRATIVE / low confidence: cash (H10) is the balancing residual. Broker/client receivables & payables (H12, H13, H26) are not linked to the margin/L/S drivers (Revenue summary H132, H215, H507), and the reported margin-balance series does not map uniquely to these BS lines (2Q26: 165.1bn vs G12+G13 = 144.9bn). Unresolved; NII/EPS use average-balance inputs, not the BS.
B11: Segregated cash & investments | C11: 47754 | D11: 42931 | E11: =D11 -> 42931 | F11: 39778 | G11: 33011 | H11: =G11 -> 33011 | I11: Average-vs-endpoint mismatch (illustrative BS, unresolved): at current inputs BS average cash (G10 + H10)/2 ≈ 35,466 vs NII driver Revenue summary H37 = 29,000; segregated H11 held flat at 33,011 vs Revenue summary H40 average 36,000. Definitions also differ historically. NII/EPS use the average-balance drivers, not these endpoints; BS H43 and CF H61/H62 are not forecast evidence.
B12: Receivables from brokers/dealers | C12: 4728 | D12: 7190 | E12: =D12 -> 7190 | F12: 11808 | G12: 22004 | H12: =G12 -> 22004
B13: Receivables from clients, net | C13: 93788 | D13: 104660 | E13: =D13 -> 104660 | F13: 106211 | G13: 122848 | H13: 124000
B14: AFS securities | C14: 62308 | D14: 62357 | E14: =D14 -> 62357 | F14: 61090 | G14: 62467 | H14: 62800
B15: HTM securities | C15: 136693 | D15: 133969 | E15: =D15 -> 133969 | F15: 131671 | G15: 130568 | H15: 129300
B16: Bank loans — net | C16: 53570 | D16: 57955 | E16: =D16 -> 57955 | F16: 60872 | G16: 66996 | H16: 71000
B17: Equipment & property, net | C17: 3136 | D17: 3091 | E17: =D17 -> 3091 | F17: 3065 | G17: 3659 | H17: =G17+'Cash Flow Statement'!H67-'Income Statement'!H42 -> 3594
B18: Goodwill | C18: 11951 | D18: 11951 | E18: =D18 -> 11951 | F18: 12298 | G18: 12290 | H18: =G18 -> 12290
B19: Acquired intangible assets — net | C19: 7360 | D19: 7233 | E19: =D19 -> 7233 | F19: 7413 | G19: 7283 | H19: =G19-'Income Statement'!H44 -> 7141
B20: Other assets | C20: 13395 | D20: 13628 | E20: =D20 -> 13628 | F20: 14138 | G20: 15560 | H20: =G20 -> 15560
B21: Total assets | C21: =SUM(C10:C20) -> 465255 | D21: =SUM(D10:D20) -> 490995 | E21: =SUM(E10:E20) -> 490995 | F21: =SUM(F10:F20) -> 493319 | G21: =SUM(G10:G20) -> 517266 | H21: =SUM(H10:H20) -> 511052.3
B22: % Q/Q | D22: =IF(OR(D21="",C21=""),"",IF(C21=0,"n/m",D21/C21-1)) -> 0.055324499 | F22: =IF(OR(F21="",D21=""),"",IF(D21=0,"n/m",F21/D21-1)) -> 0.0047332458 | G22: =IF(OR(G21="",F21=""),"",IF(F21=0,"n/m",G21/F21-1)) -> 0.048542627 | H22: =IF(OR(H21="",G21=""),"",IF(G21=0,"n/m",H21/G21-1)) -> -0.01201258
B24: Liabilities
B25: Bank deposits | C25: 239057 | D25: 255747 | E25: =D25 -> 255747 | F25: 253041 | G25: 249682 | H25: =2*'Revenue summary'!H152-G25 -> 242318
B26: Payables to brokers/dealers | C26: 22407 | D26: 25689 | E26: =D26 -> 25689 | F26: 28107 | G26: 43826 | H26: 42000
B27: Payables to clients | C27: 115397 | D27: 116341 | E27: =D27 -> 116341 | F27: 117986 | G27: 123968 | H27: 124000
B28: Accrued & other liabilities | C28: 11420 | D28: 12831 | E28: =D28 -> 12831 | F28: 11979 | G28: 12529 | H28: =G28 -> 12529
B29: Other ST borrowings | C29: 6541 | D29: 6913 | E29: =D29 -> 6913 | F29: 12486 | G29: 13945 | H29: 13000
B30: FHLB borrowings | C30: 850 | D30: 1850 | E30: =D30 -> 1850 | F30: 0 | G30: 500 | H30: 0
B31: Long-term debt | C31: 20199 | D31: 22199 | E31: =D31 -> 22199 | F31: 20486 | G31: 22669 | H31: =G31+'Cash Flow Statement'!H68 -> 25251
B32: Total liabilities | C32: =SUM(C25:C31) -> 415871 | D32: =SUM(D25:D31) -> 441570 | E32: =SUM(E25:E31) -> 441570 | F32: =SUM(F25:F31) -> 444085 | G32: =SUM(G25:G31) -> 467119 | H32: =SUM(H25:H31) -> 459098
B34: Stockholders' equity
B35: Preferred stock | C35: 6763 | D35: 6763 | E35: =D35 -> 6763 | F35: 6763 | G35: 6213 | H35: =G35 -> 6213
B36: Common stock | C36: 21 | D36: 21 | E36: =D36 -> 21 | F36: 21 | G36: 21 | H36: =G36 -> 21
B37: Additional paid-in capital | C37: 27910 | D37: 27996 | E37: =D37 -> 27996 | F37: 28047 | G37: 28179 | H37: =G37+'Cash Flow Statement'!H11 -> 28279
B38: Retained earnings | C38: 42170 | D38: 44065 | E38: =D38 -> 44065 | F38: 45912 | G38: 48044 | H38: =G38+'Income Statement'!H63-'Income Statement'!H69-'Share Count'!H43 -> 50251.301 | I38: 3Q26E deducts the full IS!H69 'Preferred stock dividends and other' (original $88m assumption, retained). The preserved IS B69 rationale includes ~$12m participating-securities allocation, which may be partly non-cash; no source split, so RE/cash could be over-deducted by up to ~$12m (EPS unaffected). See Cash Flow Statement!I53.
B39: Treasury stock, at cost | C39: -15682 | D39: -18437 | E39: =D39 -> -18437 | F39: -20752 | G39: -21735 | H39: =G39-'Share Count'!H29 -> -22235
B40: AOCI | C40: -11798 | D40: -10983 | E40: =D40 -> -10983 | F40: -10757 | G40: -10575 | H40: =G40 -> -10575
B41: Total stockholders' equity | C41: =SUM(C35:C40) -> 49384 | D41: =SUM(D35:D40) -> 49425 | E41: =SUM(E35:E40) -> 49425 | F41: =SUM(F35:F40) -> 49234 | G41: =SUM(G35:G40) -> 50147 | H41: =SUM(H35:H40) -> 51954.301
B42: Total liabilities & equity | C42: =C32+C41 -> 465255 | D42: =D32+D41 -> 490995 | E42: =E32+E41 -> 490995 | F42: =F32+F41 -> 493319 | G42: =G32+G41 -> 517266 | H42: =H32+H41 -> 511052.3
B43: Chk: assets − liabs − equity | C43: =ROUND(C21-C32-C41,3) -> 0 | D43: =ROUND(D21-D32-D41,3) -> 0 | E43: =ROUND(E21-E32-E41,3) -> 0 | F43: =ROUND(F21-F32-F41,3) -> 0 | G43: =ROUND(G21-G32-G41,3) -> 0 | H43: =ROUND(H21-H32-H41,3) -> 0 | I43: C:G = historical source tie. H (3Q26E) = construction identity: cash H10 is the balancing plug, so H43 cannot fail.
B45: Memo
...

Sheet Cash Flow Statement
B1: The Charles Schwab Corporation (NYSE: SCHW)
B2: Cash Flow Statement (quarterly derived from reported year-to-date)
B3: $ millions, except per share
B4: Period | C4: 3Q25A | D4: 4Q25A | E4: FY25A | F4: 1Q26A | G4: 2Q26A | H4: 3Q26E
B5: Period end | C5: =DATE(2025,9,30) -> 45930 | D5: =DATE(2025,12,31) -> 46022 | E5: =DATE(2025,12,31) -> 46022 | F5: =DATE(2026,3,31) -> 46112 | G5: =DATE(2026,6,30) -> 46203 | H5: =DATE(2026,9,30) -> 46295
B6: Days in period | C6: =C5-DATE(2025,6,30) -> 92 | D6: =D5-C5 -> 92 | E6: =E5-DATE(2024,12,31) -> 365 | F6: =F5-D5 -> 90 | G6: =G5-F5 -> 91 | H6: =H5-G5 -> 92
B9: Cash flows from operating activities (quarterly = YTD − prior YTD; 3Q26E from balance-sheet changes)
B10: Net income | C10: ='Income Statement'!C63 -> 2358 | D10: ='Income Statement'!D63 -> 2459 | E10: ='Income Statement'!E63 -> 8852 | F10: ='Income Statement'!F63 -> 2479 | G10: ='Income Statement'!G63 -> 2800 | H10: ='Income Statement'!H63 -> 2847.6723
B11: Share-based compensation | C11: =C73-C122 -> 61 | D11: =D73-D122 -> 58 | E11: =E73 -> 317 | F11: =F73 -> 138 | G11: =G73-G122 -> 92 | H11: 100
B12: Depreciation & amortization | C12: ='Income Statement'!C42 -> 212 | D12: ='Income Statement'!D42 -> 206 | E12: ='Income Statement'!E42 -> 850 | F12: ='Income Statement'!F42 -> 201 | G12: ='Income Statement'!G42 -> 198 | H12: ='Income Statement'!H42 -> 225
B13: Amort. of acquired intangibles | C13: ='Income Statement'!C44 -> 127 | D13: ='Income Statement'!D44 -> 127 | E13: ='Income Statement'!E44 -> 512 | F13: ='Income Statement'!F44 -> 132 | G13: ='Income Statement'!G44 -> 142 | H13: ='Income Statement'!H44 -> 142
B14: Deferred income taxes | C14: =C76-C125 -> 437 | D14: =D76-D125 -> -36 | E14: =E76 -> 361 | F14: =F76 -> -10 | G14: =G76-G125 -> -10 | H14: 0 | I14: 3Q26E 0 = not modeled (no source-supported forecast), not a forecast of nil.
B15: Premium amort. (AFS/HTM) | C15: =C77-C126 -> 173 | D15: =D77-D126 -> 171 | E15: =E77 -> 695 | F15: =F77 -> 174 | G15: =G77-G126 -> 147 | H15: 0 | I15: 3Q26E 0 = not modeled: premium amortization is implicitly inside the AFS/HTM balance changes (H29, H31) in investing; net cash unaffected. Historical averages not carried forward.
B16: Other non-cash items | C16: =C78-C127 -> 206 | D16: =D78-D127 -> 204 | E16: =E78 -> 729 | F16: =F78 -> 183 | G16: =G78-G127 -> 219 | H16: 0 | I16: 3Q26E 0 = not modeled (no source-supported forecast), not a forecast of nil.
B17: Δ segregated investments | C17: =C79-C128 -> -1268 | D17: =D79-D128 -> 4161 | E17: =E79 -> -4510 | F17: =F79 -> 7827 | G17: =G79-G128 -> 7084 | H17: =-(('Balance Sheet'!H11-'Balance Sheet'!G11)-('Balance Sheet'!H46-'Balance Sheet'!G46)) -> 0
B18: Δ receivables from brokers | C18: =C80-C129 -> -433 | D18: =D80-D129 -> -2462 | E18: =E80 -> -4750 | F18: =F80 -> -4618 | G18: =G80-G129 -> -10196 | H18: =-('Balance Sheet'!H12-'Balance Sheet'!G12) -> 0
B19: Δ receivables from clients | C19: =C81-C130 -> -11060 | D19: =D81-D130 -> -10881 | E19: =E81 -> -19390 | F19: =F81 -> -1571 | G19: =G81-G130 -> -16651 | H19: =-('Balance Sheet'!H13-'Balance Sheet'!G13) -> -1152
B20: Δ other assets | C20: =C82-C131 -> -373 | D20: =D82-D131 -> -260 | E20: =E82 -> -1298 | F20: =F82 -> -584 | G20: =G82-G131 -> -1515 | H20: =-('Balance Sheet'!H20-'Balance Sheet'!G20) -> 0
B21: Δ payables to brokers | C21: =C83-C132 -> 3824 | D21: =D83-D132 -> 3282 | E21: =E83 -> 12353 | F21: =F83 -> 2418 | G21: =G83-G132 -> 15719 | H21: =('Balance Sheet'!H26-'Balance Sheet'!G26) -> -1826
B22: Δ payables to clients | C22: =C84-C133 -> 6042 | D22: =D84-D133 -> 944 | E22: =E84 -> 14782 | F22: =F84 -> 1645 | G22: =G84-G133 -> 5982 | H22: =('Balance Sheet'!H27-'Balance Sheet'!G27) -> 32
B23: Δ accrued & other liabs | C23: =C85-C134 -> 232 | D23: =D85-D134 -> 1264 | E23: =E85 -> -192 | F23: =F85 -> -1072 | G23: =G85-G134 -> 289 | H23: =('Balance Sheet'!H28-'Balance Sheet'!G28) -> 0
B24: CFO | C24: =SUM(C10:C23) -> 538 | D24: =SUM(D10:D23) -> -763 | E24: =SUM(E10:E23) -> 9311 | F24: =SUM(F10:F23) -> 7342 | G24: =SUM(G10:G23) -> 4300 | H24: =SUM(H10:H23) -> 368.67231 | I24: 3Q26E CFO is a mechanical, ILLUSTRATIVE / low-confidence figure derived from the illustrative balance sheet (see Balance Sheet!I10).
B26: Cash flows from investing activities (quarterly = YTD − prior YTD; 3Q26E from balance-sheet changes)
B27: Purchases of AFS securities | C27: =C86-C135 -> -859 | D27: =D86-D135 -> -5750 | E27: =E86 -> -8496 | F27: =F86 -> -2199 | G27: =G86-G135 -> -8760 | H27: 0
B28: Sales of AFS securities | C28: =C87-C136 -> 1206 | D28: =D87-D136 -> 3576 | E28: =E87 -> 8987 | F28: =F87 -> 1541 | G28: =G87-G136 -> 4550 | H28: 0
B29: AFS principal payments | C29: =C88-C137 -> 5512 | D29: =D88-D137 -> 2553 | E29: =E88 -> 22958 | F29: =F88 -> 1838 | G29: =G88-G137 -> 2711 | H29: =-('Balance Sheet'!H14-'Balance Sheet'!G14) -> -333 | I29: 3Q26E = net AFS balance-change proxy (−ΔBalance Sheet H14), not gross principal payments; purchases/sales (H27:H28) not modeled and premium amortization netted in (I15). No gross flows invented; net cash unaffected.
B30: Purchases of HTM securities | C30: =C89-C138 -> -247 | D30: =D89-D138 -> -407 | E30: =E89 -> -1083 | F30: =F89 -> -635 | G30: =G89-G138 -> -1701 | H30: 0
B31: HTM principal payments | C31: =C90-C139 -> 3660 | D31: =D90-D139 -> 3555 | E31: =E90 -> 15262 | F31: =F90 -> 3319 | G31: =G90-G139 -> 3208 | H31: =-('Balance Sheet'!H15-'Balance Sheet'!G15) -> 1268 | I31: 3Q26E = net HTM balance-change proxy (−ΔBalance Sheet H15), not gross principal payments; purchases (H30) not modeled and premium amortization netted in (I15). No gross flows invented; net cash unaffected.
B32: Net change in bank loans | C32: =C91-C140 -> -3196 | D32: =D91-D140 -> -4381 | E32: =E91 -> -12807 | F32: =F91 -> -3021 | G32: =G91-G140 -> -6044 | H32: =-('Balance Sheet'!H16-'Balance Sheet'!G16) -> -4004
B33: Acquisition, net of cash | C33: =C92-C141 -> 0 | D33: =D92-D141 -> 0 | E33: =E92 -> 0 | F33: =F92 -> -577 | G33: =G92-G141 -> 0 | H33: 0
B34: Capex (equipment & facilities) | C34: =C93-C142 -> -145 | D34: =D93-D142 -> -158 | E34: =E93 -> -548 | F34: =F93 -> -140 | G34: =G93-G142 -> -185 | H34: =-H67 -> -160
B35: Purchases of FHLB stock | C35: =C94-C143 -> -272 | D35: =D94-D143 -> -434 | E35: =E94 -> -1023 | F35: =F94 -> 0 | G35: =G94-G143 -> -21 | H35: 0
B36: Sales of FHLB stock | C36: =C95-C144 -> 618 | D36: =D95-D144 -> 394 | E36: =E95 -> 1656 | F36: =F95 -> 80 | G36: =G95-G144 -> 3 | H36: 0
B37: Purchases of FRB stock | C37: =C96-C145 -> 0 | D37: =D96-D145 -> 0 | E37: =E96 -> -9 | F37: =F96 -> 0 | G37: =G96-G145 -> -2 | H37: 0
B38: Sales of FRB stock | C38: =C97-C146 -> 4 | D38: =D97-D146 -> 3 | E38: =E97 -> 11 | F38: =F97 -> 13 | G38: =G97-G146 -> 12 | H38: 0
B39: Other investing activities | C39: =C98-C147 -> -138 | D39: =D98-D147 -> -102 | E39: =E98 -> -370 | F39: =F98 -> -229 | G39: =G98-G147 -> -185 | H39: 0
B40: CFI | C40: =SUM(C27:C39) -> 6143 | D40: =SUM(D27:D39) -> -1151 | E40: =SUM(E27:E39) -> 24538 | F40: =SUM(F27:F39) -> -10 | G40: =SUM(G27:G39) -> -6414 | H40: =SUM(H27:H39) -> -3229
B42: Cash flows from financing activities (quarterly = YTD − prior YTD; 3Q26E from balance-sheet changes)
B43: Net change in bank deposits | C43: =C99-C148 -> 5999 | D43: =D99-D148 -> 16690 | E43: =E99 -> -3374 | F43: =F99 -> -2706 | G43: =G99-G148 -> -3359 | H43: =('Balance Sheet'!H25-'Balance Sheet'!G25) -> -7364
B44: Proceeds from FHLB borrowings | C44: =C100-C149 -> 8760 | D44: =D100-D149 -> 11600 | E44: =E100 -> 28360 | F44: =F100 -> 0 | G44: =G100-G149 -> 500 | H44: =MAX('Balance Sheet'!H30-'Balance Sheet'!G30,0) -> 0
...

Sheet Share Count
B1: The Charles Schwab Corporation (NYSE: SCHW)
B2: Share Count
B3: $ millions, except per share
B4: Period | C4: 3Q25A | D4: 4Q25A | E4: FY25A | F4: 1Q26A | G4: 2Q26A | H4: 3Q26E
B5: Period end | C5: =DATE(2025,9,30) -> 45930 | D5: =DATE(2025,12,31) -> 46022 | E5: =DATE(2025,12,31) -> 46022 | F5: =DATE(2026,3,31) -> 46112 | G5: =DATE(2026,6,30) -> 46203 | H5: =DATE(2026,9,30) -> 46295
B6: Days in period | C6: =C5-DATE(2025,6,30) -> 92 | D6: =D5-C5 -> 92 | E6: =E5-DATE(2024,12,31) -> 365 | F6: =F5-D5 -> 90 | G6: =G5-F5 -> 91 | H6: =H5-G5 -> 92
B9: Period-end shares (millions)
B10: Common shares issued | C10: 2074.189 | D10: 2074.189 | E10: =D10 -> 2074.189 | F10: 2074.189 | G10: 2074.189 | H10: =G10 -> 2074.189
B11: Treasury shares | C11: 287.497 | D11: 315.864 | E11: =D11 -> 315.864 | F11: 336.068 | G11: 346.07 | H11: =H10-H12 -> 349.98698
B12: Common shares outstanding, period end | C12: =C10-C11 -> 1786.692 | D12: =D10-D11 -> 1758.325 | E12: =E10-E11 -> 1758.325 | F12: =F10-F11 -> 1738.121 | G12: =G10-G11 -> 1728.119 | H12: =G12+H38-H35 -> 1724.202
B13: Q/Q change (m) | D13: =IF(OR(D12="",C12=""),"",D12-C12) -> -28.367 | F13: =IF(OR(F12="",D12=""),"",F12-D12) -> -20.204 | G13: =IF(OR(G12="",F12=""),"",G12-F12) -> -10.002 | H13: =IF(OR(H12="",G12=""),"",H12-G12) -> -3.9169811
B14: % Y/Y change | H14: =IF(OR(H12="",C12=""),"",IF(C12=0,"n/m",H12/C12-1)) -> -0.03497524
B16: Weighted-average shares (millions)
B17: Weighted-average basic shares | C17: 1806 | D17: 1772 | E17: 1804 | F17: 1746 | G17: 1735 | H17: =G12+H38*H39-H35*H39 -> 1726.1605
B18: Q/Q change (m) | D18: =IF(OR(D17="",C17=""),"",D17-C17) -> -34 | F18: =IF(OR(F17="",D17=""),"",F17-D17) -> -26 | G18: =IF(OR(G17="",F17=""),"",G17-F17) -> -11 | H18: =IF(OR(H17="",G17=""),"",H17-G17) -> -8.8394906
B19: % Y/Y change | H19: =IF(OR(H17="",C17=""),"",IF(C17=0,"n/m",H17/C17-1)) -> -0.044207913
B20: Dilutive securities (diluted − basic) | C20: =C23-C17 -> 5 | D20: =D23-D17 -> 5 | E20: =E23-E17 -> 5 | F20: =F23-F17 -> 6 | G20: =G23-G17 -> 4 | H20: 4.5
B21: % Y/Y change | H21: =IF(OR(H20="",C20=""),"",IF(C20=0,"n/m",H20/C20-1)) -> -0.1
B22: Q/Q change (abs) | D22: =IF(OR(D20="",C20=""),"",D20-C20) -> 0 | F22: =IF(OR(F20="",D20=""),"",F20-D20) -> 1 | G22: =IF(OR(G20="",F20=""),"",G20-F20) -> -2 | H22: =IF(OR(H20="",G20=""),"",H20-G20) -> 0.5
B23: Weighted-average diluted shares | C23: 1811 | D23: 1777 | E23: 1809 | F23: 1752 | G23: 1739 | H23: =H17+H20 -> 1730.6605
B24: % Y/Y | H24: =IF(OR(H23="",C23=""),"",IF(C23=0,"n/m",H23/C23-1)) -> -0.04436195
B25: % Q/Q | D25: =IF(OR(D23="",C23=""),"",IF(C23=0,"n/m",D23/C23-1)) -> -0.018774158 | F25: =IF(OR(F23="",D23=""),"",IF(D23=0,"n/m",F23/D23-1)) -> -0.014068655 | G25: =IF(OR(G23="",F23=""),"",IF(F23=0,"n/m",G23/F23-1)) -> -0.0074200913 | H25: =IF(OR(H23="",G23=""),"",IF(G23=0,"n/m",H23/G23-1)) -> -0.0047955667
B26: Q/Q change (m) | D26: =IF(OR(D23="",C23=""),"",D23-C23) -> -34 | F26: =IF(OR(F23="",D23=""),"",F23-D23) -> -25 | G26: =IF(OR(G23="",F23=""),"",G23-F23) -> -13 | H26: =IF(OR(H23="",G23=""),"",H23-G23) -> -8.3394906
B28: Buybacks, issuance and dividends
B29: Common share repurchases ($m, cash) | C29: =-'Cash Flow Statement'!C50 -> 2748 | D29: =-'Cash Flow Statement'!D50 -> 2765 | E29: =-'Cash Flow Statement'!E50 -> 7346 | F29: =-'Cash Flow Statement'!F50 -> 2378 | G29: =-'Cash Flow Statement'!G50 -> 999 | H29: 500
B30: % Y/Y change | H30: =IF(OR(H29="",C29=""),"",IF(C29=0,"n/m",H29/C29-1)) -> -0.81804949
B31: Q/Q change (abs) | D31: =IF(OR(D29="",C29=""),"",D29-C29) -> 17 | F31: =IF(OR(F29="",D29=""),"",F29-D29) -> -387 | G31: =IF(OR(G29="",F29=""),"",G29-F29) -> -1379 | H31: =IF(OR(H29="",G29=""),"",H29-G29) -> -499
B32: Average repurchase price ($) | G32: =G29/G35 -> 89.196429 | H32: 106 | I32: 3Q26E $106 = original judgmental input; no 3Q26 execution price in preserved sources (last close $96.70, 52-wk 83.96–114.53). At $96.70 EPS ≈ +$0.0002. Unresolved, retained.
B33: % Y/Y change | H33: =IF(OR(H32="",C32=""),"",IF(C32=0,"n/m",H32/C32-1))
B34: Q/Q change ($) | D34: =IF(OR(D32="",C32=""),"",D32-C32) | F34: =IF(OR(F32="",D32=""),"",F32-D32) | G34: =IF(OR(G32="",F32=""),"",G32-F32) | H34: =IF(OR(H32="",G32=""),"",H32-G32) -> 16.803571
B35: Shares repurchased (m) | G35: 11.2 | H35: =H29/H32 -> 4.7169811
B36: % Y/Y change | H36: =IF(OR(H35="",C35=""),"",IF(C35=0,"n/m",H35/C35-1))
B37: Q/Q change (abs) | D37: =IF(OR(D35="",C35=""),"",D35-C35) | F37: =IF(OR(F35="",D35=""),"",F35-D35) | G37: =IF(OR(G35="",F35=""),"",G35-F35) | H37: =IF(OR(H35="",G35=""),"",H35-G35) -> -6.4830189
B38: Shares issued under equity plans (m) | H38: 0.8 | I38: Convention: 0.8m equity-plan shares are reissued from treasury (H11 = H10 − H12), at 0.5 weight in average shares. No treasury-cost/APIC reclass (~$50m at ~$62.81 avg treasury cost) is booked in Balance Sheet H39, and no option-exercise cash is forecast (Cash Flow H54 = 0 by assumption, not observed). Total equity, cash and EPS unaffected; unresolved ancillary scope.
B39: Intra-quarter weighting factor | H39: 0.5
B40: DPS declared ($) | C40: 0.27 | D40: 0.27 | E40: 1.08 | F40: 0.32 | G40: 0.32 | H40: 0.32
B41: % Y/Y change | H41: =IF(OR(H40="",C40=""),"",IF(C40=0,"n/m",H40/C40-1)) -> 0.18518519
B42: Q/Q change ($) | D42: =IF(OR(D40="",C40=""),"",D40-C40) -> 0 | F42: =IF(OR(F40="",D40=""),"",F40-D40) -> 0.05 | G42: =IF(OR(G40="",F40=""),"",G40-F40) -> 0 | H42: =IF(OR(H40="",G40=""),"",H40-G40) -> 0
B43: Common dividends ($m) | C43: =C40*C17 -> 487.62 | D43: =D40*D17 -> 478.44 | E43: =E40*E17 -> 1948.32 | F43: =F40*F17 -> 558.72 | G43: =G40*G17 -> 555.2 | H43: =H40*H17 -> 552.37136 | I43: Convention: DPS × weighted-average basic shares (not record-date shares); historical RE rollforward leaves ~$6–9m/qtr residual, not plugged.
B44: Diluted shares behind 3Q26E EPS (m) | H44: =H23 -> 1730.6605

Sheet Guidance
B1: The Charles Schwab Corporation (NYSE: SCHW)
B2: Guidance (management scenarios) and record
B3: $ millions, except per share
B4: Period (navigation only) | C4: 3Q25A | D4: 4Q25A | E4: FY25A | F4: 1Q26A | G4: 2Q26A | H4: 3Q26E
B5: Period end | C5: =DATE(2025,9,30) -> 45930 | D5: =DATE(2025,12,31) -> 46022 | E5: =DATE(2025,12,31) -> 46022 | F5: =DATE(2026,3,31) -> 46112 | G5: =DATE(2026,6,30) -> 46203 | H5: =DATE(2026,9,30) -> 46295
B6: Days in period | C6: =C5-DATE(2025,6,30) -> 92 | D6: =D5-C5 -> 92 | E6: =E5-DATE(2024,12,31) -> 365 | F6: =F5-D5 -> 90 | G6: =G5-F5 -> 91 | H6: =H5-G5 -> 92
B9: Guidance given — B metric | C date | D period | E low | F high | G midpoint | H actual / latest | I beat/miss
B10: Metric | C10: Date | D10: Period | E10: Low | F10: High | G10: Midpoint | H10: Actual | I10: Beat / miss | J10: Source
B11: Total revenue growth | C11: 45856 | D11: FY25 | E11: 0.185 | F11: 0.195 | G11: =AVERAGE(E11,F11) -> 0.19 | H11: ='Income Statement'!E27/Inputs!C189-1 -> 0.22008569 | I11: =IF(H11>F11,"Beat (above high)",IF(H11>=E11,"In range","Miss")) -> Beat (above high) | J11: S12
B12: Adjusted diluted EPS | C12: 45856 | D12: FY25 | E12: 4.55 | F12: 4.65 | G12: =AVERAGE(E12,F12) -> 4.6 | H12: ='Income Statement'!E99 -> 4.8684356 | I12: =IF(H12>F12,"Beat (above high)",IF(H12>=E12,"In range","Miss")) -> Beat (above high) | J12: S12
B13: Total revenue growth | C13: 46043 | D13: FY26 | E13: 0.095 | F13: 0.105 | G13: =AVERAGE(E13,F13) -> 0.1 | H13: pending | I13: Pending (FY26 not reported) | J13: S13
B14: Net interest margin | C14: 46043 | D14: FY26 | E14: 0.0285 | F14: 0.0295 | G14: =AVERAGE(E14,F14) -> 0.029 | H14: pending | I14: Pending (FY26 not reported) | J14: S13
B15: Adjusted expense growth | C15: 46043 | D15: FY26 | E15: 0.055 | F15: 0.065 | G15: =AVERAGE(E15,F15) -> 0.06 | H15: pending | I15: Pending (FY26 not reported) | J15: S13
B16: Adjusted diluted EPS | C16: 46043 | D16: FY26 | E16: 5.7 | F16: 5.8 | G16: =AVERAGE(E16,F16) -> 5.75 | H16: pending | I16: Pending (FY26 not reported) | J16: S13
B17: Total revenue growth | C17: 46156 | D17: FY26 | E17: 0.14 | F17: 0.15 | G17: =AVERAGE(E17,F17) -> 0.145 | H17: pending | I17: Pending (FY26 not reported) | J17: S14
B18: Adjusted expense growth | C18: 46156 | D18: FY26 | E18: 0.085 | F18: 0.095 | G18: =AVERAGE(E18,F18) -> 0.09 | H18: pending | I18: Pending (FY26 not reported) | J18: S14
B19: Total revenue growth | C19: 46224 | D19: FY26 | E19: 0.175 | F19: 0.185 | G19: =AVERAGE(E19,F19) -> 0.18 | H19: pending | I19: Pending (FY26 not reported) | J19: S3
B20: Net interest margin | C20: 46224 | D20: FY26 | E20: 0.03 | F20: 0.031 | G20: =AVERAGE(E20,F20) -> 0.0305 | H20: pending | I20: Pending (FY26 not reported) | J20: S3
B21: Net interest margin (quarter average) | C21: 46224 | D21: 4Q26 | E21: 0.0325 | F21: 0.033 | G21: =AVERAGE(E21,F21) -> 0.03275 | H21: pending | I21: Pending (FY26 not reported) | J21: S3
B22: Adjusted expense growth | C22: 46224 | D22: FY26 | E22: 0.095 | F22: 0.105 | G22: =AVERAGE(E22,F22) -> 0.1 | H22: pending | I22: Pending (FY26 not reported) | J22: S3
B23: Daily average trades (millions, point) | C23: 46224 | D23: FY26 | E23: 10.6 | F23: 10.6 | G23: =AVERAGE(E23,F23) -> 10.6 | H23: pending | I23: Pending (FY26 not reported) | J23: S3
B24: Adjusted Tier 1 leverage ratio | C24: 46224 | D24: Ongoing | E24: 0.0675 | F24: 0.07 | G24: =AVERAGE(E24,F24) -> 0.06875 | H24: 0.068 | I24: =IF(H24>F24,"Beat (above high)",IF(H24>=E24,"In range","Miss")) -> In range | J24: S1
B25: Capital expenditures, % of revenue | C25: 46078 | D25: FY26 | E25: 0.03 | F25: 0.05 | G25: =AVERAGE(E25,F25) -> 0.04 | H25: pending | I25: Pending (FY26 not reported) | J25: S7
B26: Record: FY25 revenue and EPS beat the July-25 range; FY26 revenue guide raised twice (Jan → May → Jul) — conservative guider
B28: 3Q26 implied by the latest FY26 guidance midpoints (derived; Schwab gives no quarterly guidance)
B29: FY26 revenue at growth midpoint | H29: ='Income Statement'!E27*(1+G19) -> 28226.78
B30: Less: 1H26 reported revenue | H30: ='Income Statement'!F27+'Income Statement'!G27 -> 13554
B31: 2H26 implied revenue | H31: =H29-H30 -> 14672.78
B32: 3Q26 share of 2H26 revenue | H32: 0.492
B33: 3Q26 implied revenue | H33: =H31*H32 -> 7219.0078
B34: FY26 adj. expenses at midpoint | H34: =Inputs!C190*(1+G22) -> 13145
B35: 2H26 implied adjusted expenses | H35: =H34-Inputs!C191 -> 6761
B36: 3Q26 share of 2H26 adj. expenses | H36: 0.494
B37: 3Q26 adjusted expenses implied | H37: =H35*H36 -> 3339.934
B38: 3Q26 implied adj. pre-tax | H38: =H33-H37 -> 3879.0738
B39: 3Q26 implied adj. NI to common | H39: =H38*(1-('Income Statement'!H59-'Income Statement'!H88)/'Income Statement'!H110)-'Income Statement'!H69 -> 2901.8169 | I39: Tax at model adjusted-basis ETR (GAAP tax + tax effect of adjustments) / adjusted pre-tax, not GAAP ETR (IS!H60).
B40: 3Q26 implied adj. EPS | H40: =H39/'Income Statement'!H76 -> 1.6767106
B41: Model 3Q26E NIM (memo) | H41: ='Revenue summary'!H237 -> 0.030311846

Sheet Inputs
B1: The Charles Schwab Corporation (NYSE: SCHW)
B2: Inputs — CapIQ snapshot, memo actuals and prior calibration
B3: $ millions, except per share
B4: Period (navigation only) | C4: 3Q25A | D4: 4Q25A | E4: FY25A | F4: 1Q26A | G4: 2Q26A | H4: 3Q26E
B5: Period end | C5: =DATE(2025,9,30) -> 45930 | D5: =DATE(2025,12,31) -> 46022 | E5: =DATE(2025,12,31) -> 46022 | F5: =DATE(2026,3,31) -> 46112 | G5: =DATE(2026,6,30) -> 46203 | H5: =DATE(2026,9,30) -> 46295
B6: Days in period | C6: =C5-DATE(2025,6,30) -> 92 | D6: =D5-C5 -> 92 | E6: =E5-DATE(2024,12,31) -> 365 | F6: =F5-D5 -> 90 | G6: =G5-F5 -> 91 | H6: =H5-G5 -> 92
B9: A. CapIQ summary row (SCHW_consensus.json → summary_row), complete and unmodified; blanks preserved
B10: Field | value in column C
B11: ticker | C11: SCHW
B12: company_name | C12: The Charles Schwab Corporation
B13: exchange_ticker | C13: NYSE:SCHW
B14: capiq_company_id | C14: 34093
B15: sp500_member | C15: Y
B16: market_cap_usd_m
B17: fiscal_quarter | C17: FQ3 2026 - Sep 2026
B18: quarter_end_date | C18: 46295
B19: expected_report_date | C19: 46310
B20: fiscal_year_end | C20: Dec-31
B21: analysts_covering | C21: 23
B22: eps_normalized_mean | C22: 1.66
B23: eps_normalized_median | C23: 1.67
B24: eps_normalized_high | C24: 1.73
B25: eps_normalized_low | C25: 1.59
B26: eps_normalized_std_dev | C26: 0.03
B27: eps_normalized_n_est | C27: 19
B28: eps_normalized_guidance
B29: eps_normalized_guidance_low
B30: eps_normalized_guidance_high
B31: eps_gaap_mean | C31: 1.61
B32: eps_gaap_median | C32: 1.62
B33: eps_gaap_high | C33: 1.67
B34: eps_gaap_low | C34: 1.56
B35: eps_gaap_std_dev | C35: 0.03
B36: eps_gaap_n_est | C36: 10
B37: eps_gaap_guidance
B38: revenue_m_mean | C38: 7199.92
B39: revenue_m_median | C39: 7218
B40: revenue_m_high | C40: 7278
B41: revenue_m_low | C41: 7060.92
B42: revenue_m_std_dev | C42: 60.88
...

Sheet Sources
B1: The Charles Schwab Corporation (NYSE: SCHW)
B2: Sources
B3: $ millions, except per share
B4: Period (navigation only) | C4: 3Q25A | D4: 4Q25A | E4: FY25A | F4: 1Q26A | G4: 2Q26A | H4: 3Q26E
B5: Period end | C5: =DATE(2025,9,30) -> 45930 | D5: =DATE(2025,12,31) -> 46022 | E5: =DATE(2025,12,31) -> 46022 | F5: =DATE(2026,3,31) -> 46112 | G5: =DATE(2026,6,30) -> 46203 | H5: =DATE(2026,9,30) -> 46295
