Workbook

Sheet Cover
C1: Company Model — built by Shortcut
B2: State Street Corporation (NYSE: STT)
B3: Company Model — built by Shortcut
B4: $ millions, except per share
B5: Fiscal period | C5: 1Q25A | D5: 2Q25A | E5: 3Q25A | F5: 4Q25A | G5: FY25A | H5: 1Q26A | I5: 2Q26A | J5: 3Q26E
B6: Period end | C6: =DATE(2025,3,31) -> 45747 | D6: =DATE(2025,6,30) -> 45838 | E6: =DATE(2025,9,30) -> 45930 | F6: =DATE(2025,12,31) -> 46022 | G6: =DATE(2025,12,31) -> 46022 | H6: =DATE(2026,3,31) -> 46112 | I6: =DATE(2026,6,30) -> 46203 | J6: =DATE(2026,9,30) -> 46295
B7: Days in period | C7: =C6-DATE(2024,12,31) -> 90 | D7: =D6-C6 -> 91 | E7: =E6-D6 -> 92 | F7: =F6-E6 -> 92 | G7: =G6-DATE(2024,12,31) -> 365 | H7: =H6-F6 -> 90 | I7: =I6-H6 -> 91 | J7: =J6-I6 -> 92
B8: Period band above is navigation only; the tables below use their own column headers (columns are not fiscal periods).
B9: Company information
B10: Company | C10: State Street Corporation
B11: Ticker | C11: STT
B12: Exchange | C12: NYSE (NYSE:STT)
B13: Fiscal year end | C13: Calendar year (ends 31 December)
B14: Reporting currency | C14: USD
B15: Forecast period | C15: 3Q26E = FQ3 2026 (quarter ended 30-Sep-2026; calendar quarter, label not shorthand)
B16: EPS basis | C16: Diluted EPS excluding notable items (= CapIQ normalized diluted EPS), USD per common share
B17: Information cutoff | C17: 2026-10-11 22:24 UTC
B18: Expected report date | C18: 2026-10-14 (confirmed by State Street, 23-Sep-2026; ~7:30am ET)
B19: Author | C19: Shortcut
B21: Headline: 3Q26E vs consensus vs guidance ($m, except per share)
C22: Shortcut est. | D22: Consensus | E22: Variance | F22: Variance % | G22: Guidance mid | H22: Est. vs guid. | I22: Cons. #est.
B23: Total revenue | C23: ='Income Statement'!J27 -> 4071.7303 | D23: =Inputs!C53 -> 4041.38 | E23: =C23-D23 -> 30.350283 | F23: =C23/D23-1 -> 0.007509881 | G23: =Guidance!J45 -> 4019.8675 | H23: =C23-G23 -> 51.862783 | I23: =Inputs!C58 -> 8
B24: Net income to common, ex-notables | C24: ='Income Statement'!J113 -> 1031.3059 | D24: =Inputs!C66 -> 1013.18 | E24: n.a. | F24: n.a. | G24: =Guidance!J52 -> 991.309 | H24: =C24-G24 -> 39.996899 | I24: n.d.
B25: Diluted EPS ex-notables (normalized) | C25: ='Income Statement'!J115 -> 3.7065751 | D25: =Inputs!C37 -> 3.68 | E25: =C25-D25 -> 0.02657513 | F25: =C25/D25-1 -> 0.0072215027 | G25: =Guidance!J53 -> 3.5628239 | H25: =C25-G25 -> 0.14375125 | I25: =Inputs!C42 -> 13
B26: Diluted EPS (GAAP) | C26: ='Income Statement'!J91 -> 3.7065751 | D26: =Inputs!C46 -> 3.65 | E26: =C26-D26 -> 0.05657513 | F26: =C26/D26-1 -> 0.015500036 | G26: n.a. | H26: n.a. | I26: =Inputs!C51 -> 10
B27: P(beat consensus EPS) | C27: =Inputs!C118 -> 0.7
B28: Confidence | C28: =Inputs!C119 -> medium
B29: Overall model check (3Q26E checks are identities) | C29: =IF((SUMIF('Revenue summary'!C67:J67,">0")-SUMIF('Revenue summary'!C67:J67,"<0")+IF(COUNTA('Revenue summary'!C67:J67)=COUNT('Revenue summary'!C67:J67),0,NA()))+(SUMIF('Revenue summary'!C155:J155,">0")-SUMIF('Revenue summary'!C155:J155,"<0")+IF(COUNTA('Revenue summary'!C155:J155)=COUNT('Revenue summary'!C155:J155),0,NA()))+(SUMIF('Segment - Investment Servicing'!C41:J41,">0")-SUMIF('Segment - Investment Servicing'!C41:J41,"<0")+IF(COUNTA('Segment - Investment Servicing'!C41:J41)=COUNT('Segment - Investment Servicing'!C41:J41),0,NA()))+(SUMIF('Segment - Investment Servicing'!C56:J56,">0")-SUMIF('Segment - Investment Servicing'!C56:J56,"<0")+IF(COUNTA('Segment - Investment Servicing'!C56:J56)=COUNT('Segment - Investment Servicing'!C56:J56),0,NA()))+(SUMIF('Segment - Investment Servicing'!C267:J267,">0")-SUMIF('Segment - Investment Servicing'!C267:J267,"<0")+IF(COUNTA('Segment - Investment Servicing'!C267:J267)=COUNT('Segment - Investment Servicing'!C267:J267),0,NA()))+(SUMIF('Segment - Investment Management'!C47:I47,">0")-SUMIF('Segment - Investment Management'!C47:I47,"<0")+IF(COUNTA('Segment - Investment Management'!C47:I47)=COUNT('Segment - Investment Management'!C47:I47),0,NA()))+(SUMIF('Segment - Investment Management'!C68:J68,">0")-SUMIF('Segment - Investment Management'!C68:J68,"<0")+IF(COUNTA('Segment - Investment Management'!C68:J68)=COUNT('Segment - Investment Management'!C68:J68),0,NA()))+(SUMIF('Segment - Investment Management'!C80:J80,">0")-SUMIF('Segment - Investment Management'!C80:J80,"<0")+IF(COUNTA('Segment - Investment Management'!C80:J80)=COUNT('Segment - Investment Management'!C80:J80),0,NA()))+(SUMIF('Segment - Investment Management'!C95:J95,">0")-SUMIF('Segment - Investment Management'!C95:J95,"<0")+IF(COUNTA('Segment - Investment Management'!C95:J95)=COUNT('Segment - Investment Management'!C95:J95),0,NA()))+(SUMIF('Income Statement'!C25:J25,">0")-SUMIF('Income Statement'!C25:J25,"<0")+IF(COUNTA('Income Statement'!C25:J25)=COUNT('Income Statement'!C25:J25),0,NA()))+(SUMIF('Income Statement'!C63:J63,">0")-SUMIF('Income Statement'!C63:J63,"<0")+IF(COUNTA('Income Statement'!C63:J63)=COUNT('Income Statement'!C63:J63),0,NA()))+(SUMIF('Income Statement'!C93:J93,">0")-SUMIF('Income Statement'!C93:J93,"<0")+IF(COUNTA('Income Statement'!C93:J93)=COUNT('Income Statement'!C93:J93),0,NA()))+(SUMIF('Income Statement'!C127:I127,">0")-SUMIF('Income Statement'!C127:I127,"<0")+IF(COUNTA('Income Statement'!C127:I127)=COUNT('Income Statement'!C127:I127),0,NA()))+(SUMIF('Balance Sheet'!C53:J53,">0")-SUMIF('Balance Sheet'!C53:J53,"<0")+IF(COUNTA('Balance Sheet'!C53:J53)=COUNT('Balance Sheet'!C53:J53),0,NA()))+(SUMIF('Cash Flow Statement'!C55:J55,">0")-SUMIF('Cash Flow Statement'!C55:J55,"<0")+IF(COUNTA('Cash Flow Statement'!C55:J55)=COUNT('Cash Flow Statement'!C55:J55),0,NA()))+(SUMIF('Cash Flow Statement'!C56:J56,">0")-SUMIF('Cash Flow Statement'!C56:J56,"<0")+IF(COUNTA('Cash Flow Statement'!C56:J56)=COUNT('Cash Flow Statement'!C56:J56),0,NA()))+(SUMIF('Cash Flow Statement'!C57:J57,">0")-SUMIF('Cash Flow Statement'!C57:J57,"<0")+IF(COUNTA('Cash Flow Statement'!C57:J57)=COUNT('Cash Flow Statement'!C57:J57),0,NA()))+(SUMIF('Cash Flow Statement'!C104:I104,">0")-SUMIF('Cash Flow Statement'!C104:I104,"<0")+IF(COUNTA('Cash Flow Statement'!C104:I104)=COUNT('Cash Flow Statement'!C104:I104),0,NA()))+(SUMIF('Cash Flow Statement'!C105:I105,">0")-SUMIF('Cash Flow Statement'!C105:I105,"<0")+IF(COUNTA('Cash Flow Statement'!C105:I105)=COUNT('Cash Flow Statement'!C105:I105),0,NA()))+(SUMIF('Cash Flow Statement'!C106:I106,">0")-SUMIF('Cash Flow Statement'!C106:I106,"<0")+IF(COUNTA('Cash Flow Statement'!C106:I106)=COUNT('Cash Flow Statement'!C106:I106),0,NA()))+(SUMIF(Geo!G13:G13,">0")-SUMIF(Geo!G13:G13,"<0")+IF(COUNTA(Geo!G13:G13)=COUNT(Geo!G13:G13),0,NA()))+(SUMIF(Geo!G19:G19,">0")-SUMIF(Geo!G19:G19,"<0")+IF(COUNTA(Geo!G19:G19)=COUNT(Geo!G19:G19),0,NA()))+(SUMIF(Geo!C35:J35,">0")-SUMIF(Geo!C35:J35,"<0")+IF(COUNTA(Geo!C35:J35)=COUNT(Geo!C35:J35),0,NA()))+(SUMIF(Geo!C51:J51,">0")-SUMIF(Geo!C51:J51,"<0")+IF(COUNTA(Geo!C51:J51)=COUNT(Geo!C51:J51),0,NA()))+(SUMIF(Geo!C63:I63,">0")-SUMIF(Geo!C63:I63,"<0")+IF(COUNTA(Geo!C63:I63)=COUNT(Geo!C63:I63),0,NA()))+ABS(C30)<0.001,"PASS","FAIL") -> PASS
B30: Check: Cover links to statements (link identity; should be 0) | C30: =(C23-'Income Statement'!J27)+(C24-'Income Statement'!J113)+(C25-'Income Statement'!J115)+(C26-'Income Statement'!J91) -> 0
B31: Consensus: S&P Capital IQ snapshot 11-Oct-2026 (frozen scoring baseline; 13 normalized EPS estimates, 8 revenue). Newer/other consensus observations are recorded on Sources.
B33: Key 3Q26E drivers
B34: Average AUC/A ($bn) | C34: ='Segment - Investment Servicing'!J24 -> 58247.29
B35: Servicing fees ($m) | C35: ='Segment - Investment Servicing'!J79 -> 1512.1954
B36: Average AUM ($bn) | C36: ='Segment - Investment Management'!J48 -> 6329.973
B37: Management fees ($m) | C37: ='Segment - Investment Management'!J101 -> 813.70502
B38: FX trading + securities finance ($m) | C38: ='Income Statement'!J12+'Income Statement'!J13 -> 591.70904
B39: Net interest income ($m) | C39: ='Income Statement'!J22 -> 857.77397
B40: Net interest margin, FTE (bp) | C40: ='Segment - Investment Servicing'!J247 -> 110
B41: Total expenses ($m) | C41: ='Income Statement'!J52 -> 2665.692
B42: Diluted shares (m) | C42: ='Share Count'!J34 -> 278.23688
...

Sheet Revenue summary
B2: State Street Corporation (NYSE: STT)
B3: Revenue summary
B4: $ millions, except per share
B5: Fiscal period | C5: 1Q25A | D5: 2Q25A | E5: 3Q25A | F5: 4Q25A | G5: FY25A | H5: 1Q26A | I5: 2Q26A | J5: 3Q26E
B6: Period end | C6: =DATE(2025,3,31) -> 45747 | D6: =DATE(2025,6,30) -> 45838 | E6: =DATE(2025,9,30) -> 45930 | F6: =DATE(2025,12,31) -> 46022 | G6: =DATE(2025,12,31) -> 46022 | H6: =DATE(2026,3,31) -> 46112 | I6: =DATE(2026,6,30) -> 46203 | J6: =DATE(2026,9,30) -> 46295
B7: Days in period | C7: =C6-DATE(2024,12,31) -> 90 | D7: =D6-C6 -> 91 | E7: =E6-D6 -> 92 | F7: =F6-E6 -> 92 | G7: =G6-DATE(2024,12,31) -> 365 | H7: =H6-F6 -> 90 | I7: =I6-H6 -> 91 | J7: =J6-I6 -> 92
B9: Consolidated revenue growth and FX decomposition
B10: Total revenue | C10: ='Income Statement'!C27 -> 3284 | D10: ='Income Statement'!D27 -> 3448 | E10: ='Income Statement'!E27 -> 3545 | F10: ='Income Statement'!F27 -> 3667 | G10: ='Income Statement'!G27 -> 13944 | H10: ='Income Statement'!H27 -> 3796 | I10: ='Income Statement'!I27 -> 4048 | J10: ='Income Statement'!J27 -> 4071.7303
B11: Prior-year total revenue (memo) | C11: 3138 | D11: 3191 | E11: 3259 | F11: 3412 | G11: =SUM(C11:F11) -> 13000 | H11: =C10 -> 3284 | I11: =D10 -> 3448 | J11: =E10 -> 3545
B12: % Y/Y | C12: =C10/C11-1 -> 0.04652645 | D12: =D10/D11-1 -> 0.080539016 | E12: =E10/E11-1 -> 0.087756981 | F12: =F10/F11-1 -> 0.074736225 | G12: =G10/G11-1 -> 0.072615385 | H12: =H10/H11-1 -> 0.15590743 | I12: =I10/I11-1 -> 0.17401392 | J12: =J10/J11-1 -> 0.148584
B13: % Q/Q | D13: =D10/C10-1 -> 0.049939099 | E13: =E10/D10-1 -> 0.028132251 | F13: =F10/E10-1 -> 0.034414669 | H13: =H10/F10-1 -> 0.03517862 | I13: =I10/H10-1 -> 0.066385669 | J13: =J10/I10-1 -> 0.005862224
B14: FX translation impact ($m) | C14: -26 | D14: 33 | E14: 30 | F14: 45 | G14: =SUM(C14:F14) -> 82 | H14: 63 | I14: 14 | J14: n.f.
B15: FX impact (% of prior-year) | C15: =C14/C11 -> -0.0082855322 | D15: =D14/D11 -> 0.010341586 | E15: =E14/E11 -> 0.0092052777 | F15: =F14/F11 -> 0.013188746 | G15: =G14/G11 -> 0.0063076923 | H15: =H14/H11 -> 0.019183922 | I15: =I14/I11 -> 0.0040603248 | J15: n.a.
B16: M&A / scope impact (%) | C16: n.d. | D16: n.d. | E16: n.d. | F16: n.d. | G16: n.d. | H16: n.d. | I16: n.d. | J16: n.d.
B17: Ex-FX growth (approximation) | C17: =(1+C12)/(1+C15)-1 -> 0.055269923 | D17: =(1+D12)/(1+D15)-1 -> 0.069478908 | E17: =(1+E12)/(1+E15)-1 -> 0.077835208 | F17: =(1+F12)/(1+F15)-1 -> 0.060746312 | G17: =(1+G12)/(1+G15)-1 -> 0.065892065 | H17: =(1+H12)/(1+H15)-1 -> 0.13414999 | I17: =(1+I12)/(1+I15)-1 -> 0.16926632 | J17: n.a.
B18: Organic growth = (1+Y/Y)/((1+M&A)*(1+FX))-1 | C18: n.a. | D18: n.a. | E18: n.a. | F18: n.a. | G18: n.a. | H18: n.a. | I18: n.a. | J18: n.a.
B19: Geography: revenue is reported U.S. vs non-U.S. annually only (FY25 non-U.S. ~43%); quarterly split not disclosed - see Geo tab.
B21: Revenue by reported line of business
B22: Investment Servicing | C22: ='Segment - Investment Servicing'!C278 -> 2688 | D22: ='Segment - Investment Servicing'!D278 -> 2844 | E22: ='Segment - Investment Servicing'!E278 -> 2861 | F22: ='Segment - Investment Servicing'!F278 -> 2938 | G22: ='Segment - Investment Servicing'!G278 -> 11331 | H22: ='Segment - Investment Servicing'!H278 -> 3055 | I22: ='Segment - Investment Servicing'!I278 -> 3242 | J22: ='Segment - Investment Servicing'!J278 -> 3232.0253
B23: Prior-year segment revenue (memo) | C23: 2587 | D23: 2624 | E23: 2662 | F23: 2784 | G23: =SUM(C23:F23) -> 10657 | H23: =C22 -> 2688 | I23: =D22 -> 2844 | J23: =E22 -> 2861
B24: % Y/Y | C24: =C22/C23-1 -> 0.039041361 | D24: =D22/D23-1 -> 0.083841463 | E24: =E22/E23-1 -> 0.074755823 | F24: =F22/F23-1 -> 0.055316092 | G24: =G22/G23-1 -> 0.063244816 | H24: =H22/H23-1 -> 0.13653274 | I24: =I22/I23-1 -> 0.13994374 | J24: =J22/J23-1 -> 0.12968377
B25: % Q/Q | D25: =D22/C22-1 -> 0.058035714 | E25: =E22/D22-1 -> 0.0059774965 | F25: =F22/E22-1 -> 0.026913667 | H25: =H22/F22-1 -> 0.039823009 | I25: =I22/H22-1 -> 0.061211129 | J25: =J22/I22-1 -> -0.0030767241
B26: % of total revenue | C26: =C22/C10 -> 0.81851401 | D26: =D22/D10 -> 0.82482599 | E26: =E22/E10 -> 0.80705219 | F26: =F22/F10 -> 0.80119989 | G26: =G22/G10 -> 0.81260757 | H26: =H22/H10 -> 0.80479452 | I26: =I22/I10 -> 0.80088933 | J26: =J22/J10 -> 0.79377194
B27: FX translation impact (%) | C27: n.d. | D27: n.d. | E27: n.d. | F27: n.d. | G27: n.d. | H27: n.d. | I27: n.d. | J27: n.d.
B28: M&A / scope impact (%) | C28: n.d. | D28: n.d. | E28: n.d. | F28: n.d. | G28: n.d. | H28: n.d. | I28: n.d. | J28: n.d.
B29: Ex-FX growth (approximation) | C29: n.a. | D29: n.a. | E29: n.a. | F29: n.a. | G29: n.a. | H29: n.a. | I29: n.a. | J29: n.a.
B30: Organic growth = (1+Y/Y)/((1+M&A)*(1+FX))-1 | C30: n.a. | D30: n.a. | E30: n.a. | F30: n.a. | G30: n.a. | H30: n.a. | I30: n.a. | J30: n.a.
B31: Investment Management | C31: ='Segment - Investment Management'!C152 -> 596 | D31: ='Segment - Investment Management'!D152 -> 625 | E31: ='Segment - Investment Management'!E152 -> 684 | F31: ='Segment - Investment Management'!F152 -> 729 | G31: ='Segment - Investment Management'!G152 -> 2634 | H31: ='Segment - Investment Management'!H152 -> 741 | I31: ='Segment - Investment Management'!I152 -> 806 | J31: ='Segment - Investment Management'!J152 -> 839.70502
B32: Prior-year segment revenue (memo) | C32: 551 | D32: 567 | E32: 597 | F32: 628 | G32: =SUM(C32:F32) -> 2343 | H32: =C31 -> 596 | I32: =D31 -> 625 | J32: =E31 -> 684
B33: % Y/Y | C33: =C31/C32-1 -> 0.081669691 | D33: =D31/D32-1 -> 0.10229277 | E33: =E31/E32-1 -> 0.14572864 | F33: =F31/F32-1 -> 0.16082803 | G33: =G31/G32-1 -> 0.12419974 | H33: =H31/H32-1 -> 0.24328859 | I33: =I31/I32-1 -> 0.2896 | J33: =J31/J32-1 -> 0.22763892
B34: % Q/Q | D34: =D31/C31-1 -> 0.048657718 | E34: =E31/D31-1 -> 0.0944 | F34: =F31/E31-1 -> 0.065789474 | H34: =H31/F31-1 -> 0.016460905 | I34: =I31/H31-1 -> 0.087719298 | J34: =J31/I31-1 -> 0.041817646
B35: % of total revenue | C35: =C31/C10 -> 0.18148599 | D35: =D31/D10 -> 0.1812645 | E35: =E31/E10 -> 0.19294781 | F35: =F31/F10 -> 0.19880011 | G35: =G31/G10 -> 0.18889845 | H35: =H31/H10 -> 0.19520548 | I35: =I31/I10 -> 0.19911067 | J35: =J31/J10 -> 0.20622806
B36: FX translation impact (%) | C36: n.d. | D36: n.d. | E36: n.d. | F36: n.d. | G36: n.d. | H36: n.d. | I36: n.d. | J36: n.d.
B37: M&A / scope impact (%) | C37: n.d. | D37: n.d. | E37: n.d. | F37: n.d. | G37: n.d. | H37: n.d. | I37: n.d. | J37: n.d.
B38: Ex-FX growth (approximation) | C38: n.a. | D38: n.a. | E38: n.a. | F38: n.a. | G38: n.a. | H38: n.a. | I38: n.a. | J38: n.a.
B39: Organic growth = (1+Y/Y)/((1+M&A)*(1+FX))-1 | C39: n.a. | D39: n.a. | E39: n.a. | F39: n.a. | G39: n.a. | H39: n.a. | I39: n.a. | J39: n.a.
B40: Other (not allocated to a line of business)
B41: Foreign exchange trading services - Other | C41: =-'Income Statement'!C95 -> 0 | D41: =-'Income Statement'!D95 -> 3 | E41: =-'Income Statement'!E95 -> 0 | F41: =-'Income Statement'!F95 -> 0 | G41: =-'Income Statement'!G95 -> 3 | H41: =-'Income Statement'!H95 -> 0 | I41: =-'Income Statement'!I95 -> 0 | J41: =-'Income Statement'!J95 -> 0
B42: Q/Q chg | D42: =D41-C41 -> 3 | E42: =E41-D41 -> -3 | F42: =F41-E41 -> 0 | H42: =H41-F41 -> 0 | I42: =I41-H41 -> 0 | J42: =J41-I41 -> 0
B43: Total growth Y/Y | C43: n.m. | D43: n.m. | E43: n.m. | F43: n.m. | G43: n.m. | H43: n.m. | I43: n.m. | J43: n.m.
...

Sheet Segment - Investment Servicing
B2: State Street Corporation (NYSE: STT)
B3: Segment - Investment Servicing
B4: $ millions, except per share
B5: Fiscal period | C5: 1Q25A | D5: 2Q25A | E5: 3Q25A | F5: 4Q25A | G5: FY25A | H5: 1Q26A | I5: 2Q26A | J5: 3Q26E
B6: Period end | C6: =DATE(2025,3,31) -> 45747 | D6: =DATE(2025,6,30) -> 45838 | E6: =DATE(2025,9,30) -> 45930 | F6: =DATE(2025,12,31) -> 46022 | G6: =DATE(2025,12,31) -> 46022 | H6: =DATE(2026,3,31) -> 46112 | I6: =DATE(2026,6,30) -> 46203 | J6: =DATE(2026,9,30) -> 46295
B7: Days in period | C7: =C6-DATE(2024,12,31) -> 90 | D7: =D6-C6 -> 91 | E7: =E6-D6 -> 92 | F7: =F6-E6 -> 92 | G7: =G6-DATE(2024,12,31) -> 365 | H7: =H6-F6 -> 90 | I7: =I6-H6 -> 91 | J7: =J6-I6 -> 92
B9: A. Assets under custody and/or administration (AUC/A, $bn)
B10: Opening AUC/A | C10: 46560 | D10: =C21 -> 46733 | E10: =D21 -> 49000 | F10: =E21 -> 51664 | G10: =C10 -> 46560 | H10: =F21 -> 53800 | I10: =H21 -> 54515 | J10: =I21 -> 57858
B11: Net change in AUC/A | C11: =C21-C10 -> 173 | D11: =D21-D10 -> 2267 | E11: =E21-E10 -> 2664 | F11: =F21-F10 -> 2136 | G11: =G21-G10 -> 7240 | H11: =H21-H10 -> 715 | I11: =I21-I10 -> 3343 | J11: =J21-J10 -> 778.58
B12: of which: new business onboarded | C12: n.d. | D12: n.d. | E12: n.d. | F12: n.d. | G12: n.a. | H12: n.d. | I12: 228 | J12: 200
B13: Y/Y chg (abs) | C13: n.a. | D13: n.a. | E13: n.a. | F13: n.a. | G13: n.a. | H13: n.a. | I13: n.a. | J13: n.a.
B14: Q/Q chg | J14: =J12-I12 -> -28
B15: of which: market, FX and other | C15: n.d. | D15: n.d. | E15: n.d. | F15: n.d. | G15: n.a. | H15: n.d. | I15: =I11-I12 -> 3115 | J15: =J10*J18 -> 578.58
B16: Y/Y chg (abs) | C16: n.a. | D16: n.a. | E16: n.a. | F16: n.a. | G16: n.a. | H16: n.a. | I16: n.a. | J16: n.a.
B17: Q/Q chg | J17: =J15-I15 -> -2536.42
B18: Market, FX and other (% of opening) | C18: n.d. | D18: n.d. | E18: n.d. | F18: n.d. | G18: n.a. | H18: n.d. | I18: =I15/I10 -> 0.057140237 | J18: 0.01
B19: Q/Q chg (bp) | J19: =(J18-I18)*10000 -> -471.40237
B20: Y/Y chg (bp) | C20: n.a. | D20: n.a. | E20: n.a. | F20: n.a. | G20: n.a. | H20: n.a. | I20: n.a. | J20: n.a.
B21: Closing AUC/A | C21: 46733 | D21: 49000 | E21: 51664 | F21: 53800 | G21: =F21 -> 53800 | H21: 54515 | I21: 57858 | J21: =J10+J12+J15 -> 58636.58
B22: % Y/Y | H22: =H21/C21-1 -> 0.16652045 | I22: =I21/D21-1 -> 0.18077551 | J22: =J21/E21-1 -> 0.13496013
B23: Q/Q chg (abs) | D23: =D21-C21 -> 2267 | E23: =E21-D21 -> 2664 | F23: =F21-E21 -> 2136 | H23: =H21-F21 -> 715 | I23: =I21-H21 -> 3343 | J23: =J21-I21 -> 778.58
B24: Average AUC/A (simple average of opening and closing) | C24: =AVERAGE(C10,C21) -> 46646.5 | D24: =AVERAGE(D10,D21) -> 47866.5 | E24: =AVERAGE(E10,E21) -> 50332 | F24: =AVERAGE(F10,F21) -> 52732 | G24: =AVERAGE(C24:F24) -> 49394.25 | H24: =AVERAGE(H10,H21) -> 54157.5 | I24: =AVERAGE(I10,I21) -> 56186.5 | J24: =AVERAGE(J10,J21) -> 58247.29
B25: % Y/Y | H25: =H24/C24-1 -> 0.16101958 | I25: =I24/D24-1 -> 0.17381676 | J25: =J24/E24-1 -> 0.15726158
B26: Q/Q chg (abs) | D26: =D24-C24 -> 1220 | E26: =E24-D24 -> 2465.5 | F26: =F24-E24 -> 2400 | H26: =H24-F24 -> 1425.5 | I26: =I24-H24 -> 2029 | J26: =J24-I24 -> 2060.79
B27: AUC/A by product (closing)
B28: Collective funds, including ETFs | C28: 15430 | D28: 16728 | E28: 17795 | F28: 17997 | G28: =F28 -> 17997 | H28: 18338 | I28: 20055 | J28: =J21*I28/I21 -> 20324.875
B29: % Y/Y | H29: =H28/C28-1 -> 0.18846403 | I29: =I28/D28-1 -> 0.19888809 | J29: =J28/E28-1 -> 0.14216774
B30: Q/Q chg (abs) | D30: =D28-C28 -> 1298 | E30: =E28-D28 -> 1067 | F30: =F28-E28 -> 202 | H30: =H28-F28 -> 341 | I30: =I28-H28 -> 1717 | J30: =J28-I28 -> 269.8749
B31: Mutual funds | C31: 12143 | D31: 12641 | E31: 13209 | F31: 13518 | G31: =F31 -> 13518 | H31: 13309 | I31: 14353 | J31: =J21*I31/I21 -> 14546.145
B32: % Y/Y | H32: =H31/C31-1 -> 0.0960224 | I32: =I31/D31-1 -> 0.13543232 | J32: =J31/E31-1 -> 0.10122981
B33: Q/Q chg (abs) | D33: =D31-C31 -> 498 | E33: =E31-D31 -> 568 | F33: =F31-E31 -> 309 | H33: =H31-F31 -> -209 | I33: =I31-H31 -> 1044 | J33: =J31-I31 -> 193.14457
B34: Pension products | C34: 9377 | D34: 9679 | E34: 10321 | F34: 10452 | G34: =F34 -> 10452 | H34: 10912 | I34: 11219 | J34: =J21*I34/I21 -> 11369.971
B35: % Y/Y | H35: =H34/C34-1 -> 0.16369841 | I35: =I34/D34-1 -> 0.15910735 | J35: =J34/E34-1 -> 0.10163464
B36: Q/Q chg (abs) | D36: =D34-C34 -> 302 | E36: =E34-D34 -> 642 | F36: =F34-E34 -> 131 | H36: =H34-F34 -> 460 | I36: =I34-H34 -> 307 | J36: =J34-I34 -> 150.97115
B37: Insurance and other products | C37: 9783 | D37: 9952 | E37: 10339 | F37: 11833 | G37: =F37 -> 11833 | H37: 11956 | I37: 12231 | J37: =J21*I37/I21 -> 12395.589
B38: % Y/Y | H38: =H37/C37-1 -> 0.22212 | I38: =I37/D37-1 -> 0.2289992 | J38: =J37/E37-1 -> 0.1989157
B39: Q/Q chg (abs) | D39: =D37-C37 -> 169 | E39: =E37-D37 -> 387 | F39: =F37-E37 -> 1494 | H39: =H37-F37 -> 123 | I39: =I37-H37 -> 275 | J39: =J37-I37 -> 164.58937
B40: Total AUC/A by product | C40: =SUM(C28,C31,C34,C37) -> 46733 | D40: =SUM(D28,D31,D34,D37) -> 49000 | E40: =SUM(E28,E31,E34,E37) -> 51664 | F40: =SUM(F28,F31,F34,F37) -> 53800 | G40: =SUM(G28,G31,G34,G37) -> 53800 | H40: =SUM(H28,H31,H34,H37) -> 54515 | I40: =SUM(I28,I31,I34,I37) -> 57858 | J40: =SUM(J28,J31,J34,J37) -> 58636.58
B41: Check: by product - closing AUC/A (should be 0; 3Q26E identity, mix held) | C41: =C40-C21 -> 0 | D41: =D40-D21 -> 0 | E41: =E40-E21 -> 0 | F41: =F40-F21 -> 0 | G41: =G40-G21 -> 0 | H41: =H40-H21 -> 0 | I41: =I40-I21 -> 0 | J41: =J40-J21 -> 0
B42: AUC/A by asset class (closing)
...

Sheet Segment - Investment Management
B2: State Street Corporation (NYSE: STT)
B3: Segment - Investment Management
B4: $ millions, except per share
B5: Fiscal period | C5: 1Q25A | D5: 2Q25A | E5: 3Q25A | F5: 4Q25A | G5: FY25A | H5: 1Q26A | I5: 2Q26A | J5: 3Q26E
B6: Period end | C6: =DATE(2025,3,31) -> 45747 | D6: =DATE(2025,6,30) -> 45838 | E6: =DATE(2025,9,30) -> 45930 | F6: =DATE(2025,12,31) -> 46022 | G6: =DATE(2025,12,31) -> 46022 | H6: =DATE(2026,3,31) -> 46112 | I6: =DATE(2026,6,30) -> 46203 | J6: =DATE(2026,9,30) -> 46295
B7: Days in period | C7: =C6-DATE(2024,12,31) -> 90 | D7: =D6-C6 -> 91 | E7: =E6-D6 -> 92 | F7: =F6-E6 -> 92 | G7: =G6-DATE(2024,12,31) -> 365 | H7: =H6-F6 -> 90 | I7: =I6-H6 -> 91 | J7: =J6-I6 -> 92
B9: A. Assets under management (AUM, $bn)
B10: Opening AUM | C10: 4715 | D10: =C43 -> 4665 | E10: =D43 -> 5117 | F10: =E43 -> 5446 | G10: =C10 -> 4715 | H10: =F43 -> 5665 | I10: =H43 -> 5620 | J10: =I43 -> 6278
B11: Net asset flows by strategy
B12: Index - ETFs | C12: 0 | D12: 15 | E12: 38 | F12: 51 | G12: =SUM(C12:F12) -> 104 | H12: 25 | I12: 66 | J12: n.f.
B13: Y/Y chg (abs) | H13: =H12-C12 -> 25 | I13: =I12-D12 -> 51
B14: Q/Q chg (abs) | D14: =D12-C12 -> 15 | E14: =E12-D12 -> 23 | F14: =F12-E12 -> 13 | H14: =H12-F12 -> -26 | I14: =I12-H12 -> 41
B15: Index - other index | C15: -12 | D15: 81 | E15: -7 | F15: 14 | G15: =SUM(C15:F15) -> 76 | H15: 13 | I15: 15 | J15: n.f.
B16: Y/Y chg (abs) | H16: =H15-C15 -> 25 | I16: =I15-D15 -> -66
B17: Q/Q chg (abs) | D17: =D15-C15 -> 93 | E17: =E15-D15 -> -88 | F17: =F15-E15 -> 21 | H17: =H15-F15 -> -1 | I17: =I15-H15 -> 2
B18: Total index strategies and solutions | C18: =C12+C15 -> -12 | D18: =D12+D15 -> 96 | E18: =E12+E15 -> 31 | F18: =F12+F15 -> 65 | G18: =G12+G15 -> 180 | H18: =H12+H15 -> 38 | I18: =I12+I15 -> 81 | J18: n.f.
B19: Y/Y chg (abs) | H19: =H18-C18 -> 50 | I19: =I18-D18 -> -15
B20: Q/Q chg (abs) | D20: =D18-C18 -> 108 | E20: =E18-D18 -> -65 | F20: =F18-E18 -> 34 | H20: =H18-F18 -> -27 | I20: =I18-H18 -> 43
B21: Active, alternatives and other | C21: -2 | D21: -13 | E21: -15 | F21: -4 | G21: =SUM(C21:F21) -> -34 | H21: 3 | I21: -2 | J21: n.f.
B22: Y/Y chg (abs) | H22: =H21-C21 -> 5 | I22: =I21-D21 -> 11
B23: Q/Q chg (abs) | D23: =D21-C21 -> -11 | E23: =E21-D21 -> -2 | F23: =F21-E21 -> 11 | H23: =H21-F21 -> 7 | I23: =I21-H21 -> -5
B24: Cash | C24: 1 | D24: -1 | E24: 10 | F24: 24 | G24: =SUM(C24:F24) -> 34 | H24: 8 | I24: 35 | J24: n.f.
B25: Y/Y chg (abs) | H25: =H24-C24 -> 7 | I25: =I24-D24 -> 36
B26: Q/Q chg (abs) | D26: =D24-C24 -> -2 | E26: =E24-D24 -> 11 | F26: =F24-E24 -> 14 | H26: =H24-F24 -> -16 | I26: =I24-H24 -> 27
B27: Total net asset flows | C27: =C18+C21+C24 -> -13 | D27: =D18+D21+D24 -> 82 | E27: =E18+E21+E24 -> 26 | F27: =F18+F21+F24 -> 85 | G27: =G18+G21+G24 -> 180 | H27: =H18+H21+H24 -> 49 | I27: =I18+I21+I24 -> 114 | J27: 60
B28: Y/Y chg (abs) | H28: =H27-C27 -> 62 | I28: =I27-D27 -> 32 | J28: =J27-E27 -> 34
B29: Q/Q chg (abs) | D29: =D27-C27 -> 95 | E29: =E27-D27 -> -56 | F29: =F27-E27 -> 59 | H29: =H27-F27 -> -36 | I29: =I27-H27 -> 65 | J29: =J27-I27 -> -54
B30: Organic AUM growth (annualized flows / opening AUM) | C30: =C27/C10*365/C7 -> -0.011181807 | D30: =D27/D10*365/D7 -> 0.070503987 | E30: =E27/E10*365/E7 -> 0.020158721 | F30: =F27/F10*365/F7 -> 0.061922193 | G30: =G27/G10*365/G7 -> 0.038176034 | H30: =H27/H10*365/H7 -> 0.035078945 | I30: =I27/I10*365/I7 -> 0.081361699 | J30: =J27/J10*365/J7 -> 0.037917088
B31: Q/Q chg (bp) | D31: =(D30-C30)*10000 -> 816.85794 | E31: =(E30-D30)*10000 -> -503.45266 | F31: =(F30-E30)*10000 -> 417.63472 | H31: =(H30-F30)*10000 -> -268.43248 | I31: =(I30-H30)*10000 -> 462.82754 | J31: =(J30-I30)*10000 -> -434.44611
B32: Y/Y chg (bp) | C32: n.a. | D32: n.a. | E32: n.a. | F32: n.a. | G32: n.a. | H32: =(H30-C30)*10000 -> 462.60752 | I32: =(I30-D30)*10000 -> 108.57712 | J32: =(J30-E30)*10000 -> 177.58367
B33: Market appreciation / (depreciation) | C33: -65 | D33: 318 | E33: 310 | F33: 148 | G33: =SUM(C33:F33) -> 711 | H33: -86 | I33: 551 | J33: =J10*J36 -> 43.946
B34: Y/Y chg (abs) | H34: =H33-C33 -> -21 | I34: =I33-D33 -> 233 | J34: =J33-E33 -> -266.054
B35: Q/Q chg (abs) | D35: =D33-C33 -> 383 | E35: =E33-D33 -> -8 | F35: =F33-E33 -> -162 | H35: =H33-F33 -> -234 | I35: =I33-H33 -> 637 | J35: =J33-I33 -> -507.054
B36: Market appreciation (% of opening) | C36: =C33/C10 -> -0.01378579 | D36: =D33/D10 -> 0.068167203 | E36: =E33/E10 -> 0.060582372 | F36: =F33/F10 -> 0.027175909 | G36: =G33/G10 -> 0.15079533 | H36: =H33/H10 -> -0.015180936 | I36: =I33/I10 -> 0.098042705 | J36: 0.007
B37: Q/Q chg (bp) | D37: =(D36-C36)*10000 -> 819.52993 | E37: =(E36-D36)*10000 -> -75.848301 | F37: =(F36-E36)*10000 -> -334.06464 | H37: =(H36-F36)*10000 -> -423.56844 | I37: =(I36-H36)*10000 -> 1132.2364 | J37: =(J36-I36)*10000 -> -910.42705
B38: Y/Y chg (bp) | C38: n.a. | D38: n.a. | E38: n.a. | F38: n.a. | G38: n.a. | H38: =(H36-C36)*10000 -> -13.951455 | I38: =(I36-D36)*10000 -> 298.75502 | J38: =(J36-E36)*10000 -> -535.82372
B39: Foreign exchange impact | C39: 28 | D39: 52 | E39: -7 | F39: -14 | G39: =SUM(C39:F39) -> 59 | H39: -8 | I39: -7 | J39: 0
B40: Y/Y chg (abs) | H40: =H39-C39 -> -36 | I40: =I39-D39 -> -59 | J40: =J39-E39 -> 7
B41: Q/Q chg (abs) | D41: =D39-C39 -> 24 | E41: =E39-D39 -> -59 | F41: =F39-E39 -> -7 | H41: =H39-F39 -> 6 | I41: =I39-H39 -> 1 | J41: =J39-I39 -> 7
B42: Total market and FX impact | C42: =C33+C39 -> -37 | D42: =D33+D39 -> 370 | E42: =E33+E39 -> 303 | F42: =F33+F39 -> 134 | G42: =G33+G39 -> 770 | H42: =H33+H39 -> -94 | I42: =I33+I39 -> 544 | J42: =J33+J39 -> 43.946
...

Sheet Income Statement
B2: State Street Corporation (NYSE: STT)
B3: Income Statement
B4: $ millions, except per share
B5: Fiscal period | C5: 1Q25A | D5: 2Q25A | E5: 3Q25A | F5: 4Q25A | G5: FY25A | H5: 1Q26A | I5: 2Q26A | J5: 3Q26E
B6: Period end | C6: =DATE(2025,3,31) -> 45747 | D6: =DATE(2025,6,30) -> 45838 | E6: =DATE(2025,9,30) -> 45930 | F6: =DATE(2025,12,31) -> 46022 | G6: =DATE(2025,12,31) -> 46022 | H6: =DATE(2026,3,31) -> 46112 | I6: =DATE(2026,6,30) -> 46203 | J6: =DATE(2026,9,30) -> 46295
B7: Days in period | C7: =C6-DATE(2024,12,31) -> 90 | D7: =D6-C6 -> 91 | E7: =E6-D6 -> 92 | F7: =F6-E6 -> 92 | G7: =G6-DATE(2024,12,31) -> 365 | H7: =H6-F6 -> 90 | I7: =I6-H6 -> 91 | J7: =J6-I6 -> 92
B9: Fee revenue
B10: Servicing fees | C10: ='Segment - Investment Servicing'!C79 -> 1275 | D10: ='Segment - Investment Servicing'!D79 -> 1304 | E10: ='Segment - Investment Servicing'!E79 -> 1357 | F10: ='Segment - Investment Servicing'!F79 -> 1388 | G10: ='Segment - Investment Servicing'!G79 -> 5324 | H10: ='Segment - Investment Servicing'!H79 -> 1409 | I10: ='Segment - Investment Servicing'!I79 -> 1468 | J10: ='Segment - Investment Servicing'!J79 -> 1512.1954
B11: Management fees | C11: ='Segment - Investment Management'!C101 -> 587 | D11: ='Segment - Investment Management'!D101 -> 600 | E11: ='Segment - Investment Management'!E101 -> 664 | F11: ='Segment - Investment Management'!F101 -> 717 | G11: ='Segment - Investment Management'!G101 -> 2568 | H11: ='Segment - Investment Management'!H101 -> 724 | I11: ='Segment - Investment Management'!I101 -> 772 | J11: ='Segment - Investment Management'!J101 -> 813.70502
B12: Foreign exchange trading services | C12: ='Segment - Investment Servicing'!C90+'Segment - Investment Management'!C109+'Revenue summary'!C41 -> 337 | D12: ='Segment - Investment Servicing'!D90+'Segment - Investment Management'!D109+'Revenue summary'!D41 -> 393 | E12: ='Segment - Investment Servicing'!E90+'Segment - Investment Management'!E109+'Revenue summary'!E41 -> 364 | F12: ='Segment - Investment Servicing'!F90+'Segment - Investment Management'!F109+'Revenue summary'!F41 -> 350 | G12: ='Segment - Investment Servicing'!G90+'Segment - Investment Management'!G109+'Revenue summary'!G41 -> 1444 | H12: ='Segment - Investment Servicing'!H90+'Segment - Investment Management'!H109+'Revenue summary'!H41 -> 435 | I12: ='Segment - Investment Servicing'!I90+'Segment - Investment Management'!I109+'Revenue summary'!I41 -> 494 | J12: ='Segment - Investment Servicing'!J90+'Segment - Investment Management'!J109+'Revenue summary'!J41 -> 454.72
B13: Securities finance | C13: ='Segment - Investment Servicing'!C106+'Segment - Investment Management'!C118 -> 114 | D13: ='Segment - Investment Servicing'!D106+'Segment - Investment Management'!D118 -> 126 | E13: ='Segment - Investment Servicing'!E106+'Segment - Investment Management'!E118 -> 138 | F13: ='Segment - Investment Servicing'!F106+'Segment - Investment Management'!F118 -> 127 | G13: ='Segment - Investment Servicing'!G106+'Segment - Investment Management'!G118 -> 505 | H13: ='Segment - Investment Servicing'!H106+'Segment - Investment Management'!H118 -> 116 | I13: ='Segment - Investment Servicing'!I106+'Segment - Investment Management'!I118 -> 150 | J13: ='Segment - Investment Servicing'!J106+'Segment - Investment Management'!J118 -> 136.98904
B14: Software services | C14: ='Segment - Investment Servicing'!C126+'Revenue summary'!C49 -> 158 | D14: ='Segment - Investment Servicing'!D126+'Revenue summary'!D49 -> 169 | E14: ='Segment - Investment Servicing'!E126+'Revenue summary'!E49 -> 167 | F14: ='Segment - Investment Servicing'!F126+'Revenue summary'!F49 -> 163 | G14: ='Segment - Investment Servicing'!G126+'Revenue summary'!G49 -> 657 | H14: ='Segment - Investment Servicing'!H126+'Revenue summary'!H49 -> 169 | I14: ='Segment - Investment Servicing'!I126+'Revenue summary'!I49 -> 166 | J14: ='Segment - Investment Servicing'!J126+'Revenue summary'!J49 -> 171.34685
B15: Other fee revenue | C15: ='Segment - Investment Servicing'!C134+'Segment - Investment Management'!C126 -> 99 | D15: ='Segment - Investment Servicing'!D134+'Segment - Investment Management'!D126 -> 127 | E15: ='Segment - Investment Servicing'!E134+'Segment - Investment Management'!E126 -> 139 | F15: ='Segment - Investment Servicing'!F134+'Segment - Investment Management'!F126 -> 117 | G15: ='Segment - Investment Servicing'!G134+'Segment - Investment Management'!G126 -> 482 | H15: ='Segment - Investment Servicing'!H134+'Segment - Investment Management'!H126 -> 107 | I15: ='Segment - Investment Servicing'!I134+'Segment - Investment Management'!I126 -> 138 | J15: ='Segment - Investment Servicing'!J134+'Segment - Investment Management'!J126 -> 125
B16: Total fee revenue | C16: =SUM(C10,C11,C12,C13,C14,C15) -> 2570 | D16: =SUM(D10,D11,D12,D13,D14,D15) -> 2719 | E16: =SUM(E10,E11,E12,E13,E14,E15) -> 2829 | F16: =SUM(F10,F11,F12,F13,F14,F15) -> 2862 | G16: =SUM(G10,G11,G12,G13,G14,G15) -> 10980 | H16: =SUM(H10,H11,H12,H13,H14,H15) -> 2960 | I16: =SUM(I10,I11,I12,I13,I14,I15) -> 3188 | J16: =SUM(J10,J11,J12,J13,J14,J15) -> 3213.9563
B17: % Y/Y | H17: =H16/C16-1 -> 0.15175097 | I17: =I16/D16-1 -> 0.17248989 | J17: =J16/E16-1 -> 0.13607505
B18: % Q/Q | D18: =D16/C16-1 -> 0.057976654 | E18: =E16/D16-1 -> 0.04045605 | F18: =F16/E16-1 -> 0.011664899 | H18: =H16/F16-1 -> 0.034241789 | I18: =I16/H16-1 -> 0.077027027 | J18: =J16/I16-1 -> 0.008141879
B19: Net interest income
B20: Interest income | C20: 2922 | D20: 3055 | E20: 2918 | F20: 2749 | G20: =SUM(C20:F20) -> 11644 | H20: 2651 | I20: 2843 | J20: ='Segment - Investment Servicing'!J257 -> 2900.8356
B21: Interest expense | C21: 2208 | D21: 2326 | E21: 2203 | F21: 1947 | G21: =SUM(C21:F21) -> 8684 | H21: 1816 | I21: 1983 | J21: =J20-'Segment - Investment Servicing'!J256 -> 2043.0616
B22: Net interest income | C22: =C20-C21 -> 714 | D22: =D20-D21 -> 729 | E22: =E20-E21 -> 715 | F22: =F20-F21 -> 802 | G22: =G20-G21 -> 2960 | H22: =H20-H21 -> 835 | I22: =I20-I21 -> 860 | J22: =J20-J21 -> 857.77397
B23: % Y/Y | H23: =H22/C22-1 -> 0.16946779 | I23: =I22/D22-1 -> 0.17969822 | J23: =J22/E22-1 -> 0.19968388
B24: % Q/Q | D24: =D22/C22-1 -> 0.021008403 | E24: =E22/D22-1 -> -0.01920439 | F24: =F22/E22-1 -> 0.12167832 | H24: =H22/F22-1 -> 0.041147132 | I24: =I22/H22-1 -> 0.02994012 | J24: =J22/I22-1 -> -0.002588404
B25: Check: NII - segment NII (IS + IM) (should be 0) | C25: =C22-'Segment - Investment Servicing'!C259-'Segment - Investment Management'!C143 -> 0 | D25: =D22-'Segment - Investment Servicing'!D259-'Segment - Investment Management'!D143 -> 0 | E25: =E22-'Segment - Investment Servicing'!E259-'Segment - Investment Management'!E143 -> 0 | F25: =F22-'Segment - Investment Servicing'!F259-'Segment - Investment Management'!F143 -> 0 | G25: =G22-'Segment - Investment Servicing'!G259-'Segment - Investment Management'!G143 -> 0 | H25: =H22-'Segment - Investment Servicing'!H259-'Segment - Investment Management'!H143 -> 0 | I25: =I22-'Segment - Investment Servicing'!I259-'Segment - Investment Management'!I143 -> 0 | J25: =J22-'Segment - Investment Servicing'!J259-'Segment - Investment Management'!J143 -> 0
B26: Other income (gains on sales of AFS securities, net) | C26: ='Segment - Investment Servicing'!C270 -> 0 | D26: ='Segment - Investment Servicing'!D270 -> 0 | E26: ='Segment - Investment Servicing'!E270 -> 1 | F26: ='Segment - Investment Servicing'!F270 -> 3 | G26: ='Segment - Investment Servicing'!G270 -> 4 | H26: ='Segment - Investment Servicing'!H270 -> 1 | I26: ='Segment - Investment Servicing'!I270 -> 0 | J26: ='Segment - Investment Servicing'!J270 -> 0
B27: Total revenue | C27: =C16+C22+C26 -> 3284 | D27: =D16+D22+D26 -> 3448 | E27: =E16+E22+E26 -> 3545 | F27: =F16+F22+F26 -> 3667 | G27: =G16+G22+G26 -> 13944 | H27: =H16+H22+H26 -> 3796 | I27: =I16+I22+I26 -> 4048 | J27: =J16+J22+J26 -> 4071.7303
B28: % Y/Y | H28: =H27/C27-1 -> 0.15590743 | I28: =I27/D27-1 -> 0.17401392 | J28: =J27/E27-1 -> 0.148584
B29: % Q/Q | D29: =D27/C27-1 -> 0.049939099 | E29: =E27/D27-1 -> 0.028132251 | F29: =F27/E27-1 -> 0.034414669 | H29: =H27/F27-1 -> 0.03517862 | I29: =I27/H27-1 -> 0.066385669 | J29: =J27/I27-1 -> 0.005862224
B30: Provision for credit losses | C30: ='Segment - Investment Servicing'!C286 -> 12 | D30: ='Segment - Investment Servicing'!D286 -> 30 | E30: ='Segment - Investment Servicing'!E286 -> 9 | F30: ='Segment - Investment Servicing'!F286 -> 8 | G30: ='Segment - Investment Servicing'!G286 -> 59 | H30: ='Segment - Investment Servicing'!H286 -> 16 | I30: ='Segment - Investment Servicing'!I286 -> 0 | J30: ='Segment - Investment Servicing'!J286 -> 10
B31: Expenses
B32: Compensation and employee benefits | C32: 1262 | D32: 1280 | E32: 1162 | F32: 1331 | G32: =SUM(C32:F32) -> 5035 | H32: 1441 | I32: 1292 | J32: =I32*(1+J35) -> 1295.876
B33: % Y/Y | H33: =H32/C32-1 -> 0.14183835 | I33: =I32/D32-1 -> 0.009375 | J33: =J32/E32-1 -> 0.1152117
B34: Q/Q chg | D34: =D32-C32 -> 18 | E34: =E32-D32 -> -118 | F34: =F32-E32 -> 169 | H34: =H32-F32 -> 110 | I34: =I32-H32 -> -149 | J34: =J32-I32 -> 3.876
B35: % Q/Q (3Q26E: assumption) | D35: =D32/C32-1 -> 0.014263074 | E35: =E32/D32-1 -> -0.0921875 | F35: =F32/E32-1 -> 0.1454389 | H35: =H32/F32-1 -> 0.082644628 | I35: =I32/H32-1 -> -0.10340042 | J35: 0.003
B36: Information systems and communications | C36: 497 | D36: 523 | E36: 517 | F36: 557 | G36: =SUM(C36:F36) -> 2094 | H36: 637 | I36: 589 | J36: =I36*(1+J39) -> 594.89
B37: % Y/Y | H37: =H36/C36-1 -> 0.28169014 | I37: =I36/D36-1 -> 0.12619503 | J37: =J36/E36-1 -> 0.15065764
B38: Q/Q chg | D38: =D36-C36 -> 26 | E38: =E36-D36 -> -6 | F38: =F36-E36 -> 40 | H38: =H36-F36 -> 80 | I38: =I36-H36 -> -48 | J38: =J36-I36 -> 5.89
B39: % Q/Q (3Q26E: assumption) | D39: =D36/C36-1 -> 0.052313883 | E39: =E36/D36-1 -> -0.011472275 | F39: =F36/E36-1 -> 0.077369439 | H39: =H36/F36-1 -> 0.14362657 | I39: =I36/H36-1 -> -0.075353218 | J39: 0.01
B40: Transaction processing services | C40: 258 | D40: 260 | E40: 276 | F40: 256 | G40: =SUM(C40:F40) -> 1050 | H40: 283 | I40: 280 | J40: =I40*(1+J43) -> 282.8
B41: % Y/Y | H41: =H40/C40-1 -> 0.096899225 | I41: =I40/D40-1 -> 0.076923077 | J41: =J40/E40-1 -> 0.024637681
B42: Q/Q chg | D42: =D40-C40 -> 2 | E42: =E40-D40 -> 16 | F42: =F40-E40 -> -20 | H42: =H40-F40 -> 27 | I42: =I40-H40 -> -3 | J42: =J40-I40 -> 2.8
...

Sheet Balance Sheet
B2: State Street Corporation (NYSE: STT)
B3: Balance Sheet
B4: $ millions, except per share
B5: Fiscal period | C5: 1Q25A | D5: 2Q25A | E5: 3Q25A | F5: 4Q25A | G5: FY25A | H5: 1Q26A | I5: 2Q26A | J5: 3Q26E
B6: Period end | C6: =DATE(2025,3,31) -> 45747 | D6: =DATE(2025,6,30) -> 45838 | E6: =DATE(2025,9,30) -> 45930 | F6: =DATE(2025,12,31) -> 46022 | G6: =DATE(2025,12,31) -> 46022 | H6: =DATE(2026,3,31) -> 46112 | I6: =DATE(2026,6,30) -> 46203 | J6: =DATE(2026,9,30) -> 46295
B7: Days in period | C7: =C6-DATE(2024,12,31) -> 90 | D7: =D6-C6 -> 91 | E7: =E6-D6 -> 92 | F7: =F6-E6 -> 92 | G7: =G6-DATE(2024,12,31) -> 365 | H7: =H6-F6 -> 90 | I7: =I6-H6 -> 91 | J7: =J6-I6 -> 92
B9: Assets
B10: Cash and due from banks | C10: 4658 | D10: 4020 | E10: 4756 | F10: 4433 | G10: =F10 -> 4433 | H10: 6518 | I10: 4290 | J10: ='Cash Flow Statement'!J54 -> 4570.698
B11: Interest-bearing deposits with banks, net | C11: 119464 | D11: 118835 | E11: 122642 | F11: 126930 | G11: =F11 -> 126930 | H11: 123574 | I11: 145223 | J11: =I11 -> 145223
B12: Securities purchased under resale agreements | C12: 7971 | D12: 8275 | E12: 7730 | F12: 6812 | G12: =F12 -> 6812 | H12: 8187 | I12: 9035 | J12: =I12 -> 9035
B13: Trading account assets | C13: 743 | D13: 791 | E13: 884 | F13: 827 | G13: =F13 -> 827 | H13: 842 | I13: 856 | J13: =I13 -> 856
B14: Investment securities available-for-sale, net | C14: 67444 | D14: 70603 | E14: 69443 | F14: 67154 | G14: =F14 -> 67154 | H14: 71645 | I14: 72297 | J14: =I14 -> 72297
B15: Investment securities held-to-maturity, net | C15: 45505 | D15: 43286 | E15: 40934 | F15: 38171 | G15: =F15 -> 38171 | H15: 36732 | I15: 35290 | J15: =I15 -> 35290
B16: Total investment securities | C16: =C14+C15 -> 112949 | D16: =D14+D15 -> 113889 | E16: =E14+E15 -> 110377 | F16: =F14+F15 -> 105325 | G16: =G14+G15 -> 105325 | H16: =H14+H15 -> 108377 | I16: =I14+I15 -> 107587 | J16: =J14+J15 -> 107587
B17: Loans | C17: 44685 | D17: 47279 | E17: 46660 | F17: 46782 | G17: =F17 -> 46782 | H17: 49190 | I17: 52062 | J17: =I17 -> 52062
B18: % Y/Y | H18: =H17/C17-1 -> 0.10081683 | I18: =I17/D17-1 -> 0.10116542 | J18: =J17/E17-1 -> 0.11577368
B19: Q/Q chg (abs) | D19: =D17-C17 -> 2594 | E19: =E17-D17 -> -619 | F19: =F17-E17 -> 122 | H19: =H17-F17 -> 2408 | I19: =I17-H17 -> 2872 | J19: =J17-I17 -> 0
B20: Allowance for credit losses on loans | C20: -176 | D20: -179 | E20: -190 | F20: -193 | G20: =F20 -> -193 | H20: -168 | I20: -161 | J20: =I20 -> -161
B21: Loans, net | C21: =C17+C20 -> 44509 | D21: =D17+D20 -> 47100 | E21: =E17+E20 -> 46470 | F21: =F17+F20 -> 46589 | G21: =G17+G20 -> 46589 | H21: =H17+H20 -> 49022 | I21: =I17+I20 -> 51901 | J21: =J17+J20 -> 51901
B22: Premises and equipment, net | C22: 2784 | D22: 2942 | E22: 3080 | F22: 3174 | G22: =F22 -> 3174 | H22: 3313 | I22: 3854 | J22: =I22 -> 3854
B23: Accrued interest and fees receivable | C23: 4280 | D23: 4589 | E23: 4476 | F23: 4395 | G23: =F23 -> 4395 | H23: 4708 | I23: 4867 | J23: =I23 -> 4867
B24: Goodwill | C24: 7763 | D24: 7918 | E24: 7916 | F24: 8159 | G24: =F24 -> 8159 | H24: 8121 | I24: 8106 | J24: =I24 -> 8106
B25: Other intangible assets | C25: 1046 | D25: 1014 | E25: 958 | F25: 935 | G25: =F25 -> 935 | H25: 872 | I25: 816 | J25: =I25 -> 816
B26: Other assets | C26: 66526 | D26: 67344 | E26: 61781 | F26: 58468 | G26: =F26 -> 58468 | H26: 78631 | I26: 81846 | J26: =I26 -> 81846
B27: Total assets | C27: =SUM(C10,C11,C12,C13,C16,C21,C22,C23,C24,C25,C26) -> 372693 | D27: =SUM(D10,D11,D12,D13,D16,D21,D22,D23,D24,D25,D26) -> 376717 | E27: =SUM(E10,E11,E12,E13,E16,E21,E22,E23,E24,E25,E26) -> 371070 | F27: =SUM(F10,F11,F12,F13,F16,F21,F22,F23,F24,F25,F26) -> 366047 | G27: =SUM(G10,G11,G12,G13,G16,G21,G22,G23,G24,G25,G26) -> 366047 | H27: =SUM(H10,H11,H12,H13,H16,H21,H22,H23,H24,H25,H26) -> 392165 | I27: =SUM(I10,I11,I12,I13,I16,I21,I22,I23,I24,I25,I26) -> 418381 | J27: =SUM(J10,J11,J12,J13,J16,J21,J22,J23,J24,J25,J26) -> 418661.7
B28: Liabilities
B29: Non-interest-bearing deposits | C29: 32265 | D29: 34569 | E29: 34395 | F29: 35267 | G29: =F29 -> 35267 | H29: 39643 | I29: 46489 | J29: =I29 -> 46489
B30: Interest-bearing deposits - U.S. | C30: 168362 | D30: 169444 | E30: 169013 | F30: 168079 | G30: =F30 -> 168079 | H30: 174723 | I30: 191759 | J30: =I30 -> 191759
B31: Interest-bearing deposits - non-U.S. | C31: 71429 | D31: 79011 | E31: 76591 | F31: 71004 | G31: =F31 -> 71004 | H31: 78975 | I31: 81299 | J31: =I31 -> 81299
B32: Total deposits | C32: =C29+C30+C31 -> 272056 | D32: =D29+D30+D31 -> 283024 | E32: =E29+E30+E31 -> 279999 | F32: =F29+F30+F31 -> 274350 | G32: =G29+G30+G31 -> 274350 | H32: =H29+H30+H31 -> 293341 | I32: =I29+I30+I31 -> 319547 | J32: =J29+J30+J31 -> 319547
B33: % Y/Y | H33: =H32/C32-1 -> 0.078237569 | I33: =I32/D32-1 -> 0.12904559 | J33: =J32/E32-1 -> 0.14124336
B34: Q/Q chg (abs) | D34: =D32-C32 -> 10968 | E34: =E32-D32 -> -3025 | F34: =F32-E32 -> -5649 | H34: =H32-F32 -> 18991 | I34: =I32-H32 -> 26206 | J34: =J32-I32 -> 0
B35: Securities sold under repurchase agreements | C35: 3524 | D35: 2377 | E35: 206 | F35: 841 | G35: =F35 -> 841 | H35: 969 | I35: 395 | J35: =I35 -> 395
B36: Other short-term borrowings | C36: 11849 | D36: 9844 | E36: 9825 | F36: 3821 | G36: =F36 -> 3821 | H36: 3981 | I36: 4372 | J36: =I36 -> 4372
B37: Accrued expenses and other liabilities | C37: 33726 | D37: 28254 | E37: 28710 | F37: 34051 | G37: =F37 -> 34051 | H37: 40899 | I37: 40095 | J37: =I37 -> 40095
B38: Long-term debt | C38: 24846 | D38: 25911 | E38: 24688 | F38: 25143 | G38: =F38 -> 25143 | H38: 25233 | I38: 25704 | J38: =I38 -> 25704
B39: Total liabilities | C39: =SUM(C32,C35,C36,C37,C38) -> 346001 | D39: =SUM(D32,D35,D36,D37,D38) -> 349410 | E39: =SUM(E32,E35,E36,E37,E38) -> 343428 | F39: =SUM(F32,F35,F36,F37,F38) -> 338206 | G39: =SUM(G32,G35,G36,G37,G38) -> 338206 | H39: =SUM(H32,H35,H36,H37,H38) -> 364423 | I39: =SUM(I32,I35,I36,I37,I38) -> 390113 | J39: =SUM(J32,J35,J36,J37,J38) -> 390113
B40: Shareholders' equity
B41: Preferred stock - Series G | C41: 493 | D41: 493 | E41: 493 | F41: 493 | G41: =F41 -> 493 | H41: 493 | I41: 493 | J41: =I41 -> 493
B42: Preferred stock - Series I | C42: 1481 | D42: 1481 | E42: 1481 | F42: 1481 | G42: =F42 -> 1481 | H42: 1481 | I42: 1481 | J42: =I42 -> 1481
...

Sheet Cash Flow Statement
B2: State Street Corporation (NYSE: STT)
B3: Cash Flow Statement
B4: $ millions, except per share
B5: Fiscal period | C5: 1Q25A | D5: 2Q25A | E5: 3Q25A | F5: 4Q25A | G5: FY25A | H5: 1Q26A | I5: 2Q26A | J5: 3Q26E
B6: Period end | C6: =DATE(2025,3,31) -> 45747 | D6: =DATE(2025,6,30) -> 45838 | E6: =DATE(2025,9,30) -> 45930 | F6: =DATE(2025,12,31) -> 46022 | G6: =DATE(2025,12,31) -> 46022 | H6: =DATE(2026,3,31) -> 46112 | I6: =DATE(2026,6,30) -> 46203 | J6: =DATE(2026,9,30) -> 46295
B7: Days in period | C7: =C6-DATE(2024,12,31) -> 90 | D7: =D6-C6 -> 91 | E7: =E6-D6 -> 92 | F7: =F6-E6 -> 92 | G7: =G6-DATE(2024,12,31) -> 365 | H7: =H6-F6 -> 90 | I7: =I6-H6 -> 91 | J7: =J6-I6 -> 92
B9: Discrete-quarter cash flows ($m; quarters derived from reported year-to-date statements below)
B10: Operating activities
B11: Net income | C11: =C64 -> 644 | D11: =D64-C64 -> 693 | E11: =E64-D64 -> 861 | F11: =F64-E64 -> 747 | G11: =SUM(C11:F11) -> 2945 | H11: =H64 -> 764 | I11: =I64-H64 -> 1084 | J11: ='Income Statement'!J74 -> 1090.3059
B12: Deferred income tax | C12: =C65 -> 18 | D12: =D65-C65 -> -82 | E12: =E65-D65 -> 1 | F12: =F65-E65 -> -26 | G12: =SUM(C12:F12) -> -89 | H12: =H65 -> 28 | I12: =I65-H65 -> 72 | J12: n.f.
B13: Amortization of other intangible assets | C13: =C66 -> 54 | D13: =D66-C66 -> 56 | E13: =E66-D66 -> 56 | F13: =F66-E66 -> 57 | G13: =SUM(C13:F13) -> 223 | H13: =H66 -> 57 | I13: =I66-H66 -> 55 | J13: n.f.
B14: Other non-cash depreciation, amortization and accretion, net | C14: =C67 -> 34 | D14: =D67-C67 -> 61 | E14: =E67-D67 -> 103 | F14: =F67-E67 -> 133 | G14: =SUM(C14:F14) -> 331 | H14: =H67 -> 160 | I14: =I67-H67 -> 145 | J14: n.f.
B15: (Gains) losses related to investment securities, net | C15: =C68 -> 0 | D15: =D68-C68 -> 0 | E15: =E68-D68 -> -1 | F15: =F68-E68 -> -3 | G15: =SUM(C15:F15) -> -4 | H15: =H68 -> -1 | I15: =I68-H68 -> 0 | J15: n.f.
B16: Provision for credit losses | C16: =C69 -> 12 | D16: =D69-C69 -> 30 | E16: =E69-D69 -> 9 | F16: =F69-E69 -> 8 | G16: =SUM(C16:F16) -> 59 | H16: =H69 -> 16 | I16: =I69-H69 -> 0 | J16: n.f.
B17: Change in trading account assets, net | C17: =C70 -> 25 | D17: =D70-C70 -> -47 | E17: =E70-D70 -> -93 | F17: =F70-E70 -> 56 | G17: =SUM(C17:F17) -> -59 | H17: =H70 -> -15 | I17: =I70-H70 -> -14 | J17: n.f.
B18: Change in accrued interest and fees receivable, net | C18: =C71 -> -247 | D18: =D71-C71 -> -308 | E18: =E71-D71 -> 112 | F18: =F71-E71 -> 93 | G18: =SUM(C18:F18) -> -350 | H18: =H71 -> -313 | I18: =I71-H71 -> -159 | J18: n.f.
B19: Change in collateral deposits, net | C19: =C72 -> -1697 | D19: =D72-C72 -> -11441 | E19: =E72-D72 -> 11222 | F19: =F72-E72 -> 8527 | G19: =SUM(C19:F19) -> 6611 | H19: =H72 -> -5682 | I19: =I72-H72 -> -7896 | J19: n.f.
B20: Change in unrealized losses (gains) on FX derivatives, net | C20: =C73 -> 4613 | D20: =D73-C73 -> 1296 | E20: =E73-D73 -> -1778 | F20: =F73-E73 -> 1381 | G20: =SUM(C20:F20) -> 5512 | H20: =H73 -> -4369 | I20: =I73-H73 -> -451 | J20: n.f.
B21: Change in other assets, net | C21: =C74 -> -1761 | D21: =D74-C74 -> -919 | E21: =E74-D74 -> -2 | F21: =F74-E74 -> 158 | G21: =SUM(C21:F21) -> -2524 | H21: =H74 -> -4650 | I21: =I74-H74 -> 2036 | J21: n.f.
B22: Change in accrued expenses and other liabilities, net | C22: =C75 -> 545 | D22: =D75-C75 -> 2094 | E22: =E75-D75 -> -2650 | F22: =F75-E75 -> -1156 | G22: =SUM(C22:F22) -> -1167 | H22: =H75 -> 1625 | I22: =I75-H75 -> 2711 | J22: n.f.
B23: Other, net (operating) | C23: =C76 -> 156 | D23: =D76-C76 -> 126 | E23: =E76-D76 -> 61 | F23: =F76-E76 -> 67 | G23: =SUM(C23:F23) -> 410 | H23: =H76 -> 237 | I23: =I76-H76 -> 91 | J23: n.f.
B24: Net cash provided by (used in) operating activities | C24: =SUM(C11,C12,C13,C14,C15,C16,C17,C18,C19,C20,C21,C22,C23) -> 2396 | D24: =SUM(D11,D12,D13,D14,D15,D16,D17,D18,D19,D20,D21,D22,D23) -> -8441 | E24: =SUM(E11,E12,E13,E14,E15,E16,E17,E18,E19,E20,E21,E22,E23) -> 7901 | F24: =SUM(F11,F12,F13,F14,F15,F16,F17,F18,F19,F20,F21,F22,F23) -> 10042 | G24: =SUM(G11,G12,G13,G14,G15,G16,G17,G18,G19,G20,G21,G22,G23) -> 11898 | H24: =SUM(H11,H12,H13,H14,H15,H16,H17,H18,H19,H20,H21,H22,H23) -> -12143 | I24: =SUM(I11,I12,I13,I14,I15,I16,I17,I18,I19,I20,I21,I22,I23) -> -2326 | J24: n.f. | K24: n.f.: full operating cash flow not forecast; collateral, FX-derivative and other balance-sheet movements lack forecast inputs (2Q26: OCF -2,326 vs NI 1,084).
B25: Investing activities
B26: Net (increase) decrease in interest-bearing deposits with banks | C26: =C77 -> -6507 | D26: =D77-C77 -> 628 | E26: =E77-D77 -> -3806 | F26: =F77-E77 -> -3313 | G26: =SUM(C26:F26) -> -12998 | H26: =H77 -> 3356 | I26: =I77-H77 -> -21649 | J26: n.f.
B27: Net (increase) decrease in securities purchased under resale agreements | C27: =C78 -> -1291 | D27: =D78-C78 -> -304 | E27: =E78-D78 -> 545 | F27: =F78-E78 -> 917 | G27: =SUM(C27:F27) -> -133 | H27: =H78 -> -1375 | I27: =I78-H78 -> -848 | J27: n.f.
B28: Proceeds from sales of AFS securities | C28: =C79 -> 2047 | D28: =D79-C79 -> 5474 | E28: =E79-D79 -> 2390 | F28: =F79-E79 -> 6088 | G28: =SUM(C28:F28) -> 15999 | H28: =H79 -> 3944 | I28: =I79-H79 -> 1484 | J28: n.f.
B29: Proceeds from maturities of AFS securities | C29: =C80 -> 8832 | D29: =D80-C80 -> 7410 | E29: =E80-D80 -> 7649 | F29: =F80-E80 -> 5149 | G29: =SUM(C29:F29) -> 29040 | H29: =H80 -> 5301 | I29: =I80-H80 -> 5464 | J29: n.f.
B30: Purchases of AFS securities | C30: =C81 -> -18449 | D30: =D81-C81 -> -13756 | E30: =E81-D81 -> -9452 | F30: =F81-E81 -> -8588 | G30: =SUM(C30:F30) -> -50245 | H30: =H81 -> -13936 | I30: =I81-H81 -> -7883 | J30: n.f.
B31: Proceeds from maturities of HTM securities | C31: =C82 -> 2333 | D31: =D82-C82 -> 2375 | E31: =E82-D82 -> 2376 | F31: =F82-E82 -> 2774 | G31: =SUM(C31:F31) -> 9858 | H31: =H82 -> 1420 | I31: =I82-H82 -> 1433 | J31: n.f.
B32: Sale of loans | C32: =C83 -> 85 | D32: =D83-C83 -> 66 | E32: =E83-D83 -> 37 | F32: =F83-E83 -> 880 | G32: =SUM(C32:F32) -> 1068 | H32: =H83 -> 132 | I32: =I83-H83 -> 472 | J32: n.f.
B33: Net increase in loans | C33: =C84 -> -1281 | D33: =D84-C84 -> -2004 | E33: =E84-D84 -> 566 | F33: =F84-E84 -> -1000 | G33: =SUM(C33:F33) -> -3719 | H33: =H84 -> -2858 | I33: =I84-H84 -> -3410 | J33: n.f.
B34: Business acquisitions, net of cash acquired | C34: =IF(ISNUMBER(C85),C85,"n.p.") -> n.p. | D34: =IF(AND(ISNUMBER(D85),ISNUMBER(C85)),D85-C85,"n.p.") -> n.p. | E34: =E85-D85 -> 0 | F34: =F85-E85 -> -286 | G34: =SUM(C34:F34) -> -286 | H34: =IF(ISNUMBER(H85),H85,"n.p.") -> n.p. | I34: =IF(AND(ISNUMBER(I85),ISNUMBER(H85)),I85-H85,"n.p.") -> n.p. | J34: n.f.
B35: Purchases of equity investments and other long-term assets | C35: =C86 -> -47 | D35: =D86-C86 -> -212 | E35: =E86-D86 -> -101 | F35: =F86-E86 -> -804 | G35: =SUM(C35:F35) -> -1164 | H35: =H86 -> -156 | I35: =I86-H86 -> -256 | J35: n.f.
B36: Purchases of premises and equipment, net (capex) | C36: =C87 -> -226 | D36: =D87-C87 -> -319 | E36: =E87-D87 -> -243 | F36: =F87-E87 -> -267 | G36: =SUM(C36:F36) -> -1055 | H36: =H87 -> -270 | I36: =I87-H87 -> -675 | J36: n.f.
B37: Other, net (investing) | C37: =C88 -> -103 | D37: =D88-C88 -> 258 | E37: =E88-D88 -> 96 | F37: =F88-E88 -> 393 | G37: =SUM(C37:F37) -> 644 | H37: =H88 -> 59 | I37: =I88-H88 -> 82 | J37: n.f.
B38: Net cash (used in) provided by investing activities | C38: =SUM(C26,C27,C28,C29,C30,C31,C32,C33,C34,C35,C36,C37) -> -14607 | D38: =SUM(D26,D27,D28,D29,D30,D31,D32,D33,D34,D35,D36,D37) -> -384 | E38: =SUM(E26,E27,E28,E29,E30,E31,E32,E33,E34,E35,E36,E37) -> 57 | F38: =SUM(F26,F27,F28,F29,F30,F31,F32,F33,F34,F35,F36,F37) -> 1943 | G38: =SUM(G26,G27,G28,G29,G30,G31,G32,G33,G34,G35,G36,G37) -> -12991 | H38: =SUM(H26,H27,H28,H29,H30,H31,H32,H33,H34,H35,H36,H37) -> -4383 | I38: =SUM(I26,I27,I28,I29,I30,I31,I32,I33,I34,I35,I36,I37) -> -25786 | J38: n.f.
B39: Financing activities
B40: Net (decrease) increase in time deposits | C40: =C89 -> 2663 | D40: =D89-C89 -> -4604 | E40: =E89-D89 -> 1164 | F40: =F89-E89 -> -2331 | G40: =SUM(C40:F40) -> -3108 | H40: =H89 -> -1097 | I40: =I89-H89 -> -415 | J40: n.f.
B41: Net increase in all other deposits | C41: =C90 -> 7469 | D41: =D90-C90 -> 15567 | E41: =E90-D90 -> -4188 | F41: =F90-E90 -> -4377 | G41: =SUM(C41:F41) -> 14471 | H41: =H90 -> 20086 | I41: =I90-H90 -> 26621 | J41: n.f.
B42: Net (decrease) increase in securities sold under repurchase agreements | C42: =C91 -> -157 | D42: =D91-C91 -> -1147 | E42: =E91-D91 -> -2171 | F42: =F91-E91 -> 635 | G42: =SUM(C42:F42) -> -2840 | H42: =H91 -> 128 | I42: =I91-H91 -> -574 | J42: n.f.
...

Sheet Geo
B2: State Street Corporation (NYSE: STT)
B3: Geography
B4: $ millions for revenue and pre-tax income; AUC/A, AUM and net flows in $ billions
B5: Fiscal period | C5: 1Q25A | D5: 2Q25A | E5: 3Q25A | F5: 4Q25A | G5: FY25A | H5: 1Q26A | I5: 2Q26A | J5: 3Q26E
B6: Period end | C6: =DATE(2025,3,31) -> 45747 | D6: =DATE(2025,6,30) -> 45838 | E6: =DATE(2025,9,30) -> 45930 | F6: =DATE(2025,12,31) -> 46022 | G6: =DATE(2025,12,31) -> 46022 | H6: =DATE(2026,3,31) -> 46112 | I6: =DATE(2026,6,30) -> 46203 | J6: =DATE(2026,9,30) -> 46295
B7: Days in period | C7: =C6-DATE(2024,12,31) -> 90 | D7: =D6-C6 -> 91 | E7: =E6-D6 -> 92 | F7: =F6-E6 -> 92 | G7: =G6-DATE(2024,12,31) -> 365 | H7: =H6-F6 -> 90 | I7: =I6-H6 -> 91 | J7: =J6-I6 -> 92
B9: Revenue by geography (annual disclosure only, 10-K Non-U.S. Activities note)
B10: U.S. total revenue | C10: n.d. | D10: n.d. | E10: n.d. | F10: n.d. | G10: 8008 | H10: n.d. | I10: n.d. | J10: n.d.
B11: Non-U.S. total revenue | C11: n.d. | D11: n.d. | E11: n.d. | F11: n.d. | G11: 5936 | H11: n.d. | I11: n.d. | J11: n.d.
B12: Total revenue by geography | G12: =G10+G11 -> 13944
B13: Check: geography sum - Income Statement total revenue (should be 0) | G13: =G12-'Income Statement'!G27 -> 0
B14: U.S. % of total revenue | G14: =G10/G12 -> 0.57429719
B15: Non-U.S. % of total revenue | G15: =G11/G12 -> 0.42570281
B16: Pre-tax income by geography (annual)
B17: U.S. income before income tax | G17: 2238
B18: Non-U.S. income before income tax | G18: 1493
B19: Check: geography sum - Income Statement pre-tax income (should be 0) | G19: =G17+G18-'Income Statement'!G65 -> 0
B21: AUC/A by geography (closing, $bn; domicile of servicing entity)
B22: Americas | C22: 33340 | D22: 35028 | E22: 36698 | F22: 37422 | G22: =F22 -> 37422 | H22: 37265 | I22: 40040 | J22: ='Segment - Investment Servicing'!J21*I22/I34 -> 40578.808
B23: % Y/Y | H23: =H22/C22-1 -> 0.11772645 | I23: =I22/D22-1 -> 0.14308553 | J23: =J22/E22-1 -> 0.10574985
B24: Q/Q chg (abs) | D24: =D22-C22 -> 1688 | E24: =E22-D22 -> 1670 | F24: =F22-E22 -> 724 | H24: =H22-F22 -> -157 | I24: =I22-H22 -> 2775 | J24: =J22-I22 -> 538.80783
B25: % of AUC/A | C25: =C22/C34 -> 0.7134145 | D25: =D22/D34 -> 0.71485714 | E25: =E22/E34 -> 0.71032053 | F25: =F22/F34 -> 0.69557621 | G25: =G22/G34 -> 0.69557621 | H25: =H22/H34 -> 0.68357333 | I25: =I22/I34 -> 0.69203913 | J25: =J22/'Segment - Investment Servicing'!J21 -> 0.69203913
B26: Europe / Middle East / Africa | C26: 10303 | D26: 10803 | E26: 11570 | F26: 12918 | G26: =F26 -> 12918 | H26: 13563 | I26: 14002 | J26: ='Segment - Investment Servicing'!J21*I26/I34 -> 14190.421
B27: % Y/Y | H27: =H26/C26-1 -> 0.3164127 | I27: =I26/D26-1 -> 0.29612145 | J27: =J26/E26-1 -> 0.22648412
B28: Q/Q chg (abs) | D28: =D26-C26 -> 500 | E28: =E26-D26 -> 767 | F28: =F26-E26 -> 1348 | H28: =H26-F26 -> 645 | I28: =I26-H26 -> 439 | J28: =J26-I26 -> 188.42126
B29: % of AUC/A | C29: =C26/C34 -> 0.2204652 | D29: =D26/D34 -> 0.22046939 | E29: =E26/E34 -> 0.22394704 | F29: =F26/F34 -> 0.24011152 | G29: =G26/G34 -> 0.24011152 | H29: =H26/H34 -> 0.24879391 | I29: =I26/I34 -> 0.24200629 | J29: =J26/'Segment - Investment Servicing'!J21 -> 0.24200629
B30: Asia-Pacific | C30: 3090 | D30: 3169 | E30: 3396 | F30: 3460 | G30: =F30 -> 3460 | H30: 3687 | I30: 3816 | J30: ='Segment - Investment Servicing'!J21*I30/I34 -> 3867.3509
B31: % Y/Y | H31: =H30/C30-1 -> 0.19320388 | I31: =I30/D30-1 -> 0.20416535 | J31: =J30/E30-1 -> 0.13879591
B32: Q/Q chg (abs) | D32: =D30-C30 -> 79 | E32: =E30-D30 -> 227 | F32: =F30-E30 -> 64 | H32: =H30-F30 -> 227 | I32: =I30-H30 -> 129 | J32: =J30-I30 -> 51.350916
B33: % of AUC/A | C33: =C30/C34 -> 0.0661203 | D33: =D30/D34 -> 0.064673469 | E33: =E30/E34 -> 0.065732425 | F33: =F30/F34 -> 0.064312268 | G33: =G30/G34 -> 0.064312268 | H33: =H30/H34 -> 0.067632762 | I33: =I30/I34 -> 0.065954578 | J33: =J30/'Segment - Investment Servicing'!J21 -> 0.065954578
B34: Total AUC/A by geography | C34: =C22+C26+C30 -> 46733 | D34: =D22+D26+D30 -> 49000 | E34: =E22+E26+E30 -> 51664 | F34: =F22+F26+F30 -> 53800 | G34: =G22+G26+G30 -> 53800 | H34: =H22+H26+H30 -> 54515 | I34: =I22+I26+I30 -> 57858 | J34: =J22+J26+J30 -> 58636.58
B35: Check: geography - closing AUC/A (should be 0; 3Q26E identity, mix held) | C35: =C34-'Segment - Investment Servicing'!C21 -> 0 | D35: =D34-'Segment - Investment Servicing'!D21 -> 0 | E35: =E34-'Segment - Investment Servicing'!E21 -> 0 | F35: =F34-'Segment - Investment Servicing'!F21 -> 0 | G35: =G34-'Segment - Investment Servicing'!G21 -> 0 | H35: =H34-'Segment - Investment Servicing'!H21 -> 0 | I35: =I34-'Segment - Investment Servicing'!I21 -> 0 | J35: =J34-'Segment - Investment Servicing'!J21 -> 0
B37: AUM by geography (closing, $bn; client or fund-management location)
B38: Americas | C38: 3431 | D38: 3713 | E38: 3982 | F38: 4155 | G38: =F38 -> 4155 | H38: 4108 | I38: 4573 | J38: ='Segment - Investment Management'!J43*I38/I50 -> 4648.716
B39: % Y/Y | H39: =H38/C38-1 -> 0.19731857 | I39: =I38/D38-1 -> 0.23161864 | J39: =J38/E38-1 -> 0.16743245
B40: Q/Q chg (abs) | D40: =D38-C38 -> 282 | E40: =E38-D38 -> 269 | F40: =F38-E38 -> 173 | H40: =H38-F38 -> -47 | I40: =I38-H38 -> 465 | J40: =J38-I38 -> 75.716002
B41: % of AUM | C41: =C38/C50 -> 0.73547696 | D41: =D38/D50 -> 0.72562048 | E41: =E38/E50 -> 0.73117885 | F41: =F38/F50 -> 0.73345102 | G41: =G38/G50 -> 0.73345102 | H41: =H38/H50 -> 0.73096085 | I41: =I38/I50 -> 0.72841669 | J41: =J38/'Segment - Investment Management'!J43 -> 0.72841669
B42: Europe / Middle East / Africa | C42: 690 | D42: 771 | E42: 806 | F42: 841 | G42: =F42 -> 841 | H42: 845 | I42: 956 | J42: ='Segment - Investment Management'!J43*I42/I50 -> 971.82867
B43: % Y/Y | H43: =H42/C42-1 -> 0.22463768 | I43: =I42/D42-1 -> 0.23994812 | J43: =J42/E42-1 -> 0.20574276
B44: Q/Q chg (abs) | D44: =D42-C42 -> 81 | E44: =E42-D42 -> 35 | F44: =F42-E42 -> 35 | H44: =H42-F42 -> 4 | I44: =I42-H42 -> 111 | J44: =J42-I42 -> 15.828668
...

Sheet Share Count
B2: State Street Corporation (NYSE: STT)
B3: Share Count
B4: Shares in millions; repurchase cost and dividends in $ millions; prices and DPS in $ per share
B5: Fiscal period | C5: 1Q25A | D5: 2Q25A | E5: 3Q25A | F5: 4Q25A | G5: FY25A | H5: 1Q26A | I5: 2Q26A | J5: 3Q26E
B6: Period end | C6: =DATE(2025,3,31) -> 45747 | D6: =DATE(2025,6,30) -> 45838 | E6: =DATE(2025,9,30) -> 45930 | F6: =DATE(2025,12,31) -> 46022 | G6: =DATE(2025,12,31) -> 46022 | H6: =DATE(2026,3,31) -> 46112 | I6: =DATE(2026,6,30) -> 46203 | J6: =DATE(2026,9,30) -> 46295
B7: Days in period | C7: =C6-DATE(2024,12,31) -> 90 | D7: =D6-C6 -> 91 | E7: =E6-D6 -> 92 | F7: =F6-E6 -> 92 | G7: =G6-DATE(2024,12,31) -> 365 | H7: =H6-F6 -> 90 | I7: =I6-H6 -> 91 | J7: =J6-I6 -> 92
B9: Common shares (millions)
B10: Opening common shares outstanding | C10: 288.767 | D10: =C23 -> 288.676 | E10: =D23 -> 285.562 | F10: =E23 -> 282.218 | G10: =C10 -> 288.767 | H10: =F23 -> 279.078 | I10: =H23 -> 276.925 | J10: =I23 -> 274.703
B11: Shares repurchased under program | C11: 1 | D11: 3.5 | E11: 3.6 | F11: n.d. | G11: n.a. | H11: 3.2 | I11: 2.5 | J11: =J17/J14 -> 2.7322404
B12: % Y/Y | H12: =H11/C11-1 -> 2.2 | I12: =I11/D11-1 -> -0.28571429 | J12: =J11/E11-1 -> -0.24104432
B13: Q/Q chg (abs) | D13: =D11-C11 -> 2.5 | E13: =E11-D11 -> 0.1 | I13: =I11-H11 -> -0.7 | J13: =J11-I11 -> 0.23224044
B14: Average repurchase price ($) | C14: 99.6 | D14: 85.78 | E14: 110.34 | F14: n.d. | G14: n.a. | H14: 125.94 | I14: 159.63 | J14: 183
B15: % Y/Y | H15: =H14/C14-1 -> 0.26445783 | I15: =I14/D14-1 -> 0.86092329 | J15: =J14/E14-1 -> 0.65851006
B16: Q/Q chg (abs) | D16: =D14-C14 -> -13.82 | E16: =E14-D14 -> 24.56 | I16: =I14-H14 -> 33.69 | J16: =J14-I14 -> 23.37
B17: Repurchase cost ($m) | C17: =-'Cash Flow Statement'!C47 -> 100 | D17: =-'Cash Flow Statement'!D47 -> 300 | E17: =-'Cash Flow Statement'!E47 -> 400 | F17: =-'Cash Flow Statement'!F47 -> 400 | G17: =SUM(C17:F17) -> 1200 | H17: =-'Cash Flow Statement'!H47 -> 400 | I17: =-'Cash Flow Statement'!I47 -> 400 | J17: 500
B18: % Y/Y | H18: =H17/C17-1 -> 3 | I18: =I17/D17-1 -> 0.33333333 | J18: =J17/E17-1 -> 0.25
