Workbook

Sheet Cover
B2: Taiwan Semiconductor Manufacturing Company Limited (NYSE: TSM | TWSE: 2330)
B3: Company Model — built by Shortcut
B4: TWD millions, except per-share data (EPS in NT$ per ordinary share and US$ per ADR)
B5: Period | C5: 3Q26E
B6: Period end | C6: 46295
B7: Days in period | C7: =C6-DATE(2026,6,30) -> 92
B9: Company profile
B10: Author | C10: Shortcut (Company Model — built by Shortcut)
B11: Company | C11: Taiwan Semiconductor Manufacturing Company Limited (TSMC)
B12: Ticker / exchange | C12: NYSE: TSM (ADR; 1 ADR = 5 ordinary shares) | TWSE: 2330
B13: Fiscal year end | C13: December 31 (CapIQ fiscal_year_end: Dec-31)
B14: Reporting currency | C14: TWD (New Taiwan dollar), TIFRS consolidated; headline EPS in USD per ADR
B15: Forecast period | C15: 3Q26E = FQ3 2026, quarter ended 2026-09-30 (CapIQ label "FQ3 2026 - Sep 2026", 2026-09-30; calendar quarter-end confirmed)
B16: EPS basis | C16: Normalized diluted EPS, USD per ADR (CapIQ) = diluted NT$ EPS x 5 / average TWD per USD
B17: Information cutoff | C17: 2026-10-11 22:24:20 UTC (only sources published before this time)
B18: Expected report date | C18: 2026-10-15, results before 14:00 Asia/Taipei conference (TSMC); CapIQ expected_report_date 2026-10-16
B19: Consensus snapshot | C19: S&P Capital IQ, captured 2026-10-11 (date precision only, no intraday timestamp; scoring baseline, frozen)
B21: Headline 3Q26E: Shortcut estimate vs consensus vs guidance midpoint
B22: Metric (TWD m unless stated) | C22: Shortcut 3Q26E | D22: Consensus | E22: Variance | F22: Variance % | G22: Guide mid* | H22: Est. vs guide
B23: Net revenue | C23: ='Revenue summary'!J20 -> 1494243 | D23: =Inputs!C55 -> 1457602.4 | E23: =C23-D23 -> 36640.56 | F23: =C23/D23-1 -> 0.025137554 | G23: =Guidance!C51 -> 1446400 | H23: =C23/G23-1 -> 0.033077295
B24: Net revenue (USD m) | C24: ='Revenue summary'!J30 -> 46700.785 | D24: n/a | E24: n/a | F24: n/a | G24: =Guidance!G35*1000 -> 45200 | H24: =C24/G24-1 -> 0.033203217
B25: Gross margin | C25: ='Income Statement'!J19 -> 0.672 | D25: n/a (blank) | E25: n/a | F25: n/a | G25: =Guidance!G36 -> 0.66 | H25: =(C25-G25)*10000 -> 120
B26: Operating income | C26: ='Income Statement'!J46 -> 899712.5 | D26: =Inputs!C65 -> 849572.78 | E26: =C26-D26 -> 50139.716 | F26: =C26/D26-1 -> 0.059017564 | G26: =Guidance!C52 -> 824448 | H26: =C26/G26-1 -> 0.091290774
B27: Operating margin | C27: ='Income Statement'!J49 -> 0.60211926 | D27: =D26/D23 -> 0.58285631 | E27: =(C27-D27)*10000 -> 192.62954 | F27: n/a | G27: =Guidance!G37 -> 0.57 | H27: =(C27-G27)*10000 -> 321.19264
B28: Net income — normalized basis | C28: ='Income Statement'!J112 -> 784828.56 | D28: =Inputs!C68 -> 733207.07 | E28: =C28-D28 -> 51621.489 | F28: =C28/D28-1 -> 0.070405062 | G28: =Guidance!C57 -> 721230.06 | H28: =C28/G28-1 -> 0.0881806
B29: Net income — GAAP (TIFRS) | C29: ='Income Statement'!J81 -> 784828.56 | D29: =Inputs!C69 -> 724002.61 | E29: =C29-D29 -> 60825.949 | F29: =C29/D29-1 -> 0.084013439 | G29: =Guidance!C57 -> 721230.06 | H29: =C29/G29-1 -> 0.0881806
B30: Normalized dil. EPS (US$/ADR) | C30: ='Income Statement'!J114 -> 4.7295038 | D30: =Inputs!C39 -> 4.46 | E30: =C30-D30 -> 0.26950381 | F30: =C30/D30-1 -> 0.060426862 | G30: =Guidance!C59 -> 4.3457193 | H30: =C30/G30-1 -> 0.088313238
B31: GAAP dil. EPS (US$/ADR) | C31: ='Income Statement'!J101 -> 4.7295038 | D31: =Inputs!C48 -> 4.43 | E31: =C31-D31 -> 0.29950381 | F31: =C31/D31-1 -> 0.067608083 | G31: =Guidance!C59 -> 4.3457193 | H31: =C31/G31-1 -> 0.088313238
B32: Diluted EPS (NT$/share) | C32: ='Income Statement'!J94 -> 30.265135 | D32: n/a (ADR basis) | E32: n/a | F32: n/a | G32: =Guidance!C58 -> 27.812603 | H32: =C32/G32-1 -> 0.0881806
B33: Contributors: normalized EPS (n) | C33: n/a | D33: =Inputs!C44 -> 8 | E33: n/a | F33: n/a | G33: n/a | H33: n/a
B34: Contributors: revenue (n) | C34: n/a | D34: =Inputs!C60 -> 27 | E34: n/a | F34: n/a | G34: n/a | H34: n/a
B35: Overall check result | C35: =IF(AND(MAX('Revenue summary'!C122:J122)=0,MIN('Revenue summary'!C122:J122)=0,AND('Revenue summary'!C166:J166),MAX(Geo!C62:J62)=0,MIN(Geo!C62:J62)=0,MAX('Balance Sheet'!C73:J73)=0,MIN('Balance Sheet'!C73:J73)=0,MAX('Cash Flow Statement'!C65:J65)=0,MIN('Cash Flow Statement'!C65:J65)=0,AND('Income Statement'!C105:J105),C38,MAX('Income Statement'!C98:I98)<=0.005,MIN('Income Statement'!C98:I98)>=-0.005,MAX('Revenue summary'!C21:J21)<=1,MIN('Revenue summary'!C21:J21)>=-1),"PASS","FAIL") -> PASS | D35: Includes BS/CF rollforward ties; mix-integrity and link checks (true by construction); reported vs calculated NT$ EPS within ±0.005 and revenue within ±NT$1m (rounding). Arithmetic consistency only: 3Q26E ties hold by construction and are not acceptance evidence
B36: P(beat consensus EPS) | C36: =Inputs!C126 -> 0.92028571
B37: Confidence | C37: =Inputs!C127 -> high
B38: Link check: Cover ties (TRUE) | C38: =AND(ROUND(C23-'Revenue summary'!J20,6)=0,ROUND(C28-'Income Statement'!J112,6)=0,ROUND(C30-'Income Statement'!J114,9)=0,ROUND(C31-'Income Statement'!J101,9)=0,ROUND(C29-'Income Statement'!J81,6)=0) -> TRUE | D38: Link check only: Cover cells compared with the cells they link to (true by construction, not independent validation)
B39: * Guide mid: revenue, GM and OM are TSMC guidance midpoints; NI and EPS are Shortcut-implied from those midpoints (TSMC does not guide NI/EPS) — see Guidance tab
B40: Consensus operating income/margin (D26:D27) = CapIQ ebit_m used as a proxy; CapIQ EBIT definition may differ from TIFRS operating income, so E26:F26 and E27 are indicative, not like-for-like. Margin differences E27, H25, H27 shown in bps.
B41: Other consensus references at the cutoff (recorded separately; not the scoring baseline)
B42: Reference | C42: Value | D42: Published | E42: Source
B43: LSEG SmartEst. revenue (19 ests) | C43: 1460000 | D43: 46303 | E43: S24 TrendForce citing Reuters/LSEG
...

Sheet Revenue summary
B2: Taiwan Semiconductor Manufacturing Company Limited (NYSE: TSM | TWSE: 2330)
B3: Revenue summary — single reported segment (foundry); revenue drivers built here
B4: TWD millions, except per-share data (EPS in NT$ per ordinary share and US$ per ADR)
B5: Period | C5: 1Q25A | D5: 2Q25A | E5: 3Q25A | F5: 4Q25A | G5: FY25A | H5: 1Q26A | I5: 2Q26A | J5: 3Q26E | K5: Notes
B6: Period end | C6: 45747 | D6: 45838 | E6: 45930 | F6: 46022 | G6: 46022 | H6: 46112 | I6: 46203 | J6: 46295
B7: Days in period | C7: =C6-DATE(2024,12,31) -> 90 | D7: =D6-C6 -> 91 | E7: =E6-D6 -> 92 | F7: =F6-E6 -> 92 | G7: =G6-DATE(2024,12,31) -> 365 | H7: =H6-F6 -> 90 | I7: =I6-H6 -> 91 | J7: =J6-I6 -> 92
B9: Net revenue build from monthly revenue reports
B10: Month 1 (Jan/Apr/Jul/Oct) | C10: 293288 | D10: 349567 | E10: 323166 | F10: 367473 | G10: n/a | H10: 401255 | I10: 410726 | J10: 467580
B11: % Y/Y | C11: n/a | D11: n/a | E11: n/a | F11: n/a | G11: n/a | H11: =H10/C10-1 -> 0.36812621 | I11: =I10/D10-1 -> 0.17495645 | J11: =J10/E10-1 -> 0.44687251
B12: Seq. change (abs.) | C12: n/a | D12: =D10-C10 -> 56279 | E12: =E10-D10 -> -26401 | F12: =F10-E10 -> 44307 | G12: n/a | H12: =H10-F10 -> 33782 | I12: =I10-H10 -> 9471 | J12: =J10-I10 -> 56854
B13: Month 2 (Feb/May/Aug/Nov) | C13: 260009 | D13: 320516 | E13: 335772 | F13: 343614 | G13: n/a | H13: 317657 | I13: 416975 | J13: 514806
B14: % Y/Y | C14: n/a | D14: n/a | E14: n/a | F14: n/a | G14: n/a | H14: =H13/C13-1 -> 0.2217154 | I14: =I13/D13-1 -> 0.30094909 | J14: =J13/E13-1 -> 0.5332011
B15: Seq. change (abs.) | C15: n/a | D15: =D13-C13 -> 60507 | E15: =E13-D13 -> 15256 | F15: =F13-E13 -> 7842 | G15: n/a | H15: =H13-F13 -> -25957 | I15: =I13-H13 -> 99318 | J15: =J13-I13 -> 97831
B16: Month 3 (Mar/Jun/Sep/Dec) | C16: 285957 | D16: 263709 | E16: 330980 | F16: 335003 | G16: n/a | H16: 415191 | I16: 442680 | J16: 511857
B17: % Y/Y | C17: n/a | D17: n/a | E17: n/a | F17: n/a | G17: n/a | H17: =H16/C16-1 -> 0.45193508 | I17: =I16/D16-1 -> 0.67866853 | J17: =J16/E16-1 -> 0.54648921
B18: Seq. change (abs.) | C18: n/a | D18: =D16-C16 -> -22248 | E18: =E16-D16 -> 67271 | F18: =F16-E16 -> 4023 | G18: n/a | H18: =H16-F16 -> 80188 | I18: =I16-H16 -> 27489 | J18: =J16-I16 -> 69177
B19: Sum of monthly revenue reports | C19: =SUM(C10,C13,C16) -> 839254 | D19: =SUM(D10,D13,D16) -> 933792 | E19: =SUM(E10,E13,E16) -> 989918 | F19: =SUM(F10,F13,F16) -> 1046090 | G19: =SUM(C19:F19) -> 3809054 | H19: =SUM(H10,H13,H16) -> 1134103 | I19: =SUM(I10,I13,I16) -> 1270381 | J19: =SUM(J10,J13,J16) -> 1494243
B20: Net revenue (TWD m) | C20: =Inputs!I101 -> 839254 | D20: =Inputs!I102 -> 933792 | E20: =Inputs!I103 -> 989918 | F20: =Inputs!I104 -> 1046090 | G20: =SUM(C20:F20) -> 3809054 | H20: =Inputs!I105 -> 1134103 | I20: =Inputs!I106 -> 1270380 | J20: =J19 -> 1494243 | K20: Actuals: CapIQ revenue_m_actual (Inputs). 3Q26E = Jul+Aug+Sep monthly reports (published before cutoff)
B21: Reported less monthly sum | C21: =C20-C19 -> 0 | D21: =D20-D19 -> 0 | E21: =E20-E19 -> 0 | F21: =F20-F19 -> 0 | G21: =G20-G19 -> 0 | H21: =H20-H19 -> 0 | I21: =I20-I19 -> -1 | J21: =J20-J19 -> 0 | K21: 2Q26: CapIQ/company 1,270,380 vs monthly sum 1,270,381 (monthly reports rounded to NT$1m)
B22: % Y/Y | C22: n/a | D22: n/a | E22: n/a | F22: n/a | G22: n/a | H22: =H20/C20-1 -> 0.35132272 | I22: =I20/D20-1 -> 0.36045286 | J22: =J20/E20-1 -> 0.50946139
B23: % Q/Q | C23: n/a | D23: =D20/C20-1 -> 0.11264528 | E23: =E20/D20-1 -> 0.060105462 | F23: =F20/E20-1 -> 0.056744094 | G23: n/a | H23: =H20/F20-1 -> 0.084135208 | I23: =I20/H20-1 -> 0.12016281 | J23: =J20/I20-1 -> 0.17621735
B24: Seq. change (abs.) | C24: n/a | D24: =D20-C20 -> 94538 | E24: =E20-D20 -> 56126 | F24: =F20-E20 -> 56172 | G24: n/a | H24: =H20-F20 -> 88013 | I24: =I20-H20 -> 136277 | J24: =J20-I20 -> 223863
B26: FX and US-dollar revenue
B27: Avg exchange rate (TWD/USD) | C27: 32.88 | D27: 31.05 | E27: 29.91 | F27: 31.01 | G27: =G20/G30 -> 31.112097 | H27: 31.59 | I27: 31.6 | J27: 31.9961 | K27: 3Q26E = mean of Fed H.10 daily NT$/US$ rates, 1-Jul to 30-Sep-2026 (H.10 tracked TSMC avg within 0.04 in 5 of 6 quarters). Guidance assumed 32.0. FY25A G27 = revenue-implied FX (NT$ revenue / US$ revenue), an approximation, not an average of daily rates
B28: % Y/Y | C28: n/a | D28: n/a | E28: n/a | F28: n/a | G28: n/a | H28: =H27/C27-1 -> -0.039233577 | I28: =I27/D27-1 -> 0.017713366 | J28: =J27/E27-1 -> 0.069745904
B29: Seq. change (abs.) | C29: n/a | D29: =D27-C27 -> -1.83 | E29: =E27-D27 -> -1.14 | F29: =F27-E27 -> 1.1 | G29: n/a | H29: =H27-F27 -> 0.58 | I29: =I27-H27 -> 0.01 | J29: =J27-I27 -> 0.3961
B30: Net revenue (USD m) | C30: 25530 | D30: 30070 | E30: 33100 | F30: 33730 | G30: =SUM(C30:F30) -> 122430 | H30: 35900 | I30: 40200 | J30: =J20/J27 -> 46700.785 | K30: FY25 = sum of quarters (US$122.43bn) vs reported US$122.42bn (rounding)
B31: % Y/Y | C31: n/a | D31: n/a | E31: n/a | F31: n/a | G31: n/a | H31: =H30/C30-1 -> 0.4061888 | I31: =I30/D30-1 -> 0.33688061 | J31: =J30/E30-1 -> 0.41089986
B32: % Q/Q | C32: n/a | D32: =D30/C30-1 -> 0.17783 | E32: =E30/D30-1 -> 0.10076488 | F32: =F30/E30-1 -> 0.019033233 | G32: n/a | H32: =H30/F30-1 -> 0.06433442 | I32: =I30/H30-1 -> 0.11977716 | J32: =J30/I30-1 -> 0.16171108
B33: Seq. change (abs.) | C33: n/a | D33: =D30-C30 -> 4540 | E33: =E30-D30 -> 3030 | F33: =F30-E30 -> 630 | G33: n/a | H33: =H30-F30 -> 2170 | I33: =I30-H30 -> 4300 | J33: =J30-I30 -> 6500.7854
B34: Guidance midpoint (USD m) | C34: =Guidance!G11*1000 -> 25400 | D34: =Guidance!G15*1000 -> 28800 | E34: =Guidance!G19*1000 -> 32400 | F34: =Guidance!G23*1000 -> 32800 | H34: =Guidance!G27*1000 -> 35200 | I34: =Guidance!G31*1000 -> 39600 | J34: =Guidance!G35*1000 -> 45200
B35: USD revenue vs guidance midpoint | C35: =C30/C34-1 -> 0.0051181102 | D35: =D30/D34-1 -> 0.044097222 | E35: =E30/E34-1 -> 0.021604938 | F35: =F30/F34-1 -> 0.028353659 | H35: =H30/H34-1 -> 0.019886364 | I35: =I30/I34-1 -> 0.015151515 | J35: =J30/J34-1 -> 0.033203217
B36: Implied FX (TWD rev / USD rev) | C36: =C20/C30 -> 32.873247 | D36: =D20/D30 -> 31.053941 | E36: =E20/E30 -> 29.906888 | F36: =F20/F30 -> 31.013638 | G36: =G20/G30 -> 31.112097 | H36: =H20/H30 -> 31.590613 | I36: =I20/I30 -> 31.601493 | J36: =J20/J30 -> 31.9961
B38: Growth decomposition — total net revenue
B39: Total Y/Y (reported, TWD) | C39: n/a | D39: n/a | E39: n/a | F39: n/a | G39: n/a | H39: =H22 -> 0.35132272 | I39: =I22 -> 0.36045286 | J39: =J22 -> 0.50946139
B40: FX impact on Y/Y (derived) | C40: n/a | D40: n/a | E40: n/a | F40: n/a | G40: n/a | H40: =(1+H22)/(1+H31)-1 -> -0.039017574 | I40: =(1+I22)/(1+I31)-1 -> 0.017632278 | J40: =(1+J22)/(1+J31)-1 -> 0.06985721 | K40: FX impact = (1+TWD Y/Y)/(1+USD Y/Y)-1 from reported TWD and USD revenue
B41: M&A / scope impact | C41: unavailable | D41: unavailable | E41: unavailable | F41: unavailable | G41: unavailable | H41: unavailable | I41: unavailable | J41: unavailable | K41: Not disclosed by TSMC (no acquisitions reported); left unavailable, not zero
B42: Organic Y/Y | C42: unavailable | D42: unavailable | E42: unavailable | F42: unavailable | G42: unavailable | H42: unavailable | I42: unavailable | J42: unavailable | K42: Unavailable because M&A/scope is not disclosed; constant-currency growth shown where derivable
B43: Constant-currency Y/Y (USD) | C43: n/a | D43: n/a | E43: n/a | F43: n/a | G43: n/a | H43: =H31 -> 0.4061888 | I43: =I31 -> 0.33688061 | J43: =J31 -> 0.41089986
B45: Wafer shipments and blended revenue per wafer
...

Sheet Income Statement
B2: Taiwan Semiconductor Manufacturing Company Limited (NYSE: TSM | TWSE: 2330)
B3: Income Statement (TIFRS, consolidated) — to GAAP diluted EPS, normalized bridge and ADR conversion
B4: TWD millions, except per-share data (EPS in NT$ per ordinary share and US$ per ADR)
B5: Period | C5: 1Q25A | D5: 2Q25A | E5: 3Q25A | F5: 4Q25A | G5: FY25A | H5: 1Q26A | I5: 2Q26A | J5: 3Q26E | K5: Notes
B6: Period end | C6: 45747 | D6: 45838 | E6: 45930 | F6: 46022 | G6: 46022 | H6: 46112 | I6: 46203 | J6: 46295
B7: Days in period | C7: =C6-DATE(2024,12,31) -> 90 | D7: =D6-C6 -> 91 | E7: =E6-D6 -> 92 | F7: =F6-E6 -> 92 | G7: =G6-DATE(2024,12,31) -> 365 | H7: =H6-F6 -> 90 | I7: =I6-H6 -> 91 | J7: =J6-I6 -> 92
B9: Net revenue | C9: ='Revenue summary'!C20 -> 839254 | D9: ='Revenue summary'!D20 -> 933792 | E9: ='Revenue summary'!E20 -> 989918 | F9: ='Revenue summary'!F20 -> 1046090 | G9: ='Revenue summary'!G20 -> 3809054 | H9: ='Revenue summary'!H20 -> 1134103 | I9: ='Revenue summary'!I20 -> 1270380 | J9: ='Revenue summary'!J20 -> 1494243
B10: % Y/Y | C10: n/a | D10: n/a | E10: n/a | F10: n/a | G10: n/a | H10: =H9/C9-1 -> 0.35132272 | I10: =I9/D9-1 -> 0.36045286 | J10: =J9/E9-1 -> 0.50946139
B11: % Q/Q | C11: n/a | D11: =D9/C9-1 -> 0.11264528 | E11: =E9/D9-1 -> 0.060105462 | F11: =F9/E9-1 -> 0.056744094 | G11: n/a | H11: =H9/F9-1 -> 0.084135208 | I11: =I9/H9-1 -> 0.12016281 | J11: =J9/I9-1 -> 0.17621735
B12: GM assumption (3Q26E) | J12: 0.672 | K12: Guide 65-67% at 32.0 FX; actual beat guide midpoint by +120 to +300bps in last 4 qtrs; revenue now 3.3% above guide midpoint; N2 dilution (3-4pts) already in guide
B13: Cost of revenue | C13: -345850 | D13: -386420 | E13: -401380 | F13: -394100 | G13: =SUM(C13:F13) -> -1527750 | H13: -382800 | I13: -410070 | J13: =-J9*(1-J12) -> -490111.7
B14: % Y/Y | C14: n/a | D14: n/a | E14: n/a | F14: n/a | G14: n/a | H14: =H13/C13-1 -> 0.10683822 | I14: =I13/D13-1 -> 0.061202836 | J14: =J13/E13-1 -> 0.22106658
B15: Seq. change (abs.) | C15: n/a | D15: =D13-C13 -> -40570 | E15: =E13-D13 -> -14960 | F15: =F13-E13 -> 7280 | G15: n/a | H15: =H13-F13 -> 11300 | I15: =I13-H13 -> -27270 | J15: =J13-I13 -> -80041.704
B16: Gross profit | C16: =C9+C13 -> 493404 | D16: =D9+D13 -> 547372 | E16: =E9+E13 -> 588538 | F16: =F9+F13 -> 651990 | G16: =G9+G13 -> 2281304 | H16: =H9+H13 -> 751303 | I16: =I9+I13 -> 860310 | J16: =J9+J13 -> 1004131.3
B17: % Y/Y | C17: n/a | D17: n/a | E17: n/a | F17: n/a | G17: n/a | H17: =H16/C16-1 -> 0.52269337 | I17: =I16/D16-1 -> 0.57170992 | J17: =J16/E16-1 -> 0.70614522
B18: % Q/Q | C18: n/a | D18: =D16/C16-1 -> 0.10937893 | E18: =E16/D16-1 -> 0.075206624 | F18: =F16/E16-1 -> 0.10781292 | G18: n/a | H18: =H16/F16-1 -> 0.15232289 | I18: =I16/H16-1 -> 0.1450906 | J18: =J16/I16-1 -> 0.1671738
B19: Gross margin | C19: =C16/C9 -> 0.58790783 | D19: =D16/D9 -> 0.58618193 | E19: =E16/E9 -> 0.59453207 | F19: =F16/F9 -> 0.62326377 | G19: =G16/G9 -> 0.59891616 | H19: =H16/H9 -> 0.66246452 | I19: =I16/I9 -> 0.67720682 | J19: =J16/J9 -> 0.672
B20: Chg Y/Y (bps) | C20: n/a | D20: n/a | E20: n/a | F20: n/a | G20: n/a | H20: =(H19-C19)*10000 -> 745.56688 | I20: =(I19-D19)*10000 -> 910.24887 | J20: =(J19-E19)*10000 -> 774.67928
B21: Chg Q/Q (bps) | C21: n/a | D21: =(D19-C19)*10000 -> -17.25899 | E21: =(E19-D19)*10000 -> 83.501389 | F21: =(F19-E19)*10000 -> 287.317 | G21: n/a | H21: =(H19-F19)*10000 -> 392.00748 | I21: =(I19-H19)*10000 -> 147.423 | J21: =(J19-I19)*10000 -> -52.0682
B22: Research & development | C22: -56550 | D22: -61280 | E22: -63740 | F22: -64860 | G22: =SUM(C22:F22) -> -246430 | H22: -67760 | I22: -73140 | J22: =I22*(1+J23) -> -77528.4
B23: % Q/Q (3Q26E = assumption) | C23: n/a | D23: =D22/C22-1 -> 0.083642794 | E23: =E22/D22-1 -> 0.040143603 | F23: =F22/E22-1 -> 0.017571384 | G23: n/a | H23: =H22/F22-1 -> 0.044711687 | I23: =I22/H22-1 -> 0.079397875 | J23: 0.06 | K23: 3Q26E +6% Q/Q: N2/A16/A14 development; +7.9% in 2Q26, +4.5% in 1Q26
B24: % Y/Y | C24: n/a | D24: n/a | E24: n/a | F24: n/a | G24: n/a | H24: =H22/C22-1 -> 0.19823165 | I24: =I22/D22-1 -> 0.19353786 | J24: =J22/E22-1 -> 0.21632256
B25: Seq. change (abs.) | C25: n/a | D25: =D22-C22 -> -4730 | E25: =E22-D22 -> -2460 | F25: =F22-E22 -> -1120 | G25: n/a | H25: =H22-F22 -> -2900 | I25: =I22-H22 -> -5380 | J25: =J22-I22 -> -4388.4
B26: % of net revenue | C26: =-C22/C9 -> 0.06738127 | D26: =-D22/D9 -> 0.065624893 | E26: =-E22/E9 -> 0.064389172 | F26: =-F22/F9 -> 0.062002313 | G26: =-G22/G9 -> 0.064695854 | H26: =-H22/H9 -> 0.05974766 | I26: =-I22/I9 -> 0.057573325 | J26: =-J22/J9 -> 0.051884734
B27: Chg Y/Y (bps) | C27: n/a | D27: n/a | E27: n/a | F27: n/a | G27: n/a | H27: =(H26-C26)*10000 -> -76.3361 | I27: =(I26-D26)*10000 -> -80.515684 | J27: =(J26-E26)*10000 -> -125.04438
B28: Chg Q/Q (bps) | C28: n/a | D28: =(D26-C26)*10000 -> -17.563766 | E28: =(E26-D26)*10000 -> -12.357213 | F28: =(F26-E26)*10000 -> -23.868583 | G28: n/a | H28: =(H26-F26)*10000 -> -22.546538 | I28: =(I26-H26)*10000 -> -21.743351 | J28: =(J26-I26)*10000 -> -56.885909
B29: Selling, general & administrative | C29: -28640 | D29: -23230 | E29: -24020 | F29: -23330 | G29: =SUM(C29:F29) -> -99220 | H29: -26250 | I29: -25840 | J29: =I29*(1+J30) -> -27390.4
B30: % Q/Q (3Q26E = assumption) | C30: n/a | D30: =D29/C29-1 -> -0.18889665 | E30: =E29/D29-1 -> 0.034007749 | F30: =F29/E29-1 -> -0.028726062 | G30: n/a | H30: =H29/F29-1 -> 0.12516074 | I30: =I29/H29-1 -> -0.015619048 | J30: 0.06 | K30: 3Q26E +6% Q/Q: profit-linked compensation accrues with earnings
B31: % Y/Y | C31: n/a | D31: n/a | E31: n/a | F31: n/a | G31: n/a | H31: =H29/C29-1 -> -0.083449721 | I31: =I29/D29-1 -> 0.11235471 | J31: =J29/E29-1 -> 0.1403164
B32: Seq. change (abs.) | C32: n/a | D32: =D29-C29 -> 5410 | E32: =E29-D29 -> -790 | F32: =F29-E29 -> 690 | G32: n/a | H32: =H29-F29 -> -2920 | I32: =I29-H29 -> 410 | J32: =J29-I29 -> -1550.4
B33: % of net revenue | C33: =-C29/C9 -> 0.034125545 | D33: =-D29/D9 -> 0.02487706 | E33: =-E29/E9 -> 0.024264636 | F33: =-F29/F9 -> 0.022302096 | G33: =-G29/G9 -> 0.026048462 | H33: =-H29/H9 -> 0.023146046 | I33: =-I29/I9 -> 0.020340371 | J33: =-J29/J9 -> 0.01833062
B34: Chg Y/Y (bps) | C34: n/a | D34: n/a | E34: n/a | F34: n/a | G34: n/a | H34: =(H33-C33)*10000 -> -109.79499 | I34: =(I33-D33)*10000 -> -45.366898 | J34: =(J33-E33)*10000 -> -59.340165
B35: Chg Q/Q (bps) | C35: n/a | D35: =(D33-C33)*10000 -> -92.484844 | E35: =(E33-D33)*10000 -> -6.1242436 | F35: =(F33-E33)*10000 -> -19.625397 | G35: n/a | H35: =(H33-F33)*10000 -> 8.4394944 | I35: =(I33-H33)*10000 -> -28.056752 | J35: =(J33-I33)*10000 -> -20.09751
B36: Total operating expenses | C36: =C22+C29 -> -85190 | D36: =D22+D29 -> -84510 | E36: =E22+E29 -> -87760 | F36: =F22+F29 -> -88190 | G36: =G22+G29 -> -345650 | H36: =H22+H29 -> -94010 | I36: =I22+I29 -> -98980 | J36: =J22+J29 -> -104918.8
B37: % Y/Y | C37: n/a | D37: n/a | E37: n/a | F37: n/a | G37: n/a | H37: =H36/C36-1 -> 0.10353328 | I37: =I36/D36-1 -> 0.17122234 | J37: =J36/E36-1 -> 0.1955196
B38: % Q/Q | C38: n/a | D38: =D36/C36-1 -> -0.0079821575 | E38: =E36/D36-1 -> 0.038456987 | F38: =F36/E36-1 -> 0.0048997265 | G38: n/a | H38: =H36/F36-1 -> 0.065993877 | I38: =I36/H36-1 -> 0.052866716 | J38: =J36/I36-1 -> 0.06
B39: Seq. change (abs.) | C39: n/a | D39: =D36-C36 -> 680 | E39: =E36-D36 -> -3250 | F39: =F36-E36 -> -430 | G39: n/a | H39: =H36-F36 -> -5820 | I39: =I36-H36 -> -4970 | J39: =J36-I36 -> -5938.8
B40: % of net revenue | C40: =-C36/C9 -> 0.10150681 | D40: =-D36/D9 -> 0.090501953 | E40: =-E36/E9 -> 0.088653808 | F40: =-F36/F9 -> 0.08430441 | G40: =-G36/G9 -> 0.090744316 | H40: =-H36/H9 -> 0.082893705 | I40: =-I36/I9 -> 0.077913695 | J40: =-J36/J9 -> 0.070215353
B41: Chg Y/Y (bps) | C41: n/a | D41: n/a | E41: n/a | F41: n/a | G41: n/a | H41: =(H40-C40)*10000 -> -186.13109 | I41: =(I40-D40)*10000 -> -125.88258 | J41: =(J40-E40)*10000 -> -184.38454
B42: Chg Q/Q (bps) | C42: n/a | D42: =(D40-C40)*10000 -> -110.04861 | E42: =(E40-D40)*10000 -> -18.481456 | F42: =(F40-E40)*10000 -> -43.493979 | G42: n/a | H42: =(H40-F40)*10000 -> -14.107043 | I42: =(I40-H40)*10000 -> -49.800103 | J42: =(J40-I40)*10000 -> -76.983419
...

Sheet Balance Sheet
B2: Taiwan Semiconductor Manufacturing Company Limited (NYSE: TSM | TWSE: 2330)
B3: Balance Sheet (selected reported items; other lines derived from reported totals)
B4: TWD millions, except per-share data (EPS in NT$ per ordinary share and US$ per ADR)
B5: Period | C5: 1Q25A | D5: 2Q25A | E5: 3Q25A | F5: 4Q25A | G5: FY25A | H5: 1Q26A | I5: 2Q26A | J5: 3Q26E | K5: Notes
B6: Period end | C6: 45747 | D6: 45838 | E6: 45930 | F6: 46022 | G6: 46022 | H6: 46112 | I6: 46203 | J6: 46295
B7: Days in period | C7: =C6-DATE(2024,12,31) -> 90 | D7: =D6-C6 -> 91 | E7: =E6-D6 -> 92 | F7: =F6-E6 -> 92 | G7: =G6-DATE(2024,12,31) -> 365 | H7: =H6-F6 -> 90 | I7: =I6-H6 -> 91 | J7: =J6-I6 -> 92
B9: Assets
B10: Cash and cash equivalents | C10: 2394800 | D10: 2364520 | E10: 2470760 | F10: 2767860 | G10: =F10 -> 2767860 | H10: 3035640 | I10: 3134220 | J10: ='Cash Flow Statement'!J62 -> 3291157.2 | K10: Equals cash-flow ending balance (TSMC CF statement)
B11: % Y/Y | C11: n/a | D11: n/a | E11: n/a | F11: n/a | G11: n/a | H11: =H10/C10-1 -> 0.26759646 | I11: =I10/D10-1 -> 0.32552061 | J11: =J10/E10-1 -> 0.33204244
B12: Seq. change (abs.) | C12: n/a | D12: =D10-C10 -> -30280 | E12: =E10-D10 -> 106240 | F12: =F10-E10 -> 297100 | G12: n/a | H12: =H10-F10 -> 267780 | I12: =I10-H10 -> 98580 | J12: =J10-I10 -> 156937.17
B13: Marketable securities (derived) | C13: =C16-C10 -> 308290 | D13: =D16-D10 -> 269910 | E13: =E16-E10 -> 280300 | F13: =F16-F10 -> 300730 | G13: =F13 -> 300730 | H13: =H16-H10 -> 347960 | I13: =I16-I10 -> 383790 | J13: =I13-'Cash Flow Statement'!J34 -> 408622.5
B14: % Y/Y | C14: n/a | D14: n/a | E14: n/a | F14: n/a | G14: n/a | H14: =H13/C13-1 -> 0.12867754 | I14: =I13/D13-1 -> 0.42191842 | J14: =J13/E13-1 -> 0.45780414
B15: Seq. change (abs.) | C15: n/a | D15: =D13-C13 -> -38380 | E15: =E13-D13 -> 10390 | F15: =F13-E13 -> 20430 | G15: n/a | H15: =H13-F13 -> 47230 | I15: =I13-H13 -> 35830 | J15: =J13-I13 -> 24832.5
B16: Cash and marketable securities | C16: 2703090 | D16: 2634430 | E16: 2751060 | F16: 3068590 | G16: =F16 -> 3068590 | H16: 3383600 | I16: 3518010 | J16: =J10+J13 -> 3699779.7
B17: % Y/Y | C17: n/a | D17: n/a | E17: n/a | F17: n/a | G17: n/a | H17: =H16/C16-1 -> 0.25175262 | I17: =I16/D16-1 -> 0.33539703 | J17: =J16/E16-1 -> 0.34485604
B18: Seq. change (abs.) | C18: n/a | D18: =D16-C16 -> -68660 | E18: =E16-D16 -> 116630 | F18: =F16-E16 -> 317530 | G18: n/a | H18: =H16-F16 -> 315010 | I18: =I16-H16 -> 134410 | J18: =J16-I16 -> 181769.67
B19: Accounts receivable | C19: 243950 | D19: 235690 | E19: 307810 | F19: 281790 | G19: =F19 -> 281790 | H19: 363010 | I19: 440920 | J19: ='Income Statement'!J9*J82 -> 518617.75
B20: % Y/Y | C20: n/a | D20: n/a | E20: n/a | F20: n/a | G20: n/a | H20: =H19/C19-1 -> 0.48805083 | I20: =I19/D19-1 -> 0.87076244 | J20: =J19/E19-1 -> 0.68486324
B21: Seq. change (abs.) | C21: n/a | D21: =D19-C19 -> -8260 | E21: =E19-D19 -> 72120 | F21: =F19-E19 -> -26020 | G21: n/a | H21: =H19-F19 -> 81220 | I21: =I19-H19 -> 77910 | J21: =J19-I19 -> 77697.755
B22: Inventories | C22: 293390 | D22: 304190 | E22: 288690 | F22: 288110 | G22: =F22 -> 288110 | H22: 311450 | I22: 385530 | J22: =-'Income Statement'!J13*J85 -> 460781.73
B23: % Y/Y | C23: n/a | D23: n/a | E23: n/a | F23: n/a | G23: n/a | H23: =H22/C22-1 -> 0.06155629 | I23: =I22/D22-1 -> 0.26739867 | J23: =J22/E22-1 -> 0.59611255
B24: Seq. change (abs.) | C24: n/a | D24: =D22-C22 -> 10800 | E24: =E22-D22 -> -15500 | F24: =F22-E22 -> -580 | G24: n/a | H24: =H22-F22 -> 23340 | I24: =I22-H22 -> 74080 | J24: =J22-I22 -> 75251.733
B25: Other current assets | C25: 105240 | D25: 90610 | E25: 88460 | F25: 178640 | G25: =F25 -> 178640 | H25: 207450 | I25: 221240 | J25: =I25 -> 221240 | K25: 3Q26E held flat
B26: % Y/Y | C26: n/a | D26: n/a | E26: n/a | F26: n/a | G26: n/a | H26: =H25/C25-1 -> 0.97120867 | I26: =I25/D25-1 -> 1.4416731 | J26: =J25/E25-1 -> 1.5010174
B27: Seq. change (abs.) | C27: n/a | D27: =D25-C25 -> -14630 | E27: =E25-D25 -> -2150 | F27: =F25-E25 -> 90180 | G27: n/a | H27: =H25-F25 -> 28810 | I27: =I25-H25 -> 13790 | J27: =J25-I25 -> 0
B28: Total current assets | C28: =C16+C19+C22+C25 -> 3345670 | D28: =D16+D19+D22+D25 -> 3264920 | E28: =E16+E19+E22+E25 -> 3436020 | F28: =F16+F19+F22+F25 -> 3817130 | G28: =F28 -> 3817130 | H28: =H16+H19+H22+H25 -> 4265510 | I28: =I16+I19+I22+I25 -> 4565700 | J28: =J16+J19+J22+J25 -> 4900419.2
B29: Long-term investments | C29: 160790 | D29: 137430 | E29: 148980 | F29: 172370 | G29: =F29 -> 172370 | H29: 166570 | I29: 227930 | J29: =I29+'Income Statement'!J52 -> 228830 | K29: 3Q26E = 2Q26 + share of associates (non-cash); VIS FVTOCI revaluation to OCI not forecast
B30: % Y/Y | C30: n/a | D30: n/a | E30: n/a | F30: n/a | G30: n/a | H30: =H29/C29-1 -> 0.035947509 | I30: =I29/D29-1 -> 0.65851706 | J30: =J29/E29-1 -> 0.53597798
B31: Seq. change (abs.) | C31: n/a | D31: =D29-C29 -> -23360 | E31: =E29-D29 -> 11550 | F31: =F29-E29 -> 23390 | G31: n/a | H31: =H29-F29 -> -5800 | I31: =I29-H29 -> 61360 | J31: =J29-I29 -> 900
B32: Net PP&E | C32: 3400810 | D32: 3386210 | E32: 3499340 | F32: 3691840 | G32: =F32 -> 3691840 | H32: 3954680 | I32: 4302880 | J32: =I32-'Cash Flow Statement'!J31-'Cash Flow Statement'!J12 -> 4656011.4 | K32: 3Q26E = 2Q26 + capex - D&A; CF J12 D&A may include intangible amortization, netted here (no sourced split; other non-current assets J35 held flat; totals unaffected)
B33: % Y/Y | C33: n/a | D33: n/a | E33: n/a | F33: n/a | G33: n/a | H33: =H32/C32-1 -> 0.16286414 | I33: =I32/D32-1 -> 0.27070678 | J33: =J32/E32-1 -> 0.33053986
B34: Seq. change (abs.) | C34: n/a | D34: =D32-C32 -> -14600 | E34: =E32-D32 -> 113130 | F34: =F32-E32 -> 192500 | G34: n/a | H34: =H32-F32 -> 262840 | I34: =I32-H32 -> 348200 | J34: =J32-I32 -> 353131.36
B35: Other non-current assets (derived) | C35: =C41-C28-C29-C32 -> 226020 | D35: =D41-D28-D29-D32 -> 217790 | E35: =E41-E28-E29-E32 -> 269770 | F35: =F41-F28-F29-F32 -> 251680 | G35: =F35 -> 251680 | H35: =H41-H28-H29-H32 -> 274190 | I35: =I41-I28-I29-I32 -> 279140 | J35: =I35 -> 279140
B36: % Y/Y | C36: n/a | D36: n/a | E36: n/a | F36: n/a | G36: n/a | H36: =H35/C35-1 -> 0.21312273 | I36: =I35/D35-1 -> 0.28169337 | J36: =J35/E35-1 -> 0.034733291
B37: Seq. change (abs.) | C37: n/a | D37: =D35-C35 -> -8230 | E37: =E35-D35 -> 51980 | F37: =F35-E35 -> -18090 | G37: n/a | H37: =H35-F35 -> 22510 | I37: =I35-H35 -> 4950 | J37: =J35-I35 -> 0
B38: Total assets | C38: =C28+C29+C32+C35 -> 7133290 | D38: =D28+D29+D32+D35 -> 7006350 | E38: =E28+E29+E32+E35 -> 7354110 | F38: =F28+F29+F32+F35 -> 7933020 | G38: =F38 -> 7933020 | H38: =H28+H29+H32+H35 -> 8660950 | I38: =I28+I29+I32+I35 -> 9375650 | J38: =J28+J29+J32+J35 -> 10064401
B39: % Y/Y | C39: n/a | D39: n/a | E39: n/a | F39: n/a | G39: n/a | H39: =H38/C38-1 -> 0.21415924 | I39: =I38/D38-1 -> 0.33816466 | J39: =J38/E38-1 -> 0.36854093
B40: Seq. change (abs.) | C40: n/a | D40: =D38-C38 -> -126940 | E40: =E38-D38 -> 347760 | F40: =F38-E38 -> 578910 | G40: n/a | H40: =H38-F38 -> 727930 | I40: =I38-H38 -> 714700 | J40: =J38-I38 -> 688750.51
B41: Memo: total assets as reported | C41: 7133290 | D41: 7006350 | E41: 7354110 | F41: 7933020 | G41: =F41 -> 7933020 | H41: 8660950 | I41: 9375650 | J41: n/a
B43: Liabilities and equity
...

Sheet Cash Flow Statement
B2: Taiwan Semiconductor Manufacturing Company Limited (NYSE: TSM | TWSE: 2330)
B3: Cash Flow Statement (TSMC management-report format)
B4: TWD millions, except per-share data (EPS in NT$ per ordinary share and US$ per ADR)
B5: Period | C5: 1Q25A | D5: 2Q25A | E5: 3Q25A | F5: 4Q25A | G5: FY25A | H5: 1Q26A | I5: 2Q26A | J5: 3Q26E | K5: Notes
B6: Period end | C6: 45747 | D6: 45838 | E6: 45930 | F6: 46022 | G6: 46022 | H6: 46112 | I6: 46203 | J6: 46295
B7: Days in period | C7: =C6-DATE(2024,12,31) -> 90 | D7: =D6-C6 -> 91 | E7: =E6-D6 -> 92 | F7: =F6-E6 -> 92 | G7: =G6-DATE(2024,12,31) -> 365 | H7: =H6-F6 -> 90 | I7: =I6-H6 -> 91 | J7: =J6-I6 -> 92
B9: Beginning cash balance | C9: 2127630 | D9: =C62 -> 2394800 | E9: =D62 -> 2364520 | F9: =E62 -> 2470760 | G9: =C9 -> 2127630 | H9: =F62 -> 2767860 | I9: =H62 -> 3035640 | J9: =I62 -> 3134220
B10: Operating activities
B11: Income before income tax | C11: ='Income Statement'!C65 -> 430904 | D11: ='Income Statement'!D65 -> 493032 | E11: ='Income Statement'!E65 -> 525368 | F11: ='Income Statement'!F65 -> 592360 | G11: ='Income Statement'!G65 -> 2041664 | H11: ='Income Statement'!H65 -> 687803 | I11: ='Income Statement'!I65 -> 862430 | J11: ='Income Statement'!J65 -> 929112.5
B12: Depreciation & amortization | C12: 175130 | D12: 188070 | E12: 162790 | F12: 162110 | G12: =SUM(C12:F12) -> 688100 | H12: 165450 | I12: 198540 | J12: 210000 | K12: 3Q26E 210,000: N2 depreciation ramp (2Q26 +20% Q/Q)
B13: % Y/Y | C13: n/a | D13: n/a | E13: n/a | F13: n/a | G13: n/a | H13: =H12/C12-1 -> -0.055273226 | I13: =I12/D12-1 -> 0.055670761 | J13: =J12/E12-1 -> 0.29000553
B14: Seq. change (abs.) | C14: n/a | D14: =D12-C12 -> 12940 | E14: =E12-D12 -> -25280 | F14: =F12-E12 -> -680 | G14: n/a | H14: =H12-F12 -> 3340 | I14: =I12-H12 -> 33090 | J14: =J12-I12 -> 11460
B15: Other operating sources/(uses) | C15: =C27-C11-C12 -> 19536 | D15: =D27-D11-D12 -> -184032 | E15: =E27-E11-E12 -> -261328 | F15: =F27-F11-F12 -> -28960 | G15: =SUM(C15:F15) -> -454784 | H15: =H27-H11-H12 -> -154283 | I15: =I27-I11-I12 -> -277610 | J15: =J19+J22+J23+J24 -> -266119.47 | K15: History derived as reported OCF less PBT and D&A
B16: % Y/Y | C16: n/a | D16: n/a | E16: n/a | F16: n/a | G16: n/a | H16: =IF(OR(C15=0,SIGN(H15)<>SIGN(C15),ABS(C15)<0.1*ABS(H15)),"n/m",H15/C15-1) -> n/m | I16: =IF(OR(D15=0,SIGN(I15)<>SIGN(D15),ABS(D15)<0.1*ABS(I15)),"n/m",I15/D15-1) -> 0.50848765 | J16: =IF(OR(E15=0,SIGN(J15)<>SIGN(E15),ABS(E15)<0.1*ABS(J15)),"n/m",J15/E15-1) -> 0.018335077 | K16: % Y/Y shown as n/m when base is zero, sign changes (incl. to/from zero), or |base| < 10% of |current|
B17: Seq. change (abs.) | C17: n/a | D17: =D15-C15 -> -203568 | E17: =E15-D15 -> -77296 | F17: =F15-E15 -> 232368 | G17: n/a | H17: =H15-F15 -> -125323 | I17: =I15-H15 -> -123327 | J17: =J15-I15 -> 11490.531
B18: Provisional tax, % prior-yr tax | J18: 0.5 | K18: Taiwan provisional income tax paid in September = 50% of prior-year tax; FY25 tax expense used as the base
B19: o/w income tax paid | E19: -137270 | I19: -188220 | J19: =J18*'Income Statement'!G71 -> -163135 | K19: 3Q26E: Taiwan provisional tax paid in September = 50% of prior-year tax (FY25 tax expense used as proxy; includes deferred tax and 2Q25 undistributed-earnings tax, IS K74; prior-year tax payable not sourced, original assumption retained); other quarters not disclosed
B20: % Y/Y | C20: n/a | D20: n/a | E20: n/a | F20: n/a | G20: n/a | H20: =IF(AND(ISNUMBER(H19),ISNUMBER(C19)),IF(C19=0,"n/a",H19/C19-1),"n/a") -> n/a | I20: =IF(AND(ISNUMBER(I19),ISNUMBER(D19)),IF(D19=0,"n/a",I19/D19-1),"n/a") -> n/a | J20: =IF(AND(ISNUMBER(J19),ISNUMBER(E19)),IF(E19=0,"n/a",J19/E19-1),"n/a") -> 0.18842427
B21: Seq. change (abs.) | C21: n/a | D21: =IF(AND(ISNUMBER(D19),ISNUMBER(C19)),D19-C19,"n/a") -> n/a | E21: =IF(AND(ISNUMBER(E19),ISNUMBER(D19)),E19-D19,"n/a") -> n/a | F21: =IF(AND(ISNUMBER(F19),ISNUMBER(E19)),F19-E19,"n/a") -> n/a | G21: n/a | H21: =IF(AND(ISNUMBER(H19),ISNUMBER(F19)),H19-F19,"n/a") -> n/a | I21: =IF(AND(ISNUMBER(I19),ISNUMBER(H19)),I19-H19,"n/a") -> n/a | J21: =IF(AND(ISNUMBER(J19),ISNUMBER(I19)),J19-I19,"n/a") -> 25085
B22: o/w interest to investing | J22: =-'Income Statement'!J55 -> -27500 | K22: TSMC records interest received in investing (other investing ~ net interest income)
B23: o/w associates (non-cash) | J23: =-'Income Statement'!J52 -> -900 | K23: Equity-method income raises long-term investments, not cash
B24: o/w working capital | E24: -122640 | I24: -87950 | J24: =-('Balance Sheet'!J19-'Balance Sheet'!I19)-('Balance Sheet'!J22-'Balance Sheet'!I22)-('Balance Sheet'!J25-'Balance Sheet'!I25)+('Balance Sheet'!J44-'Balance Sheet'!I44) -> -74584.469
B25: % Y/Y | C25: n/a | D25: n/a | E25: n/a | F25: n/a | G25: n/a | H25: =IF(AND(ISNUMBER(H24),ISNUMBER(C24)),IF(C24=0,"n/a",H24/C24-1),"n/a") -> n/a | I25: =IF(AND(ISNUMBER(I24),ISNUMBER(D24)),IF(D24=0,"n/a",I24/D24-1),"n/a") -> n/a | J25: =IF(AND(ISNUMBER(J24),ISNUMBER(E24)),IF(E24=0,"n/a",J24/E24-1),"n/a") -> -0.39184223
B26: Seq. change (abs.) | C26: n/a | D26: =IF(AND(ISNUMBER(D24),ISNUMBER(C24)),D24-C24,"n/a") -> n/a | E26: =IF(AND(ISNUMBER(E24),ISNUMBER(D24)),E24-D24,"n/a") -> n/a | F26: =IF(AND(ISNUMBER(F24),ISNUMBER(E24)),F24-E24,"n/a") -> n/a | G26: n/a | H26: =IF(AND(ISNUMBER(H24),ISNUMBER(F24)),H24-F24,"n/a") -> n/a | I26: =IF(AND(ISNUMBER(I24),ISNUMBER(H24)),I24-H24,"n/a") -> n/a | J26: =IF(AND(ISNUMBER(J24),ISNUMBER(I24)),J24-I24,"n/a") -> 13365.531
B27: Operating cash flow | C27: 625570 | D27: 497070 | E27: 426830 | F27: 725510 | G27: =SUM(C27:F27) -> 2274980 | H27: 698970 | I27: 783360 | J27: =J11+J12+J15 -> 872993.03
B28: % Y/Y | C28: n/a | D28: n/a | E28: n/a | F28: n/a | G28: n/a | H28: =H27/C27-1 -> 0.11733299 | I28: =I27/D27-1 -> 0.5759551 | J28: =J27/E27-1 -> 1.0452944
B29: % Q/Q | C29: n/a | D29: =D27/C27-1 -> -0.20541266 | E29: =E27/D27-1 -> -0.14130807 | F29: =F27/E27-1 -> 0.69976337 | G29: n/a | H29: =H27/F27-1 -> -0.036581164 | I29: =I27/H27-1 -> 0.1207348 | J29: =J27/I27-1 -> 0.11442125
B30: Investing activities
B31: Capital expenditures | C31: -330830 | D31: -297220 | E31: -287450 | F31: -356910 | G31: =SUM(C31:F31) -> -1272410 | H31: -350760 | I31: -496000 | J31: =-J68*'Revenue summary'!J27*1000 -> -563131.36
B32: % Y/Y | C32: n/a | D32: n/a | E32: n/a | F32: n/a | G32: n/a | H32: =H31/C31-1 -> 0.060242421 | I32: =I31/D31-1 -> 0.66879752 | J32: =J31/E31-1 -> 0.95905848
B33: Seq. change (abs.) | C33: n/a | D33: =D31-C31 -> 33610 | E33: =E31-D31 -> 9770 | F33: =F31-E31 -> -69460 | G33: n/a | H33: =H31-F31 -> 6150 | I33: =I31-H31 -> -145240 | J33: =J31-I31 -> -67131.36
B34: Marketable financial instruments | C34: -16810 | D34: 11750 | E34: -1250 | F34: -30800 | G34: =SUM(C34:F34) -> -37110 | H34: -30320 | I34: -36960 | J34: =AVERAGE(E34,F34,H34,I34) -> -24832.5 | K34: 3Q26E = average of last four quarters
B35: % Y/Y | C35: n/a | D35: n/a | E35: n/a | F35: n/a | G35: n/a | H35: =IF(OR(C34=0,SIGN(H34)<>SIGN(C34),ABS(C34)<0.1*ABS(H34)),"n/m",H34/C34-1) -> 0.80368828 | I35: =IF(OR(D34=0,SIGN(I34)<>SIGN(D34),ABS(D34)<0.1*ABS(I34)),"n/m",I34/D34-1) -> n/m | J35: =IF(OR(E34=0,SIGN(J34)<>SIGN(E34),ABS(E34)<0.1*ABS(J34)),"n/m",J34/E34-1) -> n/m | K35: n/m rule as K16
B36: Seq. change (abs.) | C36: n/a | D36: =D34-C34 -> 28560 | E36: =E34-D34 -> -13000 | F36: =F34-E34 -> -29550 | G36: n/a | H36: =H34-F34 -> 480 | I36: =I34-H34 -> -6640 | J36: =J34-I34 -> 12127.5
B37: Other investing sources/(uses) | C37: 57450 | D37: 56980 | E37: 28950 | F37: 21750 | G37: =SUM(C37:F37) -> 165130 | H37: 24230 | I37: 40150 | J37: =-J22 -> 27500 | K37: 3Q26E = interest received (2Q26 included NT$24.4bn VIS sale proceeds)
B38: % Y/Y | C38: n/a | D38: n/a | E38: n/a | F38: n/a | G38: n/a | H38: =IF(OR(C37=0,SIGN(H37)<>SIGN(C37),ABS(C37)<0.1*ABS(H37)),"n/m",H37/C37-1) -> -0.57824195 | I38: =IF(OR(D37=0,SIGN(I37)<>SIGN(D37),ABS(D37)<0.1*ABS(I37)),"n/m",I37/D37-1) -> -0.2953668 | J38: =IF(OR(E37=0,SIGN(J37)<>SIGN(E37),ABS(E37)<0.1*ABS(J37)),"n/m",J37/E37-1) -> -0.050086356 | K38: n/m rule as K16
B39: Seq. change (abs.) | C39: n/a | D39: =D37-C37 -> -470 | E39: =E37-D37 -> -28030 | F39: =F37-E37 -> -7200 | G39: n/a | H39: =H37-F37 -> 2480 | I39: =I37-H37 -> 15920 | J39: =J37-I37 -> -12650
B40: Investing cash flow | C40: =C31+C34+C37 -> -290190 | D40: =D31+D34+D37 -> -228490 | E40: =E31+E34+E37 -> -259750 | F40: =F31+F34+F37 -> -365960 | G40: =SUM(C40:F40) -> -1144390 | H40: =H31+H34+H37 -> -356850 | I40: =I31+I34+I37 -> -492810 | J40: =J31+J34+J37 -> -560463.86
B41: % Y/Y | C41: n/a | D41: n/a | E41: n/a | F41: n/a | G41: n/a | H41: =H40/C40-1 -> 0.22971157 | I41: =I40/D40-1 -> 1.1568121 | J41: =J40/E40-1 -> 1.1577049
B42: Seq. change (abs.) | C42: n/a | D42: =D40-C40 -> 61700 | E42: =E40-D40 -> -31260 | F42: =F40-E40 -> -106210 | G42: n/a | H42: =H40-F40 -> 9110 | I42: =I40-H40 -> -135960 | J42: =J40-I40 -> -67653.86
...

Sheet Geo
B2: Taiwan Semiconductor Manufacturing Company Limited (NYSE: TSM | TWSE: 2330)
B3: Net revenue by geography (customer headquarters region, TSMC definition)
B4: TWD millions, except per-share data (EPS in NT$ per ordinary share and US$ per ADR)
B5: Period | C5: 1Q25A | D5: 2Q25A | E5: 3Q25A | F5: 4Q25A | G5: FY25A | H5: 1Q26A | I5: 2Q26A | J5: 3Q26E | K5: Notes
B6: Period end | C6: 45747 | D6: 45838 | E6: 45930 | F6: 46022 | G6: 46022 | H6: 46112 | I6: 46203 | J6: 46295
B7: Days in period | C7: =C6-DATE(2024,12,31) -> 90 | D7: =D6-C6 -> 91 | E7: =E6-D6 -> 92 | F7: =F6-E6 -> 92 | G7: =G6-DATE(2024,12,31) -> 365 | H7: =H6-F6 -> 90 | I7: =I6-H6 -> 91 | J7: =J6-I6 -> 92
B9: Net revenue | C9: ='Revenue summary'!C20 -> 839254 | D9: ='Revenue summary'!D20 -> 933792 | E9: ='Revenue summary'!E20 -> 989918 | F9: ='Revenue summary'!F20 -> 1046090 | G9: ='Revenue summary'!G20 -> 3809054 | H9: ='Revenue summary'!H20 -> 1134103 | I9: ='Revenue summary'!I20 -> 1270380 | J9: ='Revenue summary'!J20 -> 1494243
B11: North America revenue | C11: =C9*C15 -> 646225.58 | D11: =D9*D15 -> 700344 | E11: =E9*E15 -> 752337.68 | F11: =F9*F15 -> 774106.6 | G11: =SUM(C11:F11) -> 2873013.9 | H11: =H9*H15 -> 861918.28 | I11: =I9*I15 -> 990896.4 | J11: =J9*J15 -> 1165509.5
B12: % Y/Y | C12: n/a | D12: n/a | E12: n/a | F12: n/a | G12: n/a | H12: =H11/C11-1 -> 0.33377308 | I12: =I11/D11-1 -> 0.41487098 | J12: =J11/E11-1 -> 0.54918406
B13: % Q/Q | C13: n/a | D13: =D11/C11-1 -> 0.0837454 | E13: =E11/D11-1 -> 0.074240202 | F13: =F11/E11-1 -> 0.028935039 | G13: n/a | H13: =H11/F11-1 -> 0.11343616 | I13: =I11/H11-1 -> 0.14964078 | J13: =J11/I11-1 -> 0.17621735
B14: Seq. change (abs.) | C14: n/a | D14: =D11-C11 -> 54118.42 | E14: =E11-D11 -> 51993.68 | F14: =F11-E11 -> 21768.92 | G14: n/a | H14: =H11-F11 -> 87811.68 | I14: =I11-H11 -> 128978.12 | J14: =J11-I11 -> 174613.14
B15: % of total net revenue | C15: 0.77 | D15: 0.75 | E15: 0.76 | F15: 0.74 | G15: =G11/G9 -> 0.75425916 | H15: 0.76 | I15: 0.78 | J15: 0.78 | K15: 3Q26E mix held at 2Q26; FY25 reported mix 75%
B16: Chg Y/Y (bps) | C16: n/a | D16: n/a | E16: n/a | F16: n/a | G16: n/a | H16: =(H15-C15)*10000 -> -100 | I16: =(I15-D15)*10000 -> 300 | J16: =(J15-E15)*10000 -> 200
B17: Chg Q/Q (bps) | C17: n/a | D17: =(D15-C15)*10000 -> -200 | E17: =(E15-D15)*10000 -> 100 | F17: =(F15-E15)*10000 -> -200 | G17: n/a | H17: =(H15-F15)*10000 -> 200 | I17: =(I15-H15)*10000 -> 200 | J17: =(J15-I15)*10000 -> 0
B18: FX impact on Y/Y (company) | C18: n/a | D18: n/a | E18: n/a | F18: n/a | G18: n/a | H18: ='Revenue summary'!H40 -> -0.039017574 | I18: ='Revenue summary'!I40 -> 0.017632278 | J18: ='Revenue summary'!J40 -> 0.06985721
B19: M&A / scope impact | C19: unavailable | D19: unavailable | E19: unavailable | F19: unavailable | G19: unavailable | H19: unavailable | I19: unavailable | J19: unavailable | K19: Not disclosed by TSMC (no acquisitions reported); left unavailable, not zero
B20: Organic Y/Y | C20: unavailable | D20: unavailable | E20: unavailable | F20: unavailable | G20: unavailable | H20: unavailable | I20: unavailable | J20: unavailable | K20: Unavailable because M&A/scope is not disclosed; constant-currency growth shown where derivable
B21: Asia Pacific revenue | C21: =C9*C25 -> 75532.86 | D21: =D9*D25 -> 84041.28 | E21: =E9*E25 -> 89092.62 | F21: =F9*F25 -> 94148.1 | G21: =SUM(C21:F21) -> 342814.86 | H21: =H9*H25 -> 102069.27 | I21: =I9*I25 -> 101630.4 | J21: =J9*J25 -> 119539.44
B22: % Y/Y | C22: n/a | D22: n/a | E22: n/a | F22: n/a | G22: n/a | H22: =H21/C21-1 -> 0.35132272 | I22: =I21/D21-1 -> 0.20929143 | J22: =J21/E21-1 -> 0.34174346
B23: % Q/Q | C23: n/a | D23: =D21/C21-1 -> 0.11264528 | E23: =E21/D21-1 -> 0.060105462 | F23: =F21/E21-1 -> 0.056744094 | G23: n/a | H23: =H21/F21-1 -> 0.084135208 | I23: =I21/H21-1 -> -0.004299727 | J23: =J21/I21-1 -> 0.17621735
B24: Seq. change (abs.) | C24: n/a | D24: =D21-C21 -> 8508.42 | E24: =E21-D21 -> 5051.34 | F24: =F21-E21 -> 5055.48 | G24: n/a | H24: =H21-F21 -> 7921.17 | I24: =I21-H21 -> -438.87 | J24: =J21-I21 -> 17909.04
B25: % of total net revenue | C25: 0.09 | D25: 0.09 | E25: 0.09 | F25: 0.09 | G25: =G21/G9 -> 0.09 | H25: 0.09 | I25: 0.08 | J25: 0.08 | K25: 3Q26E mix held at 2Q26; FY25 reported mix 9%
B26: Chg Y/Y (bps) | C26: n/a | D26: n/a | E26: n/a | F26: n/a | G26: n/a | H26: =(H25-C25)*10000 -> 0 | I26: =(I25-D25)*10000 -> -100 | J26: =(J25-E25)*10000 -> -100
B27: Chg Q/Q (bps) | C27: n/a | D27: =(D25-C25)*10000 -> 0 | E27: =(E25-D25)*10000 -> 0 | F27: =(F25-E25)*10000 -> 0 | G27: n/a | H27: =(H25-F25)*10000 -> 0 | I27: =(I25-H25)*10000 -> -100 | J27: =(J25-I25)*10000 -> 0
B28: FX impact on Y/Y (company) | C28: n/a | D28: n/a | E28: n/a | F28: n/a | G28: n/a | H28: ='Revenue summary'!H40 -> -0.039017574 | I28: ='Revenue summary'!I40 -> 0.017632278 | J28: ='Revenue summary'!J40 -> 0.06985721
B29: M&A / scope impact | C29: unavailable | D29: unavailable | E29: unavailable | F29: unavailable | G29: unavailable | H29: unavailable | I29: unavailable | J29: unavailable | K29: Not disclosed by TSMC (no acquisitions reported); left unavailable, not zero
B30: Organic Y/Y | C30: unavailable | D30: unavailable | E30: unavailable | F30: unavailable | G30: unavailable | H30: unavailable | I30: unavailable | J30: unavailable | K30: Unavailable because M&A/scope is not disclosed; constant-currency growth shown where derivable
B31: China revenue | C31: =C9*C35 -> 58747.78 | D31: =D9*D35 -> 84041.28 | E31: =E9*E35 -> 79193.44 | F31: =F9*F35 -> 94148.1 | G31: =SUM(C31:F31) -> 316130.6 | H31: =H9*H35 -> 79387.21 | I31: =I9*I35 -> 76222.8 | J31: =J9*J35 -> 89654.58
B32: % Y/Y | C32: n/a | D32: n/a | E32: n/a | F32: n/a | G32: n/a | H32: =H31/C31-1 -> 0.35132272 | I32: =I31/D31-1 -> -0.093031425 | J32: =J31/E31-1 -> 0.13209604
B33: % Q/Q | C33: n/a | D33: =D31/C31-1 -> 0.43054393 | E33: =E31/D31-1 -> -0.057684033 | F33: =F31/E31-1 -> 0.18883711 | G33: n/a | H33: =H31/F31-1 -> -0.15678373 | I33: =I31/H31-1 -> -0.039860451 | J33: =J31/I31-1 -> 0.17621735
B34: Seq. change (abs.) | C34: n/a | D34: =D31-C31 -> 25293.5 | E34: =E31-D31 -> -4847.84 | F34: =F31-E31 -> 14954.66 | G34: n/a | H34: =H31-F31 -> -14760.89 | I34: =I31-H31 -> -3164.41 | J34: =J31-I31 -> 13431.78
B35: % of total net revenue | C35: 0.07 | D35: 0.09 | E35: 0.08 | F35: 0.09 | G35: =G31/G9 -> 0.082994518 | H35: 0.07 | I35: 0.06 | J35: 0.06 | K35: 3Q26E mix held at 2Q26; FY25 reported mix 9% (S9) vs G35 8.3% built from rounded quarterly mixes 7%/9%/8%/9% (verified vs S7, S11, S9) — difference likely reflects rounding of the quarterly shares (unrounded shares not disclosed); inputs unchanged
B36: Chg Y/Y (bps) | C36: n/a | D36: n/a | E36: n/a | F36: n/a | G36: n/a | H36: =(H35-C35)*10000 -> 0 | I36: =(I35-D35)*10000 -> -300 | J36: =(J35-E35)*10000 -> -200
B37: Chg Q/Q (bps) | C37: n/a | D37: =(D35-C35)*10000 -> 200 | E37: =(E35-D35)*10000 -> -100 | F37: =(F35-E35)*10000 -> 100 | G37: n/a | H37: =(H35-F35)*10000 -> -200 | I37: =(I35-H35)*10000 -> -100 | J37: =(J35-I35)*10000 -> 0
B38: FX impact on Y/Y (company) | C38: n/a | D38: n/a | E38: n/a | F38: n/a | G38: n/a | H38: ='Revenue summary'!H40 -> -0.039017574 | I38: ='Revenue summary'!I40 -> 0.017632278 | J38: ='Revenue summary'!J40 -> 0.06985721
B39: M&A / scope impact | C39: unavailable | D39: unavailable | E39: unavailable | F39: unavailable | G39: unavailable | H39: unavailable | I39: unavailable | J39: unavailable | K39: Not disclosed by TSMC (no acquisitions reported); left unavailable, not zero
B40: Organic Y/Y | C40: unavailable | D40: unavailable | E40: unavailable | F40: unavailable | G40: unavailable | H40: unavailable | I40: unavailable | J40: unavailable | K40: Unavailable because M&A/scope is not disclosed; constant-currency growth shown where derivable
B41: Japan revenue | C41: =C9*C45 -> 33570.16 | D41: =D9*D45 -> 37351.68 | E41: =E9*E45 -> 39596.72 | F41: =F9*F45 -> 41843.6 | G41: =SUM(C41:F41) -> 152362.16 | H41: =H9*H45 -> 45364.12 | I41: =I9*I45 -> 50815.2 | J41: =J9*J45 -> 59769.72
B42: % Y/Y | C42: n/a | D42: n/a | E42: n/a | F42: n/a | G42: n/a | H42: =H41/C41-1 -> 0.35132272 | I42: =I41/D41-1 -> 0.36045286 | J42: =J41/E41-1 -> 0.50946139
B43: % Q/Q | C43: n/a | D43: =D41/C41-1 -> 0.11264528 | E43: =E41/D41-1 -> 0.060105462 | F43: =F41/E41-1 -> 0.056744094 | G43: n/a | H43: =H41/F41-1 -> 0.084135208 | I43: =I41/H41-1 -> 0.12016281 | J43: =J41/I41-1 -> 0.17621735
...

Sheet Share Count
B2: Taiwan Semiconductor Manufacturing Company Limited (NYSE: TSM | TWSE: 2330)
B3: Share count — weighted basic and diluted shares, dividends, ADR conversion
B4: TWD millions, except per-share data (EPS in NT$ per ordinary share and US$ per ADR)
B5: Period | C5: 1Q25A | D5: 2Q25A | E5: 3Q25A | F5: 4Q25A | G5: FY25A | H5: 1Q26A | I5: 2Q26A | J5: 3Q26E | K5: Notes
B6: Period end | C6: 45747 | D6: 45838 | E6: 45930 | F6: 46022 | G6: 46022 | H6: 46112 | I6: 46203 | J6: 46295
B7: Days in period | C7: =C6-DATE(2024,12,31) -> 90 | D7: =D6-C6 -> 91 | E7: =E6-D6 -> 92 | F7: =F6-E6 -> 92 | G7: =G6-DATE(2024,12,31) -> 365 | H7: =H6-F6 -> 90 | I7: =I6-H6 -> 91 | J7: =J6-I6 -> 92
B9: Shares outstanding, end (m) | C9: n/a | D9: n/a | E9: n/a | F9: 25933 | G9: =F9 -> 25933 | H9: 25932 | I9: 25932 | J9: =I9 -> 25932 | K9: 1Q25-3Q25 period-end count not captured (unavailable). 3Q26E: no buyback/issuance announced
B10: % Y/Y | C10: n/a | D10: n/a | E10: n/a | F10: n/a | G10: n/a | H10: =IF(AND(ISNUMBER(H9),ISNUMBER(C9)),IF(C9=0,"n/a",H9/C9-1),"n/a") -> n/a | I10: =IF(AND(ISNUMBER(I9),ISNUMBER(D9)),IF(D9=0,"n/a",I9/D9-1),"n/a") -> n/a | J10: =IF(AND(ISNUMBER(J9),ISNUMBER(E9)),IF(E9=0,"n/a",J9/E9-1),"n/a") -> n/a
B11: Seq. change (abs.) | C11: n/a | D11: =IF(AND(ISNUMBER(D9),ISNUMBER(C9)),D9-C9,"n/a") -> n/a | E11: =IF(AND(ISNUMBER(E9),ISNUMBER(D9)),E9-D9,"n/a") -> n/a | F11: =IF(AND(ISNUMBER(F9),ISNUMBER(E9)),F9-E9,"n/a") -> n/a | G11: n/a | H11: =IF(AND(ISNUMBER(H9),ISNUMBER(F9)),H9-F9,"n/a") -> -1 | I11: =IF(AND(ISNUMBER(I9),ISNUMBER(H9)),I9-H9,"n/a") -> 0 | J11: =IF(AND(ISNUMBER(J9),ISNUMBER(I9)),J9-I9,"n/a") -> 0
B12: Memo: 6M wtd basic shares (m) | D12: 25927.526 | I12: 25930.16
B13: Memo: 6M wtd diluted shares (m) | D13: 25928.771 | I13: 25931.544
B14: Wtd avg basic shares (m) | C14: =(D12*(C7+D7)-D14*D7)/C7 -> 25926.789 | D14: 25928.255 | E14: n/a | F14: n/a | G14: 25928.262 | H14: =(I12*(H7+I7)-I14*I7)/H7 -> 25929.767 | I14: 25930.549 | J14: =I14 -> 25930.549 | K14: 1Q derived from 6M and 2Q weighted counts by days; 3Q25/4Q25 basic not captured (unavailable)
B15: % Y/Y | C15: n/a | D15: n/a | E15: n/a | F15: n/a | G15: n/a | H15: =IF(AND(ISNUMBER(H14),ISNUMBER(C14)),H14/C14-1,"n/a") -> 0.00011485332 | I15: =IF(AND(ISNUMBER(I14),ISNUMBER(D14)),I14/D14-1,"n/a") -> 8.8474909e-05 | J15: =IF(AND(ISNUMBER(J14),ISNUMBER(E14)),J14/E14-1,"n/a") -> n/a
B16: Seq. change (abs.) | C16: n/a | D16: =IF(AND(ISNUMBER(D14),ISNUMBER(C14)),D14-C14,"n/a") -> 1.4661 | E16: =IF(AND(ISNUMBER(E14),ISNUMBER(D14)),E14-D14,"n/a") -> n/a | F16: =IF(AND(ISNUMBER(F14),ISNUMBER(E14)),F14-E14,"n/a") -> n/a | G16: n/a | H16: =IF(AND(ISNUMBER(H14),ISNUMBER(F14)),H14-F14,"n/a") -> n/a | I16: =IF(AND(ISNUMBER(I14),ISNUMBER(H14)),I14-H14,"n/a") -> 0.78232222 | J16: =IF(AND(ISNUMBER(J14),ISNUMBER(I14)),J14-I14,"n/a") -> 0
B17: Wtd avg diluted shares (m) | C17: =(D13*(C7+D7)-D17*D7)/C7 -> 25928.664 | D17: 25928.877 | E17: 25930 | F17: 25931 | G17: 25930.557 | H17: =(I13*(H7+I7)-I17*I7)/H7 -> 25931.314 | I17: 25931.771 | J17: =I17 -> 25931.771 | K17: 3Q25/4Q25 rounded to nearest million as disclosed; 3Q26E held at 2Q26 (no buyback; RSA dilution immaterial)
B18: % Y/Y | C18: n/a | D18: n/a | E18: n/a | F18: n/a | G18: n/a | H18: =H17/C17-1 -> 0.00010222878 | I18: =I17/D17-1 -> 0.00011161301 | J18: =J17/E17-1 -> 6.8299267e-05
B19: % Q/Q | C19: n/a | D19: =D17/C17-1 -> 8.2217032e-06 | E19: =E17/D17-1 -> 4.3310784e-05 | F19: =F17/E17-1 -> 3.8565368e-05 | G19: n/a | H19: =H17/F17-1 -> 1.2127484e-05 | I19: =I17/H17-1 -> 1.7605055e-05 | J19: =J17/I17-1 -> 0
B20: Seq. change (abs.) | C20: n/a | D20: =D17-C17 -> 0.21317778 | E20: =E17-D17 -> 1.123 | F20: =F17-E17 -> 1 | G20: n/a | H20: =H17-F17 -> 0.31447778 | I20: =I17-H17 -> 0.45652222 | J20: =J17-I17 -> 0
B21: Dilutive potential shares (m) | C21: =IF(ISNUMBER(C14),C17-C14,"n/a") -> 1.8749222 | D21: =IF(ISNUMBER(D14),D17-D14,"n/a") -> 0.622 | E21: =IF(ISNUMBER(E14),E17-E14,"n/a") -> n/a | F21: =IF(ISNUMBER(F14),F17-F14,"n/a") -> n/a | G21: =G17-G14 -> 2.295 | H21: =IF(ISNUMBER(H14),H17-H14,"n/a") -> 1.5478 | I21: =IF(ISNUMBER(I14),I17-I14,"n/a") -> 1.222 | J21: =IF(ISNUMBER(J14),J17-J14,"n/a") -> 1.222
B22: % Y/Y | C22: n/a | D22: n/a | E22: n/a | F22: n/a | G22: n/a | H22: =IF(AND(ISNUMBER(H21),ISNUMBER(C21)),IF(C21=0,"n/a",H21/C21-1),"n/a") -> -0.17447242 | I22: =IF(AND(ISNUMBER(I21),ISNUMBER(D21)),IF(D21=0,"n/a",I21/D21-1),"n/a") -> 0.96463023 | J22: =IF(AND(ISNUMBER(J21),ISNUMBER(E21)),IF(E21=0,"n/a",J21/E21-1),"n/a") -> n/a
B23: Seq. change (abs.) | C23: n/a | D23: =IF(AND(ISNUMBER(D21),ISNUMBER(C21)),D21-C21,"n/a") -> -1.2529222 | E23: =IF(AND(ISNUMBER(E21),ISNUMBER(D21)),E21-D21,"n/a") -> n/a | F23: =IF(AND(ISNUMBER(F21),ISNUMBER(E21)),F21-E21,"n/a") -> n/a | G23: n/a | H23: =IF(AND(ISNUMBER(H21),ISNUMBER(F21)),H21-F21,"n/a") -> n/a | I23: =IF(AND(ISNUMBER(I21),ISNUMBER(H21)),I21-H21,"n/a") -> -0.3258 | J23: =IF(AND(ISNUMBER(J21),ISNUMBER(I21)),J21-I21,"n/a") -> 0
B24: Share repurchases (m shares) | C24: none | D24: none | E24: none | F24: none | G24: none | H24: none | I24: none | J24: none | K24: No share repurchase programme disclosed in 2025-26 filings (S3, S7, S9, S11)
B25: Shares issued (RSAs, m) | C25: n/d | D25: n/d | E25: n/d | F25: n/d | G25: n/d | H25: n/d | I25: n/d | J25: n/d | K25: n/d = not disclosed quarterly; RSA issuance immaterial (dilutive shares ~1-2m)
B26: Ordinary shares per ADR | C26: 5 | D26: =$C26 -> 5 | E26: =$C26 -> 5 | F26: =$C26 -> 5 | G26: =$C26 -> 5 | H26: =$C26 -> 5 | I26: =$C26 -> 5 | J26: =$C26 -> 5
B27: Diluted ADR-equivalent units (m) | C27: =C17/C26 -> 5185.7328 | D27: =D17/D26 -> 5185.7754 | E27: =E17/E26 -> 5186 | F27: =F17/F26 -> 5186.2 | G27: =G17/G26 -> 5186.1114 | H27: =H17/H26 -> 5186.2629 | I27: =I17/I26 -> 5186.3542 | J27: =J17/J26 -> 5186.3542
B28: % Y/Y | C28: n/a | D28: n/a | E28: n/a | F28: n/a | G28: n/a | H28: =IF(AND(ISNUMBER(H27),ISNUMBER(C27)),IF(C27=0,"n/a",H27/C27-1),"n/a") -> 0.00010222878 | I28: =IF(AND(ISNUMBER(I27),ISNUMBER(D27)),IF(D27=0,"n/a",I27/D27-1),"n/a") -> 0.00011161301 | J28: =IF(AND(ISNUMBER(J27),ISNUMBER(E27)),IF(E27=0,"n/a",J27/E27-1),"n/a") -> 6.8299267e-05
B29: Seq. change (abs.) | C29: n/a | D29: =IF(AND(ISNUMBER(D27),ISNUMBER(C27)),D27-C27,"n/a") -> 0.042635556 | E29: =IF(AND(ISNUMBER(E27),ISNUMBER(D27)),E27-D27,"n/a") -> 0.2246 | F29: =IF(AND(ISNUMBER(F27),ISNUMBER(E27)),F27-E27,"n/a") -> 0.2 | G29: n/a | H29: =IF(AND(ISNUMBER(H27),ISNUMBER(F27)),H27-F27,"n/a") -> 0.062895556 | I29: =IF(AND(ISNUMBER(I27),ISNUMBER(H27)),I27-H27,"n/a") -> 0.091304444 | J29: =IF(AND(ISNUMBER(J27),ISNUMBER(I27)),J27-I27,"n/a") -> 0
B30: Shares behind 3Q26E EPS (m) | J30: =J17 -> 25931.771
B32: Cash dividends
B33: DPS declared in qtr (NT$) | E33: 5 | F33: 6 | H33: 6 | I33: 7 | J33: 7 | K33: Board approves each quarterly dividend in the following quarter; 1Q25/2Q25 declarations not captured
B34: % Y/Y | C34: n/a | D34: n/a | E34: n/a | F34: n/a | G34: n/a | H34: =IF(AND(ISNUMBER(H33),ISNUMBER(C33)),IF(C33=0,"n/a",H33/C33-1),"n/a") -> n/a | I34: =IF(AND(ISNUMBER(I33),ISNUMBER(D33)),IF(D33=0,"n/a",I33/D33-1),"n/a") -> n/a | J34: =IF(AND(ISNUMBER(J33),ISNUMBER(E33)),IF(E33=0,"n/a",J33/E33-1),"n/a") -> 0.4
B35: Seq. change (abs.) | C35: n/a | D35: =IF(AND(ISNUMBER(D33),ISNUMBER(C33)),D33-C33,"n/a") -> n/a | E35: =IF(AND(ISNUMBER(E33),ISNUMBER(D33)),E33-D33,"n/a") -> n/a | F35: =IF(AND(ISNUMBER(F33),ISNUMBER(E33)),F33-E33,"n/a") -> 1 | G35: n/a | H35: =IF(AND(ISNUMBER(H33),ISNUMBER(F33)),H33-F33,"n/a") -> 0 | I35: =IF(AND(ISNUMBER(I33),ISNUMBER(H33)),I33-H33,"n/a") -> 1 | J35: =IF(AND(ISNUMBER(J33),ISNUMBER(I33)),J33-I33,"n/a") -> 0
B36: DPS paid in qtr (NT$) | H36: 5 | I36: 6 | J36: 6
B37: % Y/Y | C37: n/a | D37: n/a | E37: n/a | F37: n/a | G37: n/a | H37: =IF(AND(ISNUMBER(H36),ISNUMBER(C36)),IF(C36=0,"n/a",H36/C36-1),"n/a") -> n/a | I37: =IF(AND(ISNUMBER(I36),ISNUMBER(D36)),IF(D36=0,"n/a",I36/D36-1),"n/a") -> n/a | J37: =IF(AND(ISNUMBER(J36),ISNUMBER(E36)),IF(E36=0,"n/a",J36/E36-1),"n/a") -> n/a
B38: Seq. change (abs.) | C38: n/a | D38: =IF(AND(ISNUMBER(D36),ISNUMBER(C36)),D36-C36,"n/a") -> n/a | E38: =IF(AND(ISNUMBER(E36),ISNUMBER(D36)),E36-D36,"n/a") -> n/a | F38: =IF(AND(ISNUMBER(F36),ISNUMBER(E36)),F36-E36,"n/a") -> n/a | G38: n/a | H38: =IF(AND(ISNUMBER(H36),ISNUMBER(F36)),H36-F36,"n/a") -> n/a | I38: =IF(AND(ISNUMBER(I36),ISNUMBER(H36)),I36-H36,"n/a") -> 1 | J38: =IF(AND(ISNUMBER(J36),ISNUMBER(I36)),J36-I36,"n/a") -> 0
B39: Dividends declared (TWD m) | H39: =H33*F9 -> 155598 | I39: =I33*H9 -> 181524 | J39: =J33*I9 -> 181524
B40: % Y/Y | C40: n/a | D40: n/a | E40: n/a | F40: n/a | G40: n/a | H40: =IF(AND(ISNUMBER(H39),ISNUMBER(C39)),IF(C39=0,"n/a",H39/C39-1),"n/a") -> n/a | I40: =IF(AND(ISNUMBER(I39),ISNUMBER(D39)),IF(D39=0,"n/a",I39/D39-1),"n/a") -> n/a | J40: =IF(AND(ISNUMBER(J39),ISNUMBER(E39)),IF(E39=0,"n/a",J39/E39-1),"n/a") -> n/a
B41: Seq. change (abs.) | C41: n/a | D41: =IF(AND(ISNUMBER(D39),ISNUMBER(C39)),D39-C39,"n/a") -> n/a | E41: =IF(AND(ISNUMBER(E39),ISNUMBER(D39)),E39-D39,"n/a") -> n/a | F41: =IF(AND(ISNUMBER(F39),ISNUMBER(E39)),F39-E39,"n/a") -> n/a | G41: n/a | H41: =IF(AND(ISNUMBER(H39),ISNUMBER(F39)),H39-F39,"n/a") -> n/a | I41: =IF(AND(ISNUMBER(I39),ISNUMBER(H39)),I39-H39,"n/a") -> 25926 | J41: =IF(AND(ISNUMBER(J39),ISNUMBER(I39)),J39-I39,"n/a") -> 0
B42: Dividends paid (TWD m) | H42: =H36*F9 -> 129665 | I42: =I36*H9 -> 155592 | J42: =J36*I9 -> 155592 | K42: Ties to Cash Flow cash dividends: 1Q26 129,660 and 2Q26 155,590 reported
B43: % Y/Y | C43: n/a | D43: n/a | E43: n/a | F43: n/a | G43: n/a | H43: =IF(AND(ISNUMBER(H42),ISNUMBER(C42)),IF(C42=0,"n/a",H42/C42-1),"n/a") -> n/a | I43: =IF(AND(ISNUMBER(I42),ISNUMBER(D42)),IF(D42=0,"n/a",I42/D42-1),"n/a") -> n/a | J43: =IF(AND(ISNUMBER(J42),ISNUMBER(E42)),IF(E42=0,"n/a",J42/E42-1),"n/a") -> n/a
...

Sheet Guidance
B2: Taiwan Semiconductor Manufacturing Company Limited (NYSE: TSM | TWSE: 2330)
B3: Company guidance log (one row per guidance item) and guidance-implied 3Q26 P&L
B4: Revenue guidance in USD bn; margins in %; implied P&L in TWD millions (EPS NT$ and US$ per ADR)
B5: Period | C5: 3Q26E
B6: Period end | C6: 46295
B7: Days in period | C7: =C6-DATE(2026,6,30) -> 92
B9: Guidance log
B10: Guidance item | C10: Issued | D10: Period | E10: Low | F10: High | G10: Midpoint | H10: Actual / est. | I10: Beat / miss vs range | J10: Act. - mid
B11: 1Q25 net revenue (USD bn) | C11: 45673 | D11: 1Q25A | E11: 25 | F11: 25.8 | G11: =AVERAGE(E11:F11) -> 25.4 | H11: ='Revenue summary'!C30/1000 -> 25.53 | I11: =IF(H11>F11,"Beat (above range)",IF(H11>=G11,"Beat (upper half)",IF(H11>=E11,"Miss (lower half)","Miss (below range)"))) -> Beat (upper half) | J11: =H11-G11 -> 0.13
B12: 1Q25 gross margin | C12: 45673 | D12: 1Q25A | E12: 0.57 | F12: 0.59 | G12: =AVERAGE(E12:F12) -> 0.58 | H12: ='Income Statement'!C19 -> 0.58790783 | I12: =IF(H12>F12,"Beat (above range)",IF(H12>=G12,"Beat (upper half)",IF(H12>=E12,"Miss (lower half)","Miss (below range)"))) -> Beat (upper half) | J12: =(H12-G12) -> 0.0079078324
B13: 1Q25 operating margin | C13: 45673 | D13: 1Q25A | E13: 0.465 | F13: 0.485 | G13: =AVERAGE(E13:F13) -> 0.475 | H13: ='Income Statement'!C49 -> 0.48505458 | I13: =IF(H13>F13,"Beat (above range)",IF(H13>=G13,"Beat (upper half)",IF(H13>=E13,"Miss (lower half)","Miss (below range)"))) -> Beat (above range) | J13: =(H13-G13) -> 0.010054584
B14: 1Q25 FX assumption (TWD/USD) | C14: 45673 | D14: 1Q25A | E14: 32.8 | F14: 32.8 | G14: =AVERAGE(E14:F14) -> 32.8 | H14: ='Revenue summary'!C27 -> 32.88 | I14: n/a (assumption) | J14: =H14-G14 -> 0.08
B15: 2Q25 net revenue (USD bn) | C15: 45764 | D15: 2Q25A | E15: 28.4 | F15: 29.2 | G15: =AVERAGE(E15:F15) -> 28.8 | H15: ='Revenue summary'!D30/1000 -> 30.07 | I15: =IF(H15>F15,"Beat (above range)",IF(H15>=G15,"Beat (upper half)",IF(H15>=E15,"Miss (lower half)","Miss (below range)"))) -> Beat (above range) | J15: =H15-G15 -> 1.27
B16: 2Q25 gross margin | C16: 45764 | D16: 2Q25A | E16: 0.57 | F16: 0.59 | G16: =AVERAGE(E16:F16) -> 0.58 | H16: ='Income Statement'!D19 -> 0.58618193 | I16: =IF(H16>F16,"Beat (above range)",IF(H16>=G16,"Beat (upper half)",IF(H16>=E16,"Miss (lower half)","Miss (below range)"))) -> Beat (upper half) | J16: =(H16-G16) -> 0.0061819334
B17: 2Q25 operating margin | C17: 45764 | D17: 2Q25A | E17: 0.47 | F17: 0.49 | G17: =AVERAGE(E17:F17) -> 0.48 | H17: ='Income Statement'!D49 -> 0.49627969 | I17: =IF(H17>F17,"Beat (above range)",IF(H17>=G17,"Beat (upper half)",IF(H17>=E17,"Miss (lower half)","Miss (below range)"))) -> Beat (above range) | J17: =(H17-G17) -> 0.016279685
B18: 2Q25 FX assumption (TWD/USD) | C18: 45764 | D18: 2Q25A | E18: 32.5 | F18: 32.5 | G18: =AVERAGE(E18:F18) -> 32.5 | H18: ='Revenue summary'!D27 -> 31.05 | I18: n/a (assumption) | J18: =H18-G18 -> -1.45
B19: 3Q25 net revenue (USD bn) | C19: 45855 | D19: 3Q25A | E19: 31.8 | F19: 33 | G19: =AVERAGE(E19:F19) -> 32.4 | H19: ='Revenue summary'!E30/1000 -> 33.1 | I19: =IF(H19>F19,"Beat (above range)",IF(H19>=G19,"Beat (upper half)",IF(H19>=E19,"Miss (lower half)","Miss (below range)"))) -> Beat (above range) | J19: =H19-G19 -> 0.7
B20: 3Q25 gross margin | C20: 45855 | D20: 3Q25A | E20: 0.555 | F20: 0.575 | G20: =AVERAGE(E20:F20) -> 0.565 | H20: ='Income Statement'!E19 -> 0.59453207 | I20: =IF(H20>F20,"Beat (above range)",IF(H20>=G20,"Beat (upper half)",IF(H20>=E20,"Miss (lower half)","Miss (below range)"))) -> Beat (above range) | J20: =(H20-G20) -> 0.029532072
B21: 3Q25 operating margin | C21: 45855 | D21: 3Q25A | E21: 0.455 | F21: 0.475 | G21: =AVERAGE(E21:F21) -> 0.465 | H21: ='Income Statement'!E49 -> 0.50578735 | I21: =IF(H21>F21,"Beat (above range)",IF(H21>=G21,"Beat (upper half)",IF(H21>=E21,"Miss (lower half)","Miss (below range)"))) -> Beat (above range) | J21: =(H21-G21) -> 0.040787348
