Workbook

Sheet Cover
B2: Accenture plc | NYSE: ACN
B3: Cover
B4: $ millions, except per share
B5: Fiscal period | C5: 4Q25A | D5: 1Q26A | E5: 2Q26A | F5: 3Q26A | G5: FY25A | H5: 4Q26E
B6: Period end | C6: 45900 | D6: 45991 | E6: 46081 | F6: 46173 | G6: 45900 | H6: 46265
B7: Days in period | C7: 92 | D7: 91 | E7: 90 | F7: 92 | G7: 365 | H7: 92
B9: Company Model — built by Shortcut
B10: Accenture plc | ACN | New York Stock Exchange
B11: Fiscal year end: August 31 | Currency: USD | EPS: normalized diluted per Class A share
B12: Information cutoff: 2026-09-26 18:44:22 UTC | Expected report: 2026-10-01
B15: Metric | C15: Estimate | D15: CapIQ 09/24 | E15: Variance | F15: Issuer guidance / implied
B16: Revenue ($ millions) | C16: ='Revenue summary'!H10 -> 17950.153 | D16: =Inputs!C47 -> 18037.35 | E16: =C16-D16 -> -87.197299 | F16: =Guidance!G10 -> 18075
B17: Net income / EPS numerator ($ millions) | C17: ='Income Statement'!H45 -> 1930.3083 | D17: =Inputs!C57 -> 1953.33 | E17: =C17-D17 -> -23.021697 | F17: Not guided
B18: Normalized diluted EPS (USD) | C18: ='Income Statement'!H46 -> 3.1484734 | D18: =Inputs!C30 -> 3.18 | E18: =C18-D18 -> -0.031526579 | F18: =Guidance!G13-SUM('Income Statement'!D46:F46) -> 3.1668967
B19: GAAP diluted EPS (USD) | C19: ='Income Statement'!H39 -> 3.1484734 | D19: =Inputs!C39 -> 3.18 | E19: =C19-D19 -> -0.031526579 | F19: =Guidance!G14-SUM('Income Statement'!D39:F39) -> 3.1667238
B20: P(beat consensus EPS) | C20: =Inputs!H227 -> 0.44
B21: Confidence | C21: =Inputs!H228 -> medium
B23: Overall model check | C23: =IF(AND(ABS('Revenue summary'!H119)<0.001,ABS('Revenue summary'!H120)<0.001,ABS('Revenue summary'!H121)<0.001,ABS(Geo!H44)<0.001,ABS('Balance Sheet'!H44)<0.001,ABS('Cash Flow Statement'!H36)<0.001,ABS('Income Statement'!H47)<0.00001,ABS(C16-'Revenue summary'!H10)<0.001,ABS(C18-'Income Statement'!H46)<0.00001),"PASS","FAIL") -> PASS
J24: Notes
B25: Forecast context | J25: Fiscal FY2026 adjusted EPS midpoint implies Q4 $3.17; downside assumes soft consulting and guarded EMEA.
B26: Data provenance | J26: Historical reported values from SEC; CapIQ normalized consensus captured September 24 (date only).

Sheet Revenue summary
B2: Accenture plc | NYSE: ACN
B3: Revenue summary
B4: $ millions, except per share
B5: Fiscal period | C5: 4Q25A | D5: 1Q26A | E5: 2Q26A | F5: 3Q26A | G5: FY25A | H5: 4Q26E
B6: Period end | C6: 45900 | D6: 45991 | E6: 46081 | F6: 46173 | G6: 45900 | H6: 46265
B7: Days in period | C7: 92 | D7: 91 | E7: 90 | F7: 92 | G7: 365 | H7: 92
B10: Total revenues | C10: =SUM(C19,C29,C39) -> 17596.26 | D10: =SUM(D19,D29,D39) -> 18742.125 | E10: =SUM(E19,E29,E39) -> 18044.066 | F10: =SUM(F19,F29,F39) -> 18718.144 | G10: =SUM(G19,G29,G39) -> 69672.977 | H10: =SUM(H19,H29,H39) -> 17950.153
B11: Total growth Y/Y | C11: =C10/SUM(Inputs!C233:C235)-1 -> 0.07256212 | D11: =D10/SUM(Inputs!D233:D235)-1 -> 0.059502944 | E11: =E10/SUM(Inputs!E233:E235)-1 -> 0.083122635 | F11: =F10/SUM(Inputs!F233:F235)-1 -> 0.055859669 | G11: =G10/SUM(Inputs!G233:G235)-1 -> 0.073602053 | H11: =H10/C10-1 -> 0.020111814
B12: Revenue Q/Q | D12: =D10/C10-1 -> 0.065119804 | E12: =E10/D10-1 -> -0.037245456 | F12: =F10/E10-1 -> 0.037357323 | H12: =H10/F10-1 -> -0.041029244
B13: Organic / local-currency growth (proxy) | C13: =(1+C11)/((1+C14)*(1+C15))-1 -> 0.044554422 | D13: =(1+D11)/((1+D14)*(1+D15))-1 -> 0.047192096 | E13: =(1+E11)/((1+E14)*(1+E15))-1 -> 0.036190188 | F13: =(1+F11)/((1+F14)*(1+F15))-1 -> 0.030535339 | G13: =(1+G11)/((1+G14)*(1+G15))-1 -> 0.072112413 | H13: =(1+H11)/((1+H14)*(1+H15))-1 -> 0.0096017636
B14: M&A / scope | C14: =Inputs!H257 -> 0 | D14: =Inputs!H257 -> 0 | E14: =Inputs!H257 -> 0 | F14: =Inputs!H257 -> 0 | G14: =Inputs!H257 -> 0 | H14: =Inputs!H192 -> 0.015
B15: FX impact | C15: =(1+C11)/(1+SUMPRODUCT(Inputs!C233:C235,Inputs!C244:C246)/SUM(Inputs!C233:C235))-1 -> 0.026813057 | D15: =(1+D11)/(1+SUMPRODUCT(Inputs!D233:D235,Inputs!D244:D246)/SUM(Inputs!D233:D235))-1 -> 0.011756055 | E15: =(1+E11)/(1+SUMPRODUCT(Inputs!E233:E235,Inputs!E244:E246)/SUM(Inputs!E233:E235))-1 -> 0.045293275 | F15: =(1+F11)/(1+SUMPRODUCT(Inputs!F233:F235,Inputs!F244:F246)/SUM(Inputs!F233:F235))-1 -> 0.024573956 | G15: =(1+G11)/(1+SUMPRODUCT(Inputs!G233:G235,Inputs!G244:G246)/SUM(Inputs!G233:G235))-1 -> 0.0013894444 | H15: =Guidance!J12 -> -0.0045220741
B19: Americas revenue | C19: ='Segment - Americas'!C18 -> 8804.391 | D19: ='Segment - Americas'!D18 -> 9080.059 | E19: ='Segment - Americas'!E18 -> 8896.402 | F19: ='Segment - Americas'!F18 -> 9137.772 | G19: ='Segment - Americas'!G18 -> 35056.715 | H19: ='Segment - Americas'!H18 -> 8939.9886
B20: Organic growth | C20: ='Segment - Americas'!C19 -> 0.05 | D20: ='Segment - Americas'!D19 -> 0.04 | E20: ='Segment - Americas'!E19 -> 0.03 | F20: ='Segment - Americas'!F19 -> 0.01 | G20: ='Segment - Americas'!G19 -> 0.09 | H20: ='Segment - Americas'!H19 -> 0.0024
B21: M&A / scope | C21: ='Segment - Americas'!C20 -> 0 | D21: ='Segment - Americas'!D20 -> 0 | E21: ='Segment - Americas'!E20 -> 0 | F21: ='Segment - Americas'!F20 -> 0 | G21: ='Segment - Americas'!G20 -> 0 | H21: ='Segment - Americas'!H20 -> 0.015
B22: FX impact | C22: ='Segment - Americas'!C21 -> -0.0045483416 | D22: ='Segment - Americas'!D21 -> -0.00025982065 | E22: ='Segment - Americas'!E21 -> 0.0098426903 | F22: ='Segment - Americas'!F21 -> 0.0090527352 | G22: ='Segment - Americas'!G21 -> -0.011991868 | H22: ='Segment - Americas'!H21 -> -0.002
B23: Total Y/Y | C23: ='Segment - Americas'!C22 -> 0.045224241 | D23: ='Segment - Americas'!D22 -> 0.039729787 | E23: ='Segment - Americas'!E22 -> 0.040137971 | F23: ='Segment - Americas'!F22 -> 0.019143263 | G23: ='Segment - Americas'!G22 -> 0.076928864 | H23: ='Segment - Americas'!H22 -> 0.015401128
B24: Q/Q | D24: =D19/C19-1 -> 0.031310286 | E24: =E19/D19-1 -> -0.02022641 | F24: =F19/E19-1 -> 0.027131193 | H24: =H19/F19-1 -> -0.021644603
B25: % of total revenue | C25: =IFERROR(C19/C10,0) -> 0.50035581 | D25: =IFERROR(D19/D10,0) -> 0.48447329 | E25: =IFERROR(E19/E10,0) -> 0.49303754 | F25: =IFERROR(F19/F10,0) -> 0.48817725 | G25: =IFERROR(G19/G10,0) -> 0.50316086 | H25: ='Segment - Americas'!H24 -> 0.49804526
B29: EMEA revenue | C29: ='Segment - EMEA'!C18 -> 6196.281 | D29: ='Segment - EMEA'!D18 -> 6935.233 | E29: ='Segment - EMEA'!E18 -> 6569.391 | F29: ='Segment - EMEA'!F18 -> 6873.448 | G29: ='Segment - EMEA'!G18 -> 24643.957 | H29: ='Segment - EMEA'!H18 -> 6400.6703
B30: Organic growth | C30: ='Segment - EMEA'!C19 -> 0.03 | D30: ='Segment - EMEA'!D19 -> 0.04 | E30: ='Segment - EMEA'!E19 -> 0.02 | F30: ='Segment - EMEA'!F19 -> 0.04 | G30: ='Segment - EMEA'!G19 -> 0.06 | H30: ='Segment - EMEA'!H19 -> 0.028
B31: M&A / scope | C31: ='Segment - EMEA'!C20 -> 0 | D31: ='Segment - EMEA'!D20 -> 0 | E31: ='Segment - EMEA'!E20 -> 0 | F31: ='Segment - EMEA'!F20 -> 0 | G31: ='Segment - EMEA'!G20 -> 0 | H31: ='Segment - EMEA'!H20 -> 0.015
B32: FX impact | C32: ='Segment - EMEA'!C21 -> 0.066866402 | D32: ='Segment - EMEA'!D21 -> 0.040009855 | E32: ='Segment - EMEA'!E21 -> 0.10970333 | F32: ='Segment - EMEA'!F21 -> 0.060533497 | G32: ='Segment - EMEA'!G21 -> 0.018894703 | H32: ='Segment - EMEA'!H21 -> -0.01
B33: Total Y/Y | C33: ='Segment - EMEA'!C22 -> 0.098872395 | D33: ='Segment - EMEA'!D22 -> 0.081610249 | E33: ='Segment - EMEA'!E22 -> 0.1318974 | F33: ='Segment - EMEA'!F22 -> 0.10295484 | G33: ='Segment - EMEA'!G22 -> 0.080028385 | H33: ='Segment - EMEA'!H22 -> 0.0329858
B34: Q/Q | D34: =D29/C29-1 -> 0.11925734 | E34: =E29/D29-1 -> -0.05275122 | F34: =F29/E29-1 -> 0.046283895 | H34: =H29/F29-1 -> -0.068783195
B35: % of total revenue | C35: =IFERROR(C29/C10,0) -> 0.35213625 | D35: =IFERROR(D29/D10,0) -> 0.37003451 | E35: =IFERROR(E29/E10,0) -> 0.36407487 | F35: =IFERROR(F29/F10,0) -> 0.36720777 | G35: =IFERROR(G29/G10,0) -> 0.35370897 | H35: ='Segment - EMEA'!H24 -> 0.35658027
B39: Asia Pacific revenue | C39: ='Segment - Asia Pacific'!C18 -> 2595.588 | D39: ='Segment - Asia Pacific'!D18 -> 2726.833 | E39: ='Segment - Asia Pacific'!E18 -> 2578.273 | F39: ='Segment - Asia Pacific'!F18 -> 2706.924 | G39: ='Segment - Asia Pacific'!G18 -> 9972.305 | H39: ='Segment - Asia Pacific'!H18 -> 2609.4939
B40: Organic growth | C40: ='Segment - Asia Pacific'!C19 -> 0.06 | D40: ='Segment - Asia Pacific'!D19 -> 0.09 | E40: ='Segment - Asia Pacific'!E19 -> 0.1 | F40: ='Segment - Asia Pacific'!F19 -> 0.08 | G40: ='Segment - Asia Pacific'!G19 -> 0.04 | H40: ='Segment - Asia Pacific'!H19 -> -0.0095
B41: M&A / scope | C41: ='Segment - Asia Pacific'!C20 -> 0 | D41: ='Segment - Asia Pacific'!D20 -> 0 | E41: ='Segment - Asia Pacific'!E20 -> 0 | F41: ='Segment - Asia Pacific'!F20 -> 0 | G41: ='Segment - Asia Pacific'!G20 -> 0 | H41: ='Segment - Asia Pacific'!H20 -> 0.015
B42: FX impact | C42: ='Segment - Asia Pacific'!C21 -> 0.044827838 | D42: ='Segment - Asia Pacific'!D21 -> -0.016827032 | E42: ='Segment - Asia Pacific'!E21 -> 0.018049794 | F42: ='Segment - Asia Pacific'!F21 -> -0.0092809883 | G42: ='Segment - Asia Pacific'!G21 -> 0.0065775957 | H42: ='Segment - Asia Pacific'!H21 -> 0
B43: Total Y/Y | C43: ='Segment - Asia Pacific'!C22 -> 0.10751751 | D43: ='Segment - Asia Pacific'!D22 -> 0.071658535 | E43: ='Segment - Asia Pacific'!E22 -> 0.11985477 | F43: ='Segment - Asia Pacific'!F22 -> 0.069976533 | G43: ='Segment - Asia Pacific'!G22 -> 0.046840699 | H43: ='Segment - Asia Pacific'!H22 -> 0.0053575
B44: Q/Q | D44: =D39/C39-1 -> 0.05056465 | E44: =E39/D39-1 -> -0.054480784 | F44: =F39/E39-1 -> 0.049898129 | H44: =H39/F39-1 -> -0.035992934
B45: % of total revenue | C45: =IFERROR(C39/C10,0) -> 0.14750794 | D45: =IFERROR(D39/D10,0) -> 0.1454922 | E45: =IFERROR(E39/E10,0) -> 0.14288758 | F45: =IFERROR(F39/F10,0) -> 0.14461498 | G45: =IFERROR(G39/G10,0) -> 0.14313017 | H45: ='Segment - Asia Pacific'!H24 -> 0.14537447
B52: Consulting revenue | C52: =Inputs!C91 -> 8772.265 | D52: =Inputs!D91 -> 9414.567 | E52: =Inputs!E91 -> 8859.641 | F52: =Inputs!F91 -> 9328.494 | G52: =Inputs!G91 -> 35106.786 | H52: =H10*Inputs!H216 -> 8831.4751
B53: Organic growth | C53: =(1+C56)/((1+C54)*(1+C55))-1 -> 0.03 | D53: =(1+D56)/((1+D54)*(1+D55))-1 -> 0.03 | E53: =(1+E56)/((1+E54)*(1+E55))-1 -> 0.03 | F53: =(1+F56)/((1+F54)*(1+F55))-1 -> 0.01 | G53: =(1+G56)/((1+G54)*(1+G55))-1 -> 0.05 | H53: =(1+H56)/((1+H54)*(1+H55))-1 -> -0.0036226855
B54: M&A / scope | C54: =Inputs!H257 -> 0 | D54: =Inputs!H257 -> 0 | E54: =Inputs!H257 -> 0 | F54: =Inputs!H257 -> 0 | G54: =Inputs!H257 -> 0 | H54: =Inputs!H192 -> 0.015
B55: FX impact | C55: =(1+C56)/(1+Inputs!C247)-1 -> 0.031035699 | D55: =(1+D56)/(1+Inputs!D247)-1 -> 0.010516961 | E55: =(1+E56)/(1+Inputs!E247)-1 -> 0.038556288 | F55: =(1+F56)/(1+Inputs!F247)-1 -> 0.025435643 | G55: =(1+G56)/(1+Inputs!G247)-1 -> 0.0072278817 | H55: =Guidance!J12 -> -0.0045220741
B56: Total Y/Y | C56: =C52/Inputs!C236-1 -> 0.06196677 | D56: =D52/Inputs!D236-1 -> 0.04083247 | E56: =E52/Inputs!E236-1 -> 0.069712977 | F56: =F52/Inputs!F236-1 -> 0.035689999 | G56: =G52/Inputs!G236-1 -> 0.057589276 | H56: =H52/C52-1 -> 0.0067496968
B57: Q/Q | D57: =D52/C52-1 -> 0.07321963 | E57: =E52/D52-1 -> -0.058943337 | F57: =F52/E52-1 -> 0.05292009 | H57: =H52/F52-1 -> -0.053279647
B58: % of total revenue | C58: =IFERROR(C52/C10,0) -> 0.49853009 | D58: =IFERROR(D52/D10,0) -> 0.50232121 | E58: =IFERROR(E52/E10,0) -> 0.49100025 | F58: =IFERROR(F52/F10,0) -> 0.4983664 | G58: =IFERROR(G52/G10,0) -> 0.50387952 | H58: =IFERROR(H52/H10,0) -> 0.492
...

Sheet Segment - Americas
B2: Accenture plc | NYSE: ACN
B3: Segment - Americas
B4: $ millions, except per share
B5: Fiscal period | C5: 4Q25A | D5: 1Q26A | E5: 2Q26A | F5: 3Q26A | G5: FY25A | H5: 4Q26E
B6: Period end | C6: 45900 | D6: 45991 | E6: 46081 | F6: 46173 | G6: 45900 | H6: 46265
B7: Days in period | C7: 92 | D7: 91 | E7: 90 | F7: 92 | G7: 365 | H7: 92
B9: Source disclosure limits | J9: Customer/unit rollforward unavailable: filings do not disclose segment adds, churn, ARPU, or backlog.
B11: Segment new bookings — unavailable
B12: Billable volume / demand growth | H12: =Inputs!H186 -> 0.0024
B13: Realized price growth | H13: =Inputs!H189 -> 0
B14: Acquisition / scope growth | H14: =Inputs!H192 -> 0.015
B15: Foreign-exchange translation | H15: =Inputs!H193 -> -0.002
B16: Combined reported growth | H16: =PRODUCT(1+H12,1+H13,1+H14,1+H15)-1 -> 0.015401128
B18: Segment revenue | C18: =Inputs!C83 -> 8804.391 | D18: =Inputs!D83 -> 9080.059 | E18: =Inputs!E83 -> 8896.402 | F18: =Inputs!F83 -> 9137.772 | G18: =Inputs!G83 -> 35056.715 | H18: =C18*(1+H16) -> 8939.9886
B19: Organic growth | C19: =(1+C22)/((1+C20)*(1+C21))-1 -> 0.05 | D19: =(1+D22)/((1+D20)*(1+D21))-1 -> 0.04 | E19: =(1+E22)/((1+E20)*(1+E21))-1 -> 0.03 | F19: =(1+F22)/((1+F20)*(1+F21))-1 -> 0.01 | G19: =(1+G22)/((1+G20)*(1+G21))-1 -> 0.09 | H19: =(1+H22)/((1+H20)*(1+H21))-1 -> 0.0024
B20: M&A / scope | C20: =Inputs!H257 -> 0 | D20: =Inputs!H257 -> 0 | E20: =Inputs!H257 -> 0 | F20: =Inputs!H257 -> 0 | G20: =Inputs!H257 -> 0 | H20: =H14 -> 0.015
B21: FX impact | C21: =(1+C22)/(1+Inputs!C244)-1 -> -0.0045483416 | D21: =(1+D22)/(1+Inputs!D244)-1 -> -0.00025982065 | E21: =(1+E22)/(1+Inputs!E244)-1 -> 0.0098426903 | F21: =(1+F22)/(1+Inputs!F244)-1 -> 0.0090527352 | G21: =(1+G22)/(1+Inputs!G244)-1 -> -0.011991868 | H21: =H15 -> -0.002
B22: Total growth Y/Y | C22: =C18/Inputs!C233-1 -> 0.045224241 | D22: =D18/Inputs!D233-1 -> 0.039729787 | E22: =E18/Inputs!E233-1 -> 0.040137971 | F22: =F18/Inputs!F233-1 -> 0.019143263 | G22: =G18/Inputs!G233-1 -> 0.076928864 | H22: =H16 -> 0.015401128
B23: Revenue Q/Q | D23: =IFERROR(D18/C18-1,0) -> 0.031310286 | E23: =IFERROR(E18/D18-1,0) -> -0.02022641 | F23: =IFERROR(F18/E18-1,0) -> 0.027131193 | H23: =H18/F18-1 -> -0.021644603
B24: % of total revenue | C24: =IFERROR(C18/'Revenue summary'!C10,0) -> 0.50035581 | D24: =IFERROR(D18/'Revenue summary'!D10,0) -> 0.48447329 | E24: =IFERROR(E18/'Revenue summary'!E10,0) -> 0.49303754 | F24: =IFERROR(F18/'Revenue summary'!F10,0) -> 0.48817725 | G24: =IFERROR(G18/'Revenue summary'!G10,0) -> 0.50316086 | H24: =IFERROR(H18/'Revenue summary'!H10,0) -> 0.49804526
B25: Revenue Δ sequential | D25: =D18-C18 -> 275.668 | E25: =E18-D18 -> -183.657 | F25: =F18-E18 -> 241.37 | H25: =H18-F18 -> -197.78345
B26: Payroll costs | D26: =Inputs!D96 -> 5828.921 | E26: =Inputs!E96 -> 5820.277 | F26: =Inputs!F96 -> 5629.691 | H26: =H18*Inputs!H196 -> 5810.9926
B27: Payroll Y/Y
B28: Payroll Δ sequential | E28: =E26-D26 -> -8.644 | F28: =F26-E26 -> -190.586 | H28: =H26-F26 -> 181.30156
B29: Payroll / revenue | C29: =IF(ISNUMBER(C26),C26/C18,"") | D29: =IF(ISNUMBER(D26),D26/D18,"") -> 0.64194748 | E29: =IF(ISNUMBER(E26),E26/E18,"") -> 0.65422819 | F29: =IF(ISNUMBER(F26),F26/F18,"") -> 0.61609011 | G29: =IF(ISNUMBER(G26),G26/G18,"") | H29: =IF(ISNUMBER(H26),H26/H18,"") -> 0.65
B30: Payroll rate Δ (bp) | E30: =(E29-D29)*10000 -> 122.80712 | F30: =(F29-E29)*10000 -> -381.38078 | H30: =(H29-F29)*10000 -> 339.09885
B31: Non-payroll & subcontractors | D31: =Inputs!D99 -> 1480.392 | E31: =Inputs!E99 -> 1491.471 | F31: =Inputs!F99 -> 1616.931 | H31: =H18*Inputs!H199 -> 1519.7981
B32: Non-payroll Y/Y
B33: Non-payroll Δ sequential | E33: =E31-D31 -> 11.079 | F33: =F31-E31 -> 125.46 | H33: =H31-F31 -> -97.132946
B34: Non-payroll / revenue | C34: =IF(ISNUMBER(C31),C31/C18,"") | D34: =IF(ISNUMBER(D31),D31/D18,"") -> 0.16303771 | E34: =IF(ISNUMBER(E31),E31/E18,"") -> 0.16764879 | F34: =IF(ISNUMBER(F31),F31/F18,"") -> 0.17695025 | G34: =IF(ISNUMBER(G31),G31/G18,"") | H34: =IF(ISNUMBER(H31),H31/H18,"") -> 0.17
B35: Non-payroll rate Δ (bp) | E35: =(E34-D34)*10000 -> 46.110794 | F35: =(F34-E34)*10000 -> 93.014591 | H35: =(H34-F34)*10000 -> -69.502456
B36: Depreciation & amortization | D36: =Inputs!D102 -> 176.662 | E36: =Inputs!E102 -> 191.595 | F36: =Inputs!F102 -> 183.052 | H36: =H18*Inputs!H202 -> 268.19966
B37: D&A Y/Y
B38: D&A Δ sequential | E38: =E36-D36 -> 14.933 | F38: =F36-E36 -> -8.543 | H38: =H36-F36 -> 85.147657
B39: D&A / revenue | C39: =IF(ISNUMBER(C36),C36/C18,"") | D39: =IF(ISNUMBER(D36),D36/D18,"") -> 0.019456041 | E39: =IF(ISNUMBER(E36),E36/E18,"") -> 0.021536235 | F39: =IF(ISNUMBER(F36),F36/F18,"") -> 0.020032454 | G39: =IF(ISNUMBER(G36),G36/G18,"") | H39: =IF(ISNUMBER(H36),H36/H18,"") -> 0.03
B40: D&A rate Δ (bp) | E40: =(E39-D39)*10000 -> 20.801936 | F40: =(F39-E39)*10000 -> -15.037802 | H40: =(H39-F39)*10000 -> 99.675457
B41: Business optimization costs | C41: =Inputs!C260 -> 420.469 | D41: =Inputs!D105 -> 66.749 | E41: =Inputs!E112 -> 0 | F41: =Inputs!F112 -> 0 | G41: =Inputs!C260 -> 420.469 | H41: =Inputs!H229 -> 0
B42: Optimization Y/Y | H42: =H41/C41-1 -> -1
B43: Operating profit | C43: =Inputs!C93 -> 987.032 | D43: =D18-SUM(D26,D31,D36,D41) -> 1527.335 | E43: =E18-SUM(E26,E31,E36,E41) -> 1393.059 | F43: =F18-SUM(F26,F31,F36,F41) -> 1708.098 | G43: =Inputs!G93 -> 5324.339 | H43: =H18-SUM(H26,H31,H36,H41) -> 1340.9983
B44: Operating profit Y/Y | H44: =H43/C43-1 -> 0.35861683
...

Sheet Segment - EMEA
B2: Accenture plc | NYSE: ACN
B3: Segment - EMEA
B4: $ millions, except per share
B5: Fiscal period | C5: 4Q25A | D5: 1Q26A | E5: 2Q26A | F5: 3Q26A | G5: FY25A | H5: 4Q26E
B6: Period end | C6: 45900 | D6: 45991 | E6: 46081 | F6: 46173 | G6: 45900 | H6: 46265
B7: Days in period | C7: 92 | D7: 91 | E7: 90 | F7: 92 | G7: 365 | H7: 92
B9: Source disclosure limits | J9: Customer/unit rollforward unavailable: filings do not disclose segment adds, churn, ARPU, or backlog.
B11: Segment new bookings — unavailable
B12: Billable volume / demand growth | H12: =Inputs!H187 -> 0.028
B13: Realized price growth | H13: =Inputs!H190 -> 0
B14: Acquisition / scope growth | H14: =Inputs!H192 -> 0.015
B15: Foreign-exchange translation | H15: =Inputs!H194 -> -0.01
B16: Combined reported growth | H16: =PRODUCT(1+H12,1+H13,1+H14,1+H15)-1 -> 0.0329858
B18: Segment revenue | C18: =Inputs!C84 -> 6196.281 | D18: =Inputs!D84 -> 6935.233 | E18: =Inputs!E84 -> 6569.391 | F18: =Inputs!F84 -> 6873.448 | G18: =Inputs!G84 -> 24643.957 | H18: =C18*(1+H16) -> 6400.6703
B19: Organic growth | C19: =(1+C22)/((1+C20)*(1+C21))-1 -> 0.03 | D19: =(1+D22)/((1+D20)*(1+D21))-1 -> 0.04 | E19: =(1+E22)/((1+E20)*(1+E21))-1 -> 0.02 | F19: =(1+F22)/((1+F20)*(1+F21))-1 -> 0.04 | G19: =(1+G22)/((1+G20)*(1+G21))-1 -> 0.06 | H19: =(1+H22)/((1+H20)*(1+H21))-1 -> 0.028
B20: M&A / scope | C20: =Inputs!H257 -> 0 | D20: =Inputs!H257 -> 0 | E20: =Inputs!H257 -> 0 | F20: =Inputs!H257 -> 0 | G20: =Inputs!H257 -> 0 | H20: =H14 -> 0.015
B21: FX impact | C21: =(1+C22)/(1+Inputs!C245)-1 -> 0.066866402 | D21: =(1+D22)/(1+Inputs!D245)-1 -> 0.040009855 | E21: =(1+E22)/(1+Inputs!E245)-1 -> 0.10970333 | F21: =(1+F22)/(1+Inputs!F245)-1 -> 0.060533497 | G21: =(1+G22)/(1+Inputs!G245)-1 -> 0.018894703 | H21: =H15 -> -0.01
B22: Total growth Y/Y | C22: =C18/Inputs!C234-1 -> 0.098872395 | D22: =D18/Inputs!D234-1 -> 0.081610249 | E22: =E18/Inputs!E234-1 -> 0.1318974 | F22: =F18/Inputs!F234-1 -> 0.10295484 | G22: =G18/Inputs!G234-1 -> 0.080028385 | H22: =H16 -> 0.0329858
B23: Revenue Q/Q | D23: =IFERROR(D18/C18-1,0) -> 0.11925734 | E23: =IFERROR(E18/D18-1,0) -> -0.05275122 | F23: =IFERROR(F18/E18-1,0) -> 0.046283895 | H23: =H18/F18-1 -> -0.068783195
B24: % of total revenue | C24: =IFERROR(C18/'Revenue summary'!C10,0) -> 0.35213625 | D24: =IFERROR(D18/'Revenue summary'!D10,0) -> 0.37003451 | E24: =IFERROR(E18/'Revenue summary'!E10,0) -> 0.36407487 | F24: =IFERROR(F18/'Revenue summary'!F10,0) -> 0.36720777 | G24: =IFERROR(G18/'Revenue summary'!G10,0) -> 0.35370897 | H24: =IFERROR(H18/'Revenue summary'!H10,0) -> 0.35658027
B25: Revenue Δ sequential | D25: =D18-C18 -> 738.952 | E25: =E18-D18 -> -365.842 | F25: =F18-E18 -> 304.057 | H25: =H18-F18 -> -472.77771
B26: Payroll costs | D26: =Inputs!D97 -> 4620.806 | E26: =Inputs!E97 -> 4612.648 | F26: =Inputs!F97 -> 4536.068 | H26: =H18*Inputs!H197 -> 4288.4491
B27: Payroll Y/Y
B28: Payroll Δ sequential | E28: =E26-D26 -> -8.158 | F28: =F26-E26 -> -76.58 | H28: =H26-F26 -> -247.61891
B29: Payroll / revenue | C29: =IF(ISNUMBER(C26),C26/C18,"") | D29: =IF(ISNUMBER(D26),D26/D18,"") -> 0.66627985 | E29: =IF(ISNUMBER(E26),E26/E18,"") -> 0.70214241 | F29: =IF(ISNUMBER(F26),F26/F18,"") -> 0.65994069 | G29: =IF(ISNUMBER(G26),G26/G18,"") | H29: =IF(ISNUMBER(H26),H26/H18,"") -> 0.67
B30: Payroll rate Δ (bp) | E30: =(E29-D29)*10000 -> 358.62556 | F30: =(F29-E29)*10000 -> -422.01718 | H30: =(H29-F29)*10000 -> 100.59312
B31: Non-payroll & subcontractors | D31: =Inputs!D100 -> 1098.985 | E31: =Inputs!E100 -> 1128.806 | F31: =Inputs!F100 -> 1191.989 | H31: =H18*Inputs!H200 -> 1088.1139
B32: Non-payroll Y/Y
B33: Non-payroll Δ sequential | E33: =E31-D31 -> 29.821 | F33: =F31-E31 -> 63.183 | H33: =H31-F31 -> -103.87505
B34: Non-payroll / revenue | C34: =IF(ISNUMBER(C31),C31/C18,"") | D34: =IF(ISNUMBER(D31),D31/D18,"") -> 0.15846403 | E34: =IF(ISNUMBER(E31),E31/E18,"") -> 0.1718281 | F34: =IF(ISNUMBER(F31),F31/F18,"") -> 0.17341937 | G34: =IF(ISNUMBER(G31),G31/G18,"") | H34: =IF(ISNUMBER(H31),H31/H18,"") -> 0.17
B35: Non-payroll rate Δ (bp) | E35: =(E34-D34)*10000 -> 133.6407 | F35: =(F34-E34)*10000 -> 15.912628 | H35: =(H34-F34)*10000 -> -34.193668
B36: Depreciation & amortization | D36: =Inputs!D103 -> 145.14 | E36: =Inputs!E103 -> 151.19 | F36: =Inputs!F103 -> 151.385 | H36: =H18*Inputs!H203 -> 192.02011
B37: D&A Y/Y
B38: D&A Δ sequential | E38: =E36-D36 -> 6.05 | F38: =F36-E36 -> 0.195 | H38: =H36-F36 -> 40.635109
B39: D&A / revenue | C39: =IF(ISNUMBER(C36),C36/C18,"") | D39: =IF(ISNUMBER(D36),D36/D18,"") -> 0.02092792 | E39: =IF(ISNUMBER(E36),E36/E18,"") -> 0.02301431 | F39: =IF(ISNUMBER(F36),F36/F18,"") -> 0.022024608 | G39: =IF(ISNUMBER(G36),G36/G18,"") | H39: =IF(ISNUMBER(H36),H36/H18,"") -> 0.03
B40: D&A rate Δ (bp) | E40: =(E39-D39)*10000 -> 20.863901 | F40: =(F39-E39)*10000 -> -9.8970153 | H40: =(H39-F39)*10000 -> 79.753917
B41: Business optimization costs | C41: =Inputs!C261 -> 131.98 | D41: =Inputs!D106 -> 169.811 | E41: =Inputs!E112 -> 0 | F41: =Inputs!F112 -> 0 | G41: =Inputs!C261 -> 131.98 | H41: =Inputs!H229 -> 0
B42: Optimization Y/Y | H42: =H41/C41-1 -> -1
B43: Operating profit | C43: =Inputs!C94 -> 662.688 | D43: =D18-SUM(D26,D31,D36,D41) -> 900.491 | E43: =E18-SUM(E26,E31,E36,E41) -> 676.747 | F43: =F18-SUM(F26,F31,F36,F41) -> 994.006 | G43: =Inputs!G94 -> 3090.993 | H43: =H18-SUM(H26,H31,H36,H41) -> 832.08714
B44: Operating profit Y/Y | H44: =H43/C43-1 -> 0.25562427
...

Sheet Segment - Asia Pacific
B2: Accenture plc | NYSE: ACN
B3: Segment - Asia Pacific
B4: $ millions, except per share
B5: Fiscal period | C5: 4Q25A | D5: 1Q26A | E5: 2Q26A | F5: 3Q26A | G5: FY25A | H5: 4Q26E
B6: Period end | C6: 45900 | D6: 45991 | E6: 46081 | F6: 46173 | G6: 45900 | H6: 46265
B7: Days in period | C7: 92 | D7: 91 | E7: 90 | F7: 92 | G7: 365 | H7: 92
B9: Source disclosure limits | J9: Customer/unit rollforward unavailable: filings do not disclose segment adds, churn, ARPU, or backlog.
B11: Segment new bookings — unavailable
B12: Billable volume / demand growth | H12: =Inputs!H188 -> -0.0095
B13: Realized price growth | H13: =Inputs!H191 -> 0
B14: Acquisition / scope growth | H14: =Inputs!H192 -> 0.015
B15: Foreign-exchange translation | H15: =Inputs!H195 -> 0
B16: Combined reported growth | H16: =PRODUCT(1+H12,1+H13,1+H14,1+H15)-1 -> 0.0053575
B18: Segment revenue | C18: =Inputs!C85 -> 2595.588 | D18: =Inputs!D85 -> 2726.833 | E18: =Inputs!E85 -> 2578.273 | F18: =Inputs!F85 -> 2706.924 | G18: =Inputs!G85 -> 9972.305 | H18: =C18*(1+H16) -> 2609.4939
B19: Organic growth | C19: =(1+C22)/((1+C20)*(1+C21))-1 -> 0.06 | D19: =(1+D22)/((1+D20)*(1+D21))-1 -> 0.09 | E19: =(1+E22)/((1+E20)*(1+E21))-1 -> 0.1 | F19: =(1+F22)/((1+F20)*(1+F21))-1 -> 0.08 | G19: =(1+G22)/((1+G20)*(1+G21))-1 -> 0.04 | H19: =(1+H22)/((1+H20)*(1+H21))-1 -> -0.0095
B20: M&A / scope | C20: =Inputs!H257 -> 0 | D20: =Inputs!H257 -> 0 | E20: =Inputs!H257 -> 0 | F20: =Inputs!H257 -> 0 | G20: =Inputs!H257 -> 0 | H20: =H14 -> 0.015
B21: FX impact | C21: =(1+C22)/(1+Inputs!C246)-1 -> 0.044827838 | D21: =(1+D22)/(1+Inputs!D246)-1 -> -0.016827032 | E21: =(1+E22)/(1+Inputs!E246)-1 -> 0.018049794 | F21: =(1+F22)/(1+Inputs!F246)-1 -> -0.0092809883 | G21: =(1+G22)/(1+Inputs!G246)-1 -> 0.0065775957 | H21: =H15 -> 0
B22: Total growth Y/Y | C22: =C18/Inputs!C235-1 -> 0.10751751 | D22: =D18/Inputs!D235-1 -> 0.071658535 | E22: =E18/Inputs!E235-1 -> 0.11985477 | F22: =F18/Inputs!F235-1 -> 0.069976533 | G22: =G18/Inputs!G235-1 -> 0.046840699 | H22: =H16 -> 0.0053575
B23: Revenue Q/Q | D23: =IFERROR(D18/C18-1,0) -> 0.05056465 | E23: =IFERROR(E18/D18-1,0) -> -0.054480784 | F23: =IFERROR(F18/E18-1,0) -> 0.049898129 | H23: =H18/F18-1 -> -0.035992934
B24: % of total revenue | C24: =IFERROR(C18/'Revenue summary'!C10,0) -> 0.14750794 | D24: =IFERROR(D18/'Revenue summary'!D10,0) -> 0.1454922 | E24: =IFERROR(E18/'Revenue summary'!E10,0) -> 0.14288758 | F24: =IFERROR(F18/'Revenue summary'!F10,0) -> 0.14461498 | G24: =IFERROR(G18/'Revenue summary'!G10,0) -> 0.14313017 | H24: =IFERROR(H18/'Revenue summary'!H10,0) -> 0.14537447
B25: Revenue Δ sequential | D25: =D18-C18 -> 131.245 | E25: =E18-D18 -> -148.56 | F25: =F18-E18 -> 128.651 | H25: =H18-F18 -> -97.430137
B26: Payroll costs | D26: =Inputs!D98 -> 1680.353 | E26: =Inputs!E98 -> 1620.452 | F26: =Inputs!F98 -> 1668.328 | H26: =H18*Inputs!H198 -> 1591.7913
B27: Payroll Y/Y
B28: Payroll Δ sequential | E28: =E26-D26 -> -59.901 | F28: =F26-E26 -> 47.876 | H28: =H26-F26 -> -76.536744
B29: Payroll / revenue | C29: =IF(ISNUMBER(C26),C26/C18,"") | D29: =IF(ISNUMBER(D26),D26/D18,"") -> 0.61622879 | E29: =IF(ISNUMBER(E26),E26/E18,"") -> 0.62850288 | F29: =IF(ISNUMBER(F26),F26/F18,"") -> 0.61631874 | G29: =IF(ISNUMBER(G26),G26/G18,"") | H29: =IF(ISNUMBER(H26),H26/H18,"") -> 0.61
B30: Payroll rate Δ (bp) | E30: =(E29-D29)*10000 -> 122.74088 | F30: =(F29-E29)*10000 -> -121.84134 | H30: =(H29-F29)*10000 -> -63.187441
B31: Non-payroll & subcontractors | D31: =Inputs!D101 -> 479.486 | E31: =Inputs!E101 -> 483.342 | F31: =Inputs!F101 -> 508.993 | H31: =H18*Inputs!H201 -> 443.61396
B32: Non-payroll Y/Y
B33: Non-payroll Δ sequential | E33: =E31-D31 -> 3.856 | F33: =F31-E31 -> 25.651 | H33: =H31-F31 -> -65.379043
B34: Non-payroll / revenue | C34: =IF(ISNUMBER(C31),C31/C18,"") | D34: =IF(ISNUMBER(D31),D31/D18,"") -> 0.17583988 | E34: =IF(ISNUMBER(E31),E31/E18,"") -> 0.18746735 | F34: =IF(ISNUMBER(F31),F31/F18,"") -> 0.18803372 | G34: =IF(ISNUMBER(G31),G31/G18,"") | H34: =IF(ISNUMBER(H31),H31/H18,"") -> 0.17
B35: Non-payroll rate Δ (bp) | E35: =(E34-D34)*10000 -> 116.27463 | F35: =(F34-E34)*10000 -> 5.6637656 | H35: =(H34-F34)*10000 -> -180.33724
B36: Depreciation & amortization | D36: =Inputs!D104 -> 50.141 | E36: =Inputs!E104 -> 50.738 | F36: =Inputs!F104 -> 56.409 | H36: =H18*Inputs!H204 -> 52.189877
B37: D&A Y/Y
B38: D&A Δ sequential | E38: =E36-D36 -> 0.597 | F38: =F36-E36 -> 5.671 | H38: =H36-F36 -> -4.2191227
B39: D&A / revenue | C39: =IF(ISNUMBER(C36),C36/C18,"") | D39: =IF(ISNUMBER(D36),D36/D18,"") -> 0.018387998 | E39: =IF(ISNUMBER(E36),E36/E18,"") -> 0.019679064 | F39: =IF(ISNUMBER(F36),F36/F18,"") -> 0.020838782 | G39: =IF(ISNUMBER(G36),G36/G18,"") | H39: =IF(ISNUMBER(H36),H36/H18,"") -> 0.02
B40: D&A rate Δ (bp) | E40: =(E39-D39)*10000 -> 12.910662 | F40: =(F39-E39)*10000 -> 11.597181 | H40: =(H39-F39)*10000 -> -8.3878232
B41: Business optimization costs | C41: =Inputs!C262 -> 62.875 | D41: =Inputs!D107 -> 70.981 | E41: =Inputs!E112 -> 0 | F41: =Inputs!F112 -> 0 | G41: =Inputs!C262 -> 62.875 | H41: =Inputs!H229 -> 0
B42: Optimization Y/Y | H42: =H41/C41-1 -> -1
B43: Operating profit | C43: =Inputs!C95 -> 399.971 | D43: =D18-SUM(D26,D31,D36,D41) -> 445.872 | E43: =E18-SUM(E26,E31,E36,E41) -> 423.741 | F43: =F18-SUM(F26,F31,F36,F41) -> 473.194 | G43: =Inputs!G95 -> 1810.332 | H43: =H18-SUM(H26,H31,H36,H41) -> 521.89877
B44: Operating profit Y/Y | H44: =H43/C43-1 -> 0.30484153
...

Sheet Income Statement
B2: Accenture plc | NYSE: ACN
B3: Income Statement
B4: $ millions, except per share
B5: Fiscal period | C5: 4Q25A | D5: 1Q26A | E5: 2Q26A | F5: 3Q26A | G5: FY25A | H5: 4Q26E
B6: Period end | C6: 45900 | D6: 45991 | E6: 46081 | F6: 46173 | G6: 45900 | H6: 46265
B7: Days in period | C7: 92 | D7: 91 | E7: 90 | F7: 92 | G7: 365 | H7: 92
B10: Revenues | C10: ='Revenue summary'!C10 -> 17596.26 | D10: ='Revenue summary'!D10 -> 18742.125 | E10: ='Revenue summary'!E10 -> 18044.066 | F10: ='Revenue summary'!F10 -> 18718.144 | G10: ='Revenue summary'!G10 -> 69672.977 | H10: ='Revenue summary'!H10 -> 17950.153
B11: Revenue growth Y/Y | C11: ='Revenue summary'!C11 -> 0.07256212 | D11: ='Revenue summary'!D11 -> 0.059502944 | E11: ='Revenue summary'!E11 -> 0.083122635 | F11: ='Revenue summary'!F11 -> 0.055859669 | G11: ='Revenue summary'!G11 -> 0.073602053 | H11: =H10/C10-1 -> 0.020111814
B12: Revenue growth Q/Q | D12: =D10/C10-1 -> 0.065119804 | E12: =E10/D10-1 -> -0.037245456 | F12: =F10/E10-1 -> 0.037357323 | H12: =H10/F10-1 -> -0.041029244
B13: Cost of services | C13: =Inputs!C109 -> 11985.326 | D13: =Inputs!D109 -> 12545.007 | E13: =Inputs!E109 -> 12584.705 | F13: =Inputs!F109 -> 12583.809 | G13: =Inputs!G109 -> 47437.576 | H13: =H10*Inputs!H205 -> 12242.004
B14: Gross profit | C14: =C10-C13 -> 5610.934 | D14: =D10-D13 -> 6197.118 | E14: =E10-E13 -> 5459.361 | F14: =F10-F13 -> 6134.335 | G14: =G10-G13 -> 22235.401 | H14: =H10-H13 -> 5708.1486
B15: Gross margin | C15: =C14/C10 -> 0.31887083 | D15: =D14/D10 -> 0.33065183 | E15: =E14/E10 -> 0.30255714 | F15: =F14/F10 -> 0.32772133 | G15: =G14/G10 -> 0.31913953 | H15: =H14/H10 -> 0.318
B16: Gross margin Δ (bp) | D16: =(D15-C15)*10000 -> 117.81006 | E16: =(E15-D15)*10000 -> -280.94694 | F16: =(F15-E15)*10000 -> 251.64188 | H16: =(H15-F15)*10000 -> -97.213275
B17: Sales and marketing | C17: =Inputs!C110 -> 1793.056 | D17: =Inputs!D110 -> 1874.932 | E17: =Inputs!E110 -> 1748.902 | F17: =Inputs!F110 -> 1811.028 | G17: =Inputs!G110 -> 7043.445 | H17: =H10*Inputs!H206 -> 1821.9405
B18: General & administrative | C18: =Inputs!C111 -> 1152.863 | D18: =Inputs!D111 -> 1140.947 | E18: =Inputs!E111 -> 1216.912 | F18: =Inputs!F111 -> 1148.009 | G18: =Inputs!G111 -> 4350.968 | H18: =H14-H17-H20-H19 -> 1191.2239
B19: Business optimization expense | C19: =Inputs!C112 -> 615.324 | D19: =Inputs!D112 -> 307.541 | E19: =Inputs!E112 -> 0 | F19: =Inputs!F112 -> 0 | G19: =Inputs!G112 -> 615.324 | H19: =Inputs!H229 -> 0
B20: Operating income | C20: =C14-SUM(C17:C19) -> 2049.691 | D20: =D14-SUM(D17:D19) -> 2873.698 | E20: =E14-SUM(E17:E19) -> 2493.547 | F20: =F14-SUM(F17:F19) -> 3175.298 | G20: =G14-SUM(G17:G19) -> 10225.664 | H20: =SUM('Segment - Americas'!H43,'Segment - EMEA'!H43,'Segment - Asia Pacific'!H43) -> 2694.9842
B21: Operating margin | C21: =C20/C10 -> 0.11648447 | D21: =D20/D10 -> 0.15332829 | E21: =E20/E10 -> 0.13819208 | F21: =F20/F10 -> 0.16963744 | G21: =G20/G10 -> 0.14676657 | H21: =H20/H10 -> 0.15013712
B22: Operating margin Δ (bp) | D22: =(D21-C21)*10000 -> 368.43822 | E22: =(E21-D21)*10000 -> -151.36212 | F22: =(F21-E21)*10000 -> 314.45359 | H22: =(H21-F21)*10000 -> -195.00321
B23: Interest income | C23: =Inputs!C113 -> 105.197 | D23: =Inputs!D113 -> 106.223 | E23: =Inputs!E113 -> 78.536 | F23: =Inputs!F113 -> 75.069 | G23: =Inputs!G113 -> 336.324 | H23: =Inputs!H208 -> 75
B24: Interest expense | C24: =Inputs!C114 -> -66.243 | D24: =Inputs!D114 -> -65.365 | E24: =Inputs!E114 -> -63.566 | F24: =Inputs!F114 -> -70.645 | G24: =Inputs!G114 -> -228.555 | H24: =Inputs!H209 -> -72
B25: Other non-operating income / (expense) | C25: =Inputs!C115 -> -13.41 | D25: =Inputs!D115 -> 53.114 | E25: =Inputs!E115 -> -51.863 | F25: =Inputs!F115 -> -29.894 | G25: =Inputs!G115 -> -63.04 | H25: =Inputs!H210 -> -30
B26: Income before taxes | C26: =SUM(C20,C23:C25) -> 2075.235 | D26: =SUM(D20,D23:D25) -> 2967.67 | E26: =SUM(E20,E23:E25) -> 2456.654 | F26: =SUM(F20,F23:F25) -> 3149.828 | G26: =SUM(G20,G23:G25) -> 10270.393 | H26: =SUM(H20,H23:H25) -> 2667.9842
B27: Income tax expense | C27: =Inputs!C116 -> 625.429 | D27: =Inputs!D116 -> 725.774 | E27: =Inputs!E116 -> 597.266 | F27: =Inputs!F116 -> 761.935 | G27: =Inputs!G116 -> 2437.993 | H27: =H26*Inputs!H207 -> 693.67589
B28: Effective tax rate | C28: =C27/C26 -> 0.30137743 | D28: =D27/D26 -> 0.24456021 | E28: =E27/E26 -> 0.24312174 | F28: =F27/F26 -> 0.24189734 | G28: =G27/G26 -> 0.23738069 | H28: =H27/H26 -> 0.26
B29: Tax rate Δ (bp) | D29: =(D28-C28)*10000 -> -568.17224 | E29: =(E28-D28)*10000 -> -14.384685 | F29: =(F28-E28)*10000 -> -12.244067 | H29: =(H28-F28)*10000 -> 181.02665
B30: Consolidated net income | C30: =C26-C27 -> 1449.806 | D30: =D26-D27 -> 2241.896 | E30: =E26-E27 -> 1859.388 | F30: =F26-F27 -> 2387.893 | G30: =G26-G27 -> 7832.4 | H30: =H26-H27 -> 1974.3083
B31: Canada noncontrolling interests | C31: -1.326 | D31: -2.083 | E31: -1.714 | F31: -2.203 | G31: -7.24 | H31: =-H34 -> -2
B32: Other noncontrolling interests | C32: =Inputs!C118-Inputs!C117-C31 -> -34.517 | D32: =Inputs!D118-Inputs!D117-D31 -> -28.252 | E32: =Inputs!E118-Inputs!E117-E31 -> -32.435 | F32: =Inputs!F118-Inputs!F117-F31 -> -46.701 | G32: =Inputs!G118-Inputs!G117-G31 -> -146.727 | H32: =Inputs!H212 -> -44
B33: Net income attributable to Accenture plc | C33: =C30+SUM(C31:C32) -> 1413.963 | D33: =D30+SUM(D31:D32) -> 2211.561 | E33: =E30+SUM(E31:E32) -> 1825.239 | F33: =F30+SUM(F31:F32) -> 2338.989 | G33: =G30+SUM(G31:G32) -> 7678.433 | H33: =H30+SUM(H31:H32) -> 1928.3083
B34: Diluted numerator: Canada NCI add-back | C34: =-C31 -> 1.326 | D34: =-D31 -> 2.083 | E34: =-E31 -> 1.714 | F34: =-F31 -> 2.203 | G34: =-G31 -> 7.24 | H34: =Inputs!H211 -> 2
B35: GAAP diluted income numerator | C35: =C33+C34 -> 1415.289 | D35: =D33+D34 -> 2213.644 | E35: =E33+E34 -> 1826.953 | F35: =F33+F34 -> 2341.192 | G35: =G33+G34 -> 7685.673 | H35: =H33+H34 -> 1930.3083
B36: Basic shares (m) | C36: ='Share Count'!C10 -> 622.63581 | D36: ='Share Count'!D10 -> 619.30709 | E36: ='Share Count'!E10 -> 616.99211 | F36: ='Share Count'!F10 -> 612.21345 | G36: ='Share Count'!G10 -> 624.89165 | H36: ='Share Count'!H10 -> 609.71345
B37: Diluted shares (m) | C37: ='Share Count'!C15 -> 629.41813 | D37: ='Share Count'!D15 -> 626.04304 | E37: ='Share Count'!E15 -> 622.64089 | F37: ='Share Count'!F15 -> 615.59341 | G37: ='Share Count'!G15 -> 632.43511 | H37: ='Share Count'!H15 -> 613.09341
B38: GAAP basic EPS | C38: =C33/C36 -> 2.270931 | D38: =D33/D36 -> 3.5710249 | E38: =E33/E36 -> 2.9582858 | F38: =F33/F36 -> 3.8205449 | G38: =G33/G36 -> 12.287623 | H38: =H33/H36 -> 3.1626468
B39: GAAP diluted EPS | C39: =C35/C37 -> 2.2485673 | D39: =D35/D37 -> 3.5359294 | E39: =E35/E37 -> 2.9342002 | F39: =F35/F37 -> 3.8031466 | G39: =G35/G37 -> 12.152508 | H39: =H35/H37 -> 3.1484734
B40: GAAP diluted EPS Y/Y | H40: =H39/C39-1 -> 0.40021314
B42: Business optimization pretax add-back | C42: =C19 -> 615.324 | D42: =D19 -> 307.541 | E42: =0*E10 -> 0 | F42: =0*F10 -> 0 | G42: =G19 -> 615.324 | H42: =H19 -> 0
B43: Related tax effect (negative) | C43: =-Inputs!C182 -> -125.913 | D43: =-Inputs!D182 -> -57.232 | E43: =0*E10 -> 0 | F43: =0*F10 -> 0 | G43: =-Inputs!C182 -> -125.913 | H43: =-H42*H28 -> 0
B44: Other normalized adjustments | C44: =0*C10 -> 0 | D44: =0*D10 -> 0 | E44: =0*E10 -> 0 | F44: =0*F10 -> 0 | G44: =0*G10 -> 0 | H44: =Inputs!H230 -> 0
...

Sheet Balance Sheet
B2: Accenture plc | NYSE: ACN
B3: Balance Sheet
B4: $ millions, except per share
B5: Fiscal period | C5: 4Q25A | D5: 1Q26A | E5: 2Q26A | F5: 3Q26A | G5: FY25A | H5: 4Q26E
B6: Period end | C6: 45900 | D6: 45991 | E6: 46081 | F6: 46173 | G6: 45900 | H6: 46265
B7: Days in period | C7: 92 | D7: 91 | E7: 90 | F7: 92 | G7: 365 | H7: 92
B10: Cash and cash equivalents | C10: =Inputs!C121 -> 11478.729 | D10: =Inputs!D121 -> 9649.405 | E10: =Inputs!E121 -> 9399.183 | F10: =Inputs!F121 -> 10165.245 | G10: =Inputs!G121 -> 11478.729 | H10: =F10+'Cash Flow Statement'!H35 -> 9679.5533
B11: Short-term investments | C11: =Inputs!C122 -> 5.945 | D11: =Inputs!D122 -> 5.906 | E11: =Inputs!E122 -> 6.413 | F11: =Inputs!F122 -> 6.322 | G11: =Inputs!G122 -> 5.945 | H11: =F11 -> 6.322
B12: Receivables and contract assets | C12: =Inputs!C123 -> 14985.073 | D12: =Inputs!D123 -> 16006.709 | E12: =Inputs!E123 -> 15737.519 | F12: =Inputs!F123 -> 16035.963 | G12: =Inputs!G123 -> 14985.073 | H12: =F12-'Cash Flow Statement'!H13 -> 16235.963
B13: Other current assets | C13: =Inputs!C124 -> 2430.942 | D13: =Inputs!D124 -> 2404.674 | E13: =Inputs!E124 -> 2864.223 | F13: =Inputs!F124 -> 2730.815 | G13: =Inputs!G124 -> 2430.942 | H13: =F13 -> 2730.815
B14: Contract assets | C14: =Inputs!C125 -> 180.362 | D14: =Inputs!D125 -> 188.147 | E14: =Inputs!E125 -> 271.701 | F14: =Inputs!F125 -> 333.577 | G14: =Inputs!G125 -> 180.362 | H14: =F14 -> 333.577
B15: Investments | C15: =Inputs!C126 -> 721.26 | D15: =Inputs!D126 -> 803 | E15: =Inputs!E126 -> 852.156 | F15: =Inputs!F126 -> 925.324 | G15: =Inputs!G126 -> 721.26 | H15: =F15 -> 925.324
B16: Property and equipment, net | C16: =Inputs!C127 -> 1566.374 | D16: =Inputs!D127 -> 1558.316 | E16: =Inputs!E127 -> 1600.823 | F16: =Inputs!F127 -> 1619.981 | G16: =Inputs!G127 -> 1566.374 | H16: =F16-'Cash Flow Statement'!H16-'Cash Flow Statement'!H11 -> 1229.981
B17: Lease assets | C17: =Inputs!C128 -> 2740.321 | D17: =Inputs!D128 -> 2758.958 | E17: =Inputs!E128 -> 2910.831 | F17: =Inputs!F128 -> 2973.53 | G17: =Inputs!G128 -> 2740.321 | H17: =F17 -> 2973.53
B18: Goodwill | C18: =Inputs!C129 -> 22536.416 | D18: =Inputs!D129 -> 22621.663 | E18: =Inputs!E129 -> 24581.153 | F18: =Inputs!F129 -> 25322.8 | G18: =Inputs!G129 -> 22536.416 | H18: =F18-'Cash Flow Statement'!H17 -> 26622.8
B19: Deferred contract costs | C19: =Inputs!C130 -> 1025.391 | D19: =Inputs!D130 -> 1045.856 | E19: =Inputs!E130 -> 1097.567 | F19: =Inputs!F130 -> 1136.76 | G19: =Inputs!G130 -> 1025.391 | H19: =F19 -> 1136.76
B20: Deferred tax assets | C20: =Inputs!C131 -> 3791.215 | D20: =Inputs!D131 -> 3690.039 | E20: =Inputs!E131 -> 3570.872 | F20: =Inputs!F131 -> 3567.536 | G20: =Inputs!G131 -> 3791.215 | H20: =F20 -> 3567.536
B21: Intangibles | C21: =Inputs!C132 -> 2410.755 | D21: =Inputs!D132 -> 2331.615 | E21: =Inputs!E132 -> 2548.534 | F21: =Inputs!F132 -> 2498.992 | G21: =Inputs!G132 -> 2410.755 | H21: =F21 -> 2498.992
B22: Other non-current assets | C22: =Inputs!C133 -> 1522.114 | D22: =Inputs!D133 -> 1634.175 | E22: =Inputs!E133 -> 1623.241 | F22: =Inputs!F133 -> 1489.716 | G22: =Inputs!G133 -> 1522.114 | H22: =F22 -> 1489.716
B23: Total assets | C23: =SUM(C10:C22) -> 65394.897 | D23: =SUM(D10:D22) -> 64698.463 | E23: =SUM(E10:E22) -> 67064.216 | F23: =SUM(F10:F22) -> 68806.561 | G23: =SUM(G10:G22) -> 65394.897 | H23: =SUM(H10:H22) -> 69430.869
B26: Current portion of long-term debt and bank borrowings | C26: =Inputs!C134 -> 114.484 | D26: =Inputs!D134 -> 113.676 | E26: =Inputs!E134 -> 114.063 | F26: =Inputs!F134 -> 112.816 | G26: =Inputs!G134 -> 114.484 | H26: =F26 -> 112.816
B27: Accounts payable | C27: =Inputs!C135 -> 2695.589 | D27: =Inputs!D135 -> 2971.647 | E27: =Inputs!E135 -> 3116.735 | F27: =Inputs!F135 -> 3176.74 | G27: =Inputs!G135 -> 2695.589 | H27: =F27 -> 3176.74
B28: Deferred revenues current | C28: =Inputs!C143 -> 6073.17 | D28: =Inputs!D143 -> 5494.732 | E28: =Inputs!E143 -> 6620.1 | F28: =Inputs!F143 -> 6529.286 | G28: =Inputs!G143 -> 6073.17 | H28: =F28 -> 6529.286
B29: Accrued payroll and related benefits | C29: =Inputs!C136 -> 8084.214 | D29: =Inputs!D136 -> 7937.214 | E29: =Inputs!E136 -> 7813.959 | F29: =Inputs!F136 -> 8701.843 | G29: =Inputs!G136 -> 8084.214 | H29: =F29 -> 8701.843
B30: Income taxes payable current | C30: =Inputs!C145 -> 701.219 | D30: =Inputs!D145 -> 665.737 | E30: =Inputs!E145 -> 529.543 | F30: =Inputs!F145 -> 331.211 | G30: =Inputs!G145 -> 701.219 | H30: =F30 -> 331.211
B31: Lease liabilities current | C31: =Inputs!C147 -> 729.003 | D31: =Inputs!D147 -> 729.244 | E31: =Inputs!E147 -> 754.699 | F31: =Inputs!F147 -> 750.922 | G31: =Inputs!G147 -> 729.003 | H31: =F31 -> 750.922
B32: Other accrued liabilities | C32: =Inputs!C137 -> 1954.418 | D32: =Inputs!D137 -> 1984.271 | E32: =Inputs!E137 -> 2008.341 | F32: =Inputs!F137 -> 2006.289 | G32: =Inputs!G137 -> 1954.418 | H32: =F32 -> 2006.289
B33: Long-term debt | C33: =Inputs!C138 -> 5034.169 | D33: =Inputs!D138 -> 5031.646 | E33: =Inputs!E138 -> 5030.322 | F33: =Inputs!F138 -> 5029.449 | G33: =Inputs!G138 -> 5034.169 | H33: =F33 -> 5029.449
B34: Deferred revenues noncurrent | C34: =Inputs!C144 -> 642.361 | D34: =Inputs!D144 -> 727.393 | E34: =Inputs!E144 -> 827.849 | F34: =Inputs!F144 -> 1038.253 | G34: =Inputs!G144 -> 642.361 | H34: =F34 -> 1038.253
B35: Retirement obligation | C35: =Inputs!C139 -> 1858.499 | D35: =Inputs!D139 -> 1828.303 | E35: =Inputs!E139 -> 1917.262 | F35: =Inputs!F139 -> 1910.231 | G35: =Inputs!G139 -> 1858.499 | H35: =F35 -> 1910.231
B36: Deferred tax liabilities | C36: =Inputs!C140 -> 471.931 | D36: =Inputs!D140 -> 459.236 | E36: =Inputs!E140 -> 497.623 | F36: =Inputs!F140 -> 551.538 | G36: =Inputs!G140 -> 471.931 | H36: =F36 -> 551.538
B37: Income taxes payable noncurrent | C37: =Inputs!C146 -> 1291.921 | D37: =Inputs!D146 -> 1329.11 | E37: =Inputs!E146 -> 1368.702 | F37: =Inputs!F146 -> 1396.944 | G37: =Inputs!G146 -> 1291.921 | H37: =F37 -> 1396.944
B38: Lease liabilities noncurrent | C38: =Inputs!C148 -> 2305.21 | D38: =Inputs!D148 -> 2327.433 | E38: =Inputs!E148 -> 2448.283 | F38: =Inputs!F148 -> 2495.583 | G38: =Inputs!G148 -> 2305.21 | H38: =F38 -> 2495.583
B39: Other non-current liabilities | C39: =Inputs!C141 -> 1197.742 | D39: =Inputs!D141 -> 1176.539 | E39: =Inputs!E141 -> 1241.72 | F39: =Inputs!F141 -> 1267.743 | G39: =Inputs!G141 -> 1197.742 | H39: =F39 -> 1267.743
B40: Total liabilities | C40: =SUM(C26:C39) -> 33153.93 | D40: =SUM(D26:D39) -> 32776.181 | E40: =SUM(E26:E39) -> 34289.201 | F40: =SUM(F26:F39) -> 35298.848 | G40: =SUM(G26:G39) -> 33153.93 | H40: =SUM(H26:H39) -> 35298.848
B41: Redeemable noncontrolling interests | C41: =0 -> 0 | D41: =0 -> 0 | E41: =Inputs!E149 -> 475.823 | F41: =Inputs!F149 -> 493.874 | G41: =0 -> 0 | H41: =F41 -> 493.874
B43: Total shareholders equity | C43: =Inputs!C142 -> 32240.967 | D43: =Inputs!D142 -> 31922.282 | E43: =Inputs!E142 -> 32299.192 | F43: =Inputs!F142 -> 33013.839 | G43: =Inputs!G142 -> 32240.967 | H43: =F43+'Income Statement'!H30+'Cash Flow Statement'!H25+'Cash Flow Statement'!H23+'Cash Flow Statement'!H22+'Cash Flow Statement'!H12+'Cash Flow Statement'!H29 -> 33638.147
B44: Assets - liabilities - equity (zero) | C44: =C23-SUM(C40:C41)-C43 -> 0 | D44: =D23-SUM(D40:D41)-D43 -> 0 | E44: =E23-SUM(E40:E41)-E43 -> 0 | F44: =F23-SUM(F40:F41)-F43 -> 0 | G44: =G23-SUM(G40:G41)-G43 -> 0 | H44: =H23-SUM(H40:H41)-H43 -> 0

Sheet Cash Flow Statement
B2: Accenture plc | NYSE: ACN
B3: Cash Flow Statement
B4: $ millions, except per share
B5: Fiscal period | C5: 4Q25A | D5: 1Q26A | E5: 2Q26A | F5: 3Q26A | G5: FY25A | H5: 4Q26E
B6: Period end | C6: 45900 | D6: 45991 | E6: 46081 | F6: 46173 | G6: 45900 | H6: 46265
B7: Days in period | C7: 92 | D7: 91 | E7: 90 | F7: 92 | G7: 365 | H7: 92
B10: Net income | C10: =SUM(Inputs!C150) -> 1449.806 | D10: =SUM(Inputs!D150) -> 2241.896 | E10: =SUM((Inputs!E150-Inputs!D150)) -> 1859.388 | F10: =SUM((Inputs!F150-Inputs!E150)) -> 2387.893 | G10: =SUM(Inputs!G150) -> 7832.4 | H10: ='Income Statement'!H30 -> 1974.3083
B11: Depreciation & amortization | C11: =SUM(Inputs!C151) -> 758.932 | D11: =SUM(Inputs!D151) -> 581.791 | E11: =SUM((Inputs!E151-Inputs!D151)) -> 585.5 | F11: =SUM((Inputs!F151-Inputs!E151)) -> 584.579 | G11: =SUM(Inputs!G151) -> 2441.594 | H11: =Inputs!H217 -> 590
B12: Share-based compensation | C12: =SUM(Inputs!C152) -> 439.547 | D12: =SUM(Inputs!D152) -> 468.992 | E12: =SUM((Inputs!E152-Inputs!D152)) -> 713.386 | F12: =SUM((Inputs!F152-Inputs!E152)) -> 462.14 | G12: =SUM(Inputs!G152) -> 2093.878 | H12: =Inputs!H218 -> 500
B13: Working capital / other | C13: =Inputs!C153 -> 1265.862 | D13: =SUM(Inputs!D170,Inputs!D171,Inputs!D172,Inputs!D173,Inputs!D174,Inputs!D175,Inputs!D176,Inputs!D177,Inputs!D178) -> -1628.582 | E13: =SUM((Inputs!E170-Inputs!D170),(Inputs!E171-Inputs!D171),(Inputs!E172-Inputs!D172),(Inputs!E173-Inputs!D173),(Inputs!E174-Inputs!D174),(Inputs!E175-Inputs!D175),(Inputs!E176-Inputs!D176),(Inputs!E177-Inputs!D177),(Inputs!E178-Inputs!D178)) -> 659.364 | F13: =SUM((Inputs!F170-Inputs!E170),(Inputs!F171-Inputs!E171),(Inputs!F172-Inputs!E172),(Inputs!F173-Inputs!E173),(Inputs!F174-Inputs!E174),(Inputs!F175-Inputs!E175),(Inputs!F176-Inputs!E176),(Inputs!F177-Inputs!E177),(Inputs!F178-Inputs!E178)) -> 351.6 | G13: =Inputs!G153 -> -893.473 | H13: =Inputs!H219 -> -200
B14: Cash from operations | C14: =SUM(C10:C13) -> 3914.147 | D14: =SUM(D10:D13) -> 1664.097 | E14: =SUM(E10:E13) -> 3817.638 | F14: =SUM(F10:F13) -> 3786.212 | G14: =SUM(G10:G13) -> 11474.399 | H14: =SUM(H10:H13) -> 2864.3083
B16: Property & equipment purchases | C16: =SUM(Inputs!C155) -> -107.915 | D16: =SUM(Inputs!D155) -> -156.582 | E16: =SUM((Inputs!E155-Inputs!D155)) -> -149.685 | F16: =SUM((Inputs!F155-Inputs!E155)) -> -186.224 | G16: =SUM(Inputs!G155) -> -600.039 | H16: =Inputs!H220 -> -200
B17: Acquisitions | C17: =SUM(Inputs!C156) -> -681.76 | D17: =SUM(Inputs!D156) -> -373.794 | E17: =SUM((Inputs!E156-Inputs!D156)) -> -1593.971 | F17: =SUM((Inputs!F156-Inputs!E156)) -> -1036.238 | G17: =SUM(Inputs!G156) -> -1471.255 | H17: =Inputs!H221 -> -1300
B18: Sales of businesses & investments | C18: =SUM(Inputs!C157) -> 14.086 | D18: =SUM(Inputs!D157) -> 22.633 | E18: =SUM((Inputs!E157-Inputs!D157)) -> 0.348 | F18: =SUM((Inputs!F157-Inputs!E157)) -> 13.673 | G18: =SUM(Inputs!G157) -> 36.834 | H18: =Inputs!H254 -> 0
B19: Other investing | C19: =SUM(Inputs!C158) -> 4.299 | D19: =SUM(Inputs!D158) -> 2.868 | E19: =SUM((Inputs!E158-Inputs!D158)) -> 2.431 | F19: =SUM((Inputs!F158-Inputs!E158)) -> 2.236 | G19: =SUM(Inputs!G158) -> 14.81 | H19: =Inputs!H255 -> 0
B20: Cash from investing | C20: =SUM(C16:C19) -> -771.29 | D20: =SUM(D16:D19) -> -504.875 | E20: =SUM(E16:E19) -> -1740.877 | F20: =SUM(F16:F19) -> -1206.553 | G20: =SUM(G16:G19) -> -2019.65 | H20: =SUM(H16:H19) -> -1500
B22: Share issuance | C22: =SUM(Inputs!C160) -> 156.11 | D22: =SUM(Inputs!D179) -> 466.199 | E22: =SUM((Inputs!E179-Inputs!D179)) -> 289.455 | F22: =SUM((Inputs!F179-Inputs!E179)) -> 452.123 | G22: =SUM(Inputs!G160) -> 1353.753 | H22: =Inputs!H222 -> 200
B23: Share repurchases | C23: =SUM(Inputs!C161) -> -473.888 | D23: =SUM(Inputs!D161) -> -2330.593 | E23: =SUM((Inputs!E161-Inputs!D161)) -> -1679.059 | F23: =SUM((Inputs!F161-Inputs!E161)) -> -1183.625 | G23: =SUM(Inputs!G161) -> -4619.497 | H23: =Inputs!H223 -> -1000
B24: Debt issuance/(repayment) | C24: =SUM(Inputs!C162) -> 0 | D24: =SUM(Inputs!D180,Inputs!D181) -> 0 | E24: =SUM((Inputs!E180-Inputs!D180),(Inputs!E181-Inputs!D181)) -> 0 | F24: =SUM((Inputs!F180-Inputs!E180),(Inputs!F181-Inputs!E181)) -> 0 | G24: =SUM(Inputs!G162) -> 4129.2 | H24: =Inputs!H256 -> 0
B25: Cash dividends | C25: =SUM(Inputs!C163) -> -921.725 | D25: =SUM(Inputs!D163) -> -1009.816 | E25: =SUM((Inputs!E163-Inputs!D163)) -> -1007.696 | F25: =SUM((Inputs!F163-Inputs!E163)) -> -995.333 | G25: =SUM(Inputs!G163) -> -3700.169 | H25: =Inputs!H224 -> -1000
B26: Other financing | C26: =SUM(Inputs!C164) -> -35.571 | D26: =SUM(Inputs!D164) -> -36.84 | E26: =SUM((Inputs!E164-Inputs!D164)) -> -16.065 | F26: =SUM((Inputs!F164-Inputs!E164)) -> -39.31 | G26: =SUM(Inputs!G164) -> -111.621 | H26: =Inputs!H225 -> 0
B27: Cash from financing | C27: =SUM(C22:C26) -> -1275.074 | D27: =SUM(D22:D26) -> -2911.05 | E27: =SUM(E22:E26) -> -2413.365 | F27: =SUM(F22:F26) -> -1766.145 | G27: =SUM(G22:G26) -> -2948.334 | H27: =SUM(H22:H26) -> -1800
B29: Foreign exchange on cash | C29: =SUM(Inputs!C166) -> -20.661 | D29: =SUM(Inputs!D166) -> -77.496 | E29: =SUM((Inputs!E166-Inputs!D166)) -> 86.382 | F29: =SUM((Inputs!F166-Inputs!E166)) -> -47.452 | G29: =SUM(Inputs!G166) -> -32.155 | H29: =Inputs!H226 -> -50
B30: Total change in cash | C30: =SUM(C14,C20,C27,C29) -> 1847.122 | D30: =SUM(D14,D20,D27,D29) -> -1829.324 | E30: =SUM(E14,E20,E27,E29) -> -250.222 | F30: =SUM(F14,F20,F27,F29) -> 766.062 | G30: =SUM(G14,G20,G27,G29) -> 6474.26 | H30: =SUM(H14,H20,H27,H29) -> -485.6917
B32: Beginning cash balance | C32: =Inputs!C168 -> 9631.607 | D32: ='Balance Sheet'!G10 -> 11478.729 | E32: ='Balance Sheet'!D10 -> 9649.405 | F32: ='Balance Sheet'!E10 -> 9399.183 | G32: =Inputs!G168 -> 5004.469 | H32: ='Balance Sheet'!F10 -> 10165.245
B33: Ending cash balance | C33: =C32+C30 -> 11478.729 | D33: =D32+D30 -> 9649.405 | E33: =E32+E30 -> 9399.183 | F33: =F32+F30 -> 10165.245 | G33: =G32+G30 -> 11478.729 | H33: =H32+H30 -> 9679.5533
B35: Cash movement / change in cash | C35: =C30 -> 1847.122 | D35: =D30 -> -1829.324 | E35: =E30 -> -250.222 | F35: =F30 -> 766.062 | G35: =G30 -> 6474.26 | H35: =H30 -> -485.6917
B36: Cash flow-to-balance sheet check (zero) | C36: =C33-'Balance Sheet'!C10 -> 0 | D36: =D33-'Balance Sheet'!D10 -> 0 | E36: =E33-'Balance Sheet'!E10 -> 0 | F36: =F33-'Balance Sheet'!F10 -> 0 | G36: =G33-'Balance Sheet'!G10 -> 0 | H36: =H33-'Balance Sheet'!H10 -> 0
B38: Free cash flow | C38: =C14+C16 -> 3806.232 | D38: =D14+D16 -> 1507.515 | E38: =E14+E16 -> 3667.953 | F38: =F14+F16 -> 3599.988 | G38: =G14+G16 -> 10874.36 | H38: =H14+H16 -> 2664.3083

Sheet Geo
B2: Accenture plc | NYSE: ACN
B3: Geo
B4: $ millions, except per share
B5: Fiscal period | C5: 4Q25A | D5: 1Q26A | E5: 2Q26A | F5: 3Q26A | G5: FY25A | H5: 4Q26E
B6: Period end | C6: 45900 | D6: 45991 | E6: 46081 | F6: 46173 | G6: 45900 | H6: 46265
B7: Days in period | C7: 92 | D7: 91 | E7: 90 | F7: 92 | G7: 365 | H7: 92
B10: Americas revenue | C10: ='Revenue summary'!C19 -> 8804.391 | D10: ='Revenue summary'!D19 -> 9080.059 | E10: ='Revenue summary'!E19 -> 8896.402 | F10: ='Revenue summary'!F19 -> 9137.772 | G10: ='Revenue summary'!G19 -> 35056.715 | H10: ='Revenue summary'!H19 -> 8939.9886
B11: Revenue Y/Y | C11: ='Revenue summary'!C23 -> 0.045224241 | D11: ='Revenue summary'!D23 -> 0.039729787 | E11: ='Revenue summary'!E23 -> 0.040137971 | F11: ='Revenue summary'!F23 -> 0.019143263 | G11: ='Revenue summary'!G23 -> 0.076928864 | H11: ='Revenue summary'!H23 -> 0.015401128
B12: Revenue Δ sequential | D12: =D10-C10 -> 275.668 | E12: =E10-D10 -> -183.657 | F12: =F10-E10 -> 241.37 | H12: =H10-F10 -> -197.78345
B13: Organic growth | C13: ='Revenue summary'!C20 -> 0.05 | D13: ='Revenue summary'!D20 -> 0.04 | E13: ='Revenue summary'!E20 -> 0.03 | F13: ='Revenue summary'!F20 -> 0.01 | G13: ='Revenue summary'!G20 -> 0.09 | H13: ='Revenue summary'!H20 -> 0.0024
B14: M&A / scope | C14: ='Revenue summary'!C21 -> 0 | D14: ='Revenue summary'!D21 -> 0 | E14: ='Revenue summary'!E21 -> 0 | F14: ='Revenue summary'!F21 -> 0 | G14: ='Revenue summary'!G21 -> 0 | H14: ='Revenue summary'!H21 -> 0.015
B15: FX impact | C15: ='Revenue summary'!C22 -> -0.0045483416 | D15: ='Revenue summary'!D22 -> -0.00025982065 | E15: ='Revenue summary'!E22 -> 0.0098426903 | F15: ='Revenue summary'!F22 -> 0.0090527352 | G15: ='Revenue summary'!G22 -> -0.011991868 | H15: ='Revenue summary'!H22 -> -0.002
B16: % of total revenue | C16: =C10/C43 -> 0.50035581 | D16: =D10/D43 -> 0.48447329 | E16: =E10/E43 -> 0.49303754 | F16: =F10/F43 -> 0.48817725 | G16: =G10/G43 -> 0.50316086 | H16: =H10/H43 -> 0.49804526
B17: Operating income | C17: ='Segment - Americas'!C43 -> 987.032 | D17: ='Segment - Americas'!D43 -> 1527.335 | E17: ='Segment - Americas'!E43 -> 1393.059 | F17: ='Segment - Americas'!F43 -> 1708.098 | G17: ='Segment - Americas'!G43 -> 5324.339 | H17: ='Segment - Americas'!H43 -> 1340.9983
B18: Operating margin | C18: =C17/C10 -> 0.11210679 | D18: =D17/D10 -> 0.16820761 | E18: =E17/E10 -> 0.15658679 | F18: =F17/F10 -> 0.18692719 | G18: =G17/G10 -> 0.15187786 | H18: =H17/H10 -> 0.15
B19: Margin Δ (bp) | D19: =(D18-C18)*10000 -> 561.00819 | E19: =(E18-D18)*10000 -> -116.20821 | F19: =(F18-E18)*10000 -> 303.40399 | H19: =(H18-F18)*10000 -> -369.27185
B21: EMEA revenue | C21: ='Revenue summary'!C29 -> 6196.281 | D21: ='Revenue summary'!D29 -> 6935.233 | E21: ='Revenue summary'!E29 -> 6569.391 | F21: ='Revenue summary'!F29 -> 6873.448 | G21: ='Revenue summary'!G29 -> 24643.957 | H21: ='Revenue summary'!H29 -> 6400.6703
B22: Revenue Y/Y | C22: ='Revenue summary'!C33 -> 0.098872395 | D22: ='Revenue summary'!D33 -> 0.081610249 | E22: ='Revenue summary'!E33 -> 0.1318974 | F22: ='Revenue summary'!F33 -> 0.10295484 | G22: ='Revenue summary'!G33 -> 0.080028385 | H22: ='Revenue summary'!H33 -> 0.0329858
B23: Revenue Δ sequential | D23: =D21-C21 -> 738.952 | E23: =E21-D21 -> -365.842 | F23: =F21-E21 -> 304.057 | H23: =H21-F21 -> -472.77771
B24: Organic growth | C24: ='Revenue summary'!C30 -> 0.03 | D24: ='Revenue summary'!D30 -> 0.04 | E24: ='Revenue summary'!E30 -> 0.02 | F24: ='Revenue summary'!F30 -> 0.04 | G24: ='Revenue summary'!G30 -> 0.06 | H24: ='Revenue summary'!H30 -> 0.028
B25: M&A / scope | C25: ='Revenue summary'!C31 -> 0 | D25: ='Revenue summary'!D31 -> 0 | E25: ='Revenue summary'!E31 -> 0 | F25: ='Revenue summary'!F31 -> 0 | G25: ='Revenue summary'!G31 -> 0 | H25: ='Revenue summary'!H31 -> 0.015
B26: FX impact | C26: ='Revenue summary'!C32 -> 0.066866402 | D26: ='Revenue summary'!D32 -> 0.040009855 | E26: ='Revenue summary'!E32 -> 0.10970333 | F26: ='Revenue summary'!F32 -> 0.060533497 | G26: ='Revenue summary'!G32 -> 0.018894703 | H26: ='Revenue summary'!H32 -> -0.01
B27: % of total revenue | C27: =C21/C43 -> 0.35213625 | D27: =D21/D43 -> 0.37003451 | E27: =E21/E43 -> 0.36407487 | F27: =F21/F43 -> 0.36720777 | G27: =G21/G43 -> 0.35370897 | H27: =H21/H43 -> 0.35658027
B28: Operating income | C28: ='Segment - EMEA'!C43 -> 662.688 | D28: ='Segment - EMEA'!D43 -> 900.491 | E28: ='Segment - EMEA'!E43 -> 676.747 | F28: ='Segment - EMEA'!F43 -> 994.006 | G28: ='Segment - EMEA'!G43 -> 3090.993 | H28: ='Segment - EMEA'!H43 -> 832.08714
B29: Operating margin | C29: =C28/C21 -> 0.10694931 | D29: =D28/D21 -> 0.12984293 | E29: =E28/E21 -> 0.10301518 | F29: =F28/F21 -> 0.14461534 | G29: =G28/G21 -> 0.125426 | H29: =H28/H21 -> 0.13
B30: Margin Δ (bp) | D30: =(D29-C29)*10000 -> 228.9362 | E30: =(E29-D29)*10000 -> -268.27753 | F30: =(F29-E29)*10000 -> 416.00157 | H30: =(H29-F29)*10000 -> -146.15337
B32: Asia Pacific revenue | C32: ='Revenue summary'!C39 -> 2595.588 | D32: ='Revenue summary'!D39 -> 2726.833 | E32: ='Revenue summary'!E39 -> 2578.273 | F32: ='Revenue summary'!F39 -> 2706.924 | G32: ='Revenue summary'!G39 -> 9972.305 | H32: ='Revenue summary'!H39 -> 2609.4939
B33: Revenue Y/Y | C33: ='Revenue summary'!C43 -> 0.10751751 | D33: ='Revenue summary'!D43 -> 0.071658535 | E33: ='Revenue summary'!E43 -> 0.11985477 | F33: ='Revenue summary'!F43 -> 0.069976533 | G33: ='Revenue summary'!G43 -> 0.046840699 | H33: ='Revenue summary'!H43 -> 0.0053575
B34: Revenue Δ sequential | D34: =D32-C32 -> 131.245 | E34: =E32-D32 -> -148.56 | F34: =F32-E32 -> 128.651 | H34: =H32-F32 -> -97.430137
B35: Organic growth | C35: ='Revenue summary'!C40 -> 0.06 | D35: ='Revenue summary'!D40 -> 0.09 | E35: ='Revenue summary'!E40 -> 0.1 | F35: ='Revenue summary'!F40 -> 0.08 | G35: ='Revenue summary'!G40 -> 0.04 | H35: ='Revenue summary'!H40 -> -0.0095
B36: M&A / scope | C36: ='Revenue summary'!C41 -> 0 | D36: ='Revenue summary'!D41 -> 0 | E36: ='Revenue summary'!E41 -> 0 | F36: ='Revenue summary'!F41 -> 0 | G36: ='Revenue summary'!G41 -> 0 | H36: ='Revenue summary'!H41 -> 0.015
B37: FX impact | C37: ='Revenue summary'!C42 -> 0.044827838 | D37: ='Revenue summary'!D42 -> -0.016827032 | E37: ='Revenue summary'!E42 -> 0.018049794 | F37: ='Revenue summary'!F42 -> -0.0092809883 | G37: ='Revenue summary'!G42 -> 0.0065775957 | H37: ='Revenue summary'!H42 -> 0
B38: % of total revenue | C38: =C32/C43 -> 0.14750794 | D38: =D32/D43 -> 0.1454922 | E38: =E32/E43 -> 0.14288758 | F38: =F32/F43 -> 0.14461498 | G38: =G32/G43 -> 0.14313017 | H38: =H32/H43 -> 0.14537447
B39: Operating income | C39: ='Segment - Asia Pacific'!C43 -> 399.971 | D39: ='Segment - Asia Pacific'!D43 -> 445.872 | E39: ='Segment - Asia Pacific'!E43 -> 423.741 | F39: ='Segment - Asia Pacific'!F43 -> 473.194 | G39: ='Segment - Asia Pacific'!G43 -> 1810.332 | H39: ='Segment - Asia Pacific'!H43 -> 521.89877
B40: Operating margin | C40: =C39/C32 -> 0.15409649 | D40: =D39/D32 -> 0.16351276 | E40: =E39/E32 -> 0.16435071 | F40: =F39/F32 -> 0.17480875 | G40: =G39/G32 -> 0.18153596 | H40: =H39/H32 -> 0.2
B41: Margin Δ (bp) | D41: =(D40-C40)*10000 -> 94.162738 | E41: =(E40-D40)*10000 -> 8.3794702 | F41: =(F40-E40)*10000 -> 104.58039 | H41: =(H40-F40)*10000 -> 251.9125
B43: Total geographic revenue | C43: =SUM(C10,C21,C32) -> 17596.26 | D43: =SUM(D10,D21,D32) -> 18742.125 | E43: =SUM(E10,E21,E32) -> 18044.066 | F43: =SUM(F10,F21,F32) -> 18718.144 | G43: =SUM(G10,G21,G32) -> 69672.977 | H43: =SUM(H10,H21,H32) -> 17950.153
B44: Geography revenue check (zero) | C44: =C43-'Revenue summary'!C10 -> 0 | D44: =D43-'Revenue summary'!D10 -> 0 | E44: =E43-'Revenue summary'!E10 -> 0 | F44: =F43-'Revenue summary'!F10 -> 0 | G44: =G43-'Revenue summary'!G10 -> 0 | H44: =H43-'Revenue summary'!H10 -> 0
B45: Total regional operating income | C45: =SUM(C17,C28,C39) -> 2049.691 | D45: =SUM(D17,D28,D39) -> 2873.698 | E45: =SUM(E17,E28,E39) -> 2493.547 | F45: =SUM(F17,F28,F39) -> 3175.298 | G45: =SUM(G17,G28,G39) -> 10225.664 | H45: =SUM(H17,H28,H39) -> 2694.9842
B46: Operating income check (zero) | C46: =C45-'Income Statement'!C20 -> 0 | D46: =D45-'Income Statement'!D20 -> 0 | E46: =E45-'Income Statement'!E20 -> 0 | F46: =F45-'Income Statement'!F20 -> 0 | G46: =G45-'Income Statement'!G20 -> 0 | H46: =H45-'Income Statement'!H20 -> 0
...

Sheet Share Count
B2: Accenture plc | NYSE: ACN
B3: Share Count
B4: $ millions, except per share
B5: Fiscal period | C5: 4Q25A | D5: 1Q26A | E5: 2Q26A | F5: 3Q26A | G5: FY25A | H5: 4Q26E
B6: Period end | C6: 45900 | D6: 45991 | E6: 46081 | F6: 46173 | G6: 45900 | H6: 46265
B7: Days in period | C7: 92 | D7: 91 | E7: 90 | F7: 92 | G7: 365 | H7: 92
B10: Weighted-average basic shares (m) | C10: =Inputs!C119 -> 622.63581 | D10: =Inputs!D119 -> 619.30709 | E10: =Inputs!E119 -> 616.99211 | F10: =Inputs!F119 -> 612.21345 | G10: =Inputs!G119 -> 624.89165 | H10: =H23-(H24-H26)*H27 -> 609.71345
B11: Basic shares Y/Y | C11: =C10/Inputs!C258-1 -> -0.0055683754 | D11: =D10/Inputs!D258-1 -> -0.010180711 | E11: =E10/Inputs!E258-1 -> -0.015686732 | F11: =F10/Inputs!F258-1 -> -0.019428808 | G11: =G10/Inputs!G258-1 -> -0.0047160176 | H11: =H10/C10-1 -> -0.020754285
B12: Basic shares Δ sequential | D12: =D10-C10 -> -3.328728 | E12: =E10-D10 -> -2.314975 | F12: =F10-E10 -> -4.778658 | H12: =H10-F10 -> -2.5
B13: Basic shares Δ Y/Y | C13: =C10-Inputs!C258 -> -3.486484 | D13: =D10-Inputs!D258 -> -6.369836 | E13: =E10-Inputs!E258 -> -9.832835 | F13: =F10-Inputs!F258 -> -12.130254 | G13: =G10-Inputs!G258 -> -2.960964 | H13: =H10-C10 -> -12.922361
B15: Weighted-average diluted shares (m) | C15: =Inputs!C120 -> 629.41813 | D15: =Inputs!D120 -> 626.04304 | E15: =Inputs!E120 -> 622.64089 | F15: =Inputs!F120 -> 615.59341 | G15: =Inputs!G120 -> 632.43511 | H15: =H10+H19 -> 613.09341
B16: Diluted shares Y/Y | C16: =C15/Inputs!C259-1 -> -0.007044457 | D16: =D15/Inputs!D259-1 -> -0.013571706 | E16: =E15/Inputs!E259-1 -> -0.018244826 | F16: =F15/Inputs!F259-1 -> -0.023576614 | G16: =G15/Inputs!G259-1 -> -0.0055114252 | H16: =H15/C15-1 -> -0.025936209
B17: Diluted shares Δ sequential | D17: =D15-C15 -> -3.375089 | E17: =E15-D15 -> -3.402149 | F17: =F15-E15 -> -7.047482 | H17: =H15-F15 -> -2.5
B18: Diluted shares Δ Y/Y | C18: =C15-Inputs!C259 -> -4.465365 | D18: =D15-Inputs!D259 -> -8.61337 | E18: =E15-Inputs!E259 -> -11.571087 | F18: =F15-Inputs!F259 -> -14.864052 | G18: =G15-Inputs!G259 -> -3.504936 | H18: =H15-C15 -> -16.32472
