Workbook

Sheet Cover
B2: CarMax, Inc.
B3: Cover
B4: $ millions, except per share
C5: 2Q26A | D5: 3Q26A | E5: 4Q26A | F5: FY26A | G5: 1Q27A | H5: 2Q27E
C6: 45900 | D6: 45991 | E6: 46081 | F6: 46081 | G6: 46173 | H6: 46265
C7: 92 | D7: 91 | E7: 90 | F7: 365 | G7: 92 | H7: 92
B9: Company Model — built by Shortcut
B10: Company | C10: CarMax, Inc.
B11: Ticker / exchange | C11: KMX / NYSE
B12: Fiscal year end | C12: Feb fiscal year-end
B13: Reporting currency / share | C13: USD / common share
B14: EPS basis | C14: Issuer-adjusted / CapIQ normalized diluted EPS
B15: Information cutoff | C15: 2026-09-26T18:44:22.240587+00:00
B16: Expected report date | C16: =Inputs!C132 -> 46294
B17: Consensus captured | C17: =Sources!C20 -> 46289
B19: Forecast vs as-of consensus
B20: Metric | C20: Our estimate | D20: CapIQ consensus | E20: Variance | F20: Guidance midpoint
B21: Net sales and operating revenue ($m) | C21: ='Income Statement'!H10 -> 6807.7642 | D21: =Inputs!C150 -> 6984.29 | E21: =C21-D21 -> -176.5258 | F21: =Guidance!G16 -> unavailable
B22: Normalized net earnings ($m) | C22: ='Income Statement'!H46 -> 87.7875 | D22: unavailable | E22: unavailable | F22: =Guidance!G17 -> unavailable
B23: Normalized diluted EPS ($) | C23: ='Income Statement'!H45 -> 0.61778677 | D23: =Inputs!C133 -> 0.72 | E23: =C23-D23 -> -0.10221323 | F23: =Guidance!G17 -> unavailable
B24: GAAP diluted EPS ($) | C24: ='Income Statement'!H40 -> 0.61778677 | D24: =Inputs!C142 -> 0.7 | E24: =C24-D24 -> -0.08221323 | F24: =Guidance!G17 -> unavailable
B25: P(beat consensus EPS) | C25: 0.36
B26: Confidence | C26: low
B28: GAAP net earnings ($m) | C28: ='Income Statement'!H34 -> 87.7875 | D28: =Inputs!C161 -> 105.31 | E28: =C28-D28 -> -17.5225 | F28: =Guidance!G17 -> unavailable
B29: Overall model check | C29: =IF(AND(ABS('Revenue summary'!H40)<0.000001,ABS('Segment - Sales Operations'!H82)<0.000001,ABS('Segment - Auto Finance'!H59)<0.000001,ABS('Balance Sheet'!H44)<0.000001,ABS('Cash Flow Statement'!H27)<0.000001,ABS('Cash Flow Statement'!H29)<0.000001,ABS('Cash Flow Statement'!H49)<0.000001,ABS('Cash Flow Statement'!H57)<0.000001,ABS('Cash Flow Statement'!H68)<0.000001,ABS('Income Statement'!H47)<0.000001,ABS('Income Statement'!H48)<0.000001,ABS(C21-'Income Statement'!H10)<0.000001,ABS(C23-'Income Statement'!H45)<0.000001),"PASS","FAIL") -> PASS
B30: Forecast basis note | C30: see J30 | J30: Normalized estimate excludes forecast exceptional charges (zero); GAAP and adjusted EPS coincide.

Sheet Revenue summary
B2: CarMax, Inc.
B3: Revenue summary
B4: $ millions, except per share
C5: 2Q26A | D5: 3Q26A | E5: 4Q26A | F5: FY26A | G5: 1Q27A | H5: 2Q27E
C6: 45900 | D6: 45991 | E6: 46081 | F6: 46081 | G6: 46173 | H6: 46265
C7: 92 | D7: 91 | E7: 90 | F7: 365 | G7: 92 | H7: 92
B9: REPORTED SEGMENTS
B10: CarMax Sales Operations net sales | C10: ='Segment - Sales Operations'!C43 -> 6594.68 | D10: ='Segment - Sales Operations'!D43 -> 5793.95 | E10: ='Segment - Sales Operations'!E43 -> 5945.96 | F10: ='Segment - Sales Operations'!F43 -> 25881.131 | G10: ='Segment - Sales Operations'!G43 -> 8013.52 | H10: ='Segment - Sales Operations'!H43 -> 6807.7642
B11: Y/Y | H11: =IFERROR(H10/C10-1,0) -> 0.03231153
B12: Q/Q | D12: =IFERROR(D10/C10-1,0) -> -0.1214206 | E12: =IFERROR(E10/D10-1,0) -> 0.026235988 | G12: =IFERROR(G10/E10-1,0) -> 0.34772518 | H12: =IFERROR(H10/G10-1,0) -> -0.15046519
B13: % of total revenue | C13: =IFERROR(C10/C22,0) -> 1 | D13: =IFERROR(D10/D22,0) -> 1 | E13: =IFERROR(E10/E22,0) -> 1 | F13: =IFERROR(F10/F22,0) -> 1 | G13: =IFERROR(G10/G22,0) -> 1 | H13: =IFERROR(H10/H22,0) -> 1
B14: CarMax Auto Finance interest revenue¹ | C14: ='Segment - Auto Finance'!C10 -> 489.8 | D14: ='Segment - Auto Finance'!D10 -> 448 | E14: ='Segment - Auto Finance'!E10 -> 441 | F14: ='Segment - Auto Finance'!F10 -> 1864.2 | G14: ='Segment - Auto Finance'!G10 -> 460.9 | H14: ='Segment - Auto Finance'!H10 -> 457
B15: Y/Y | H15: =IFERROR(H14/C14-1,0) -> -0.066966109
B16: Q/Q | D16: =IFERROR(D14/C14-1,0) -> -0.085340955 | E16: =IFERROR(E14/D14-1,0) -> -0.015625 | G16: =IFERROR(G14/E14-1,0) -> 0.045124717 | H16: =IFERROR(H14/G14-1,0) -> -0.0084617054
B17: % of total net sales | C17: =IFERROR(C14/C22,0) -> 0.074271989 | D17: =IFERROR(D14/D22,0) -> 0.077322034 | E17: =IFERROR(E14/E22,0) -> 0.074168007 | F17: =IFERROR(F14/F22,0) -> 0.07202931 | G17: =IFERROR(G14/G22,0) -> 0.057515299 | H17: =IFERROR(H14/H22,0) -> 0.067129235
B18: Less: CAF finance revenue excluded from consolidated net sales | C18: =-C14 -> -489.8 | D18: =-D14 -> -448 | E18: =-E14 -> -441 | F18: =-F14 -> -1864.2 | G18: =-G14 -> -460.9 | H18: =-H14 -> -457
B19: Y/Y | H19: =IFERROR(H18/C18-1,0) -> -0.066966109
B20: Q/Q | D20: =IFERROR(D18/C18-1,0) -> -0.085340955 | E20: =IFERROR(E18/D18-1,0) -> -0.015625 | G20: =IFERROR(G18/E18-1,0) -> 0.045124717 | H20: =IFERROR(H18/G18-1,0) -> -0.0084617054
B21: % of total net sales | C21: =IFERROR(C18/C22,0) -> -0.074271989 | D21: =IFERROR(D18/D22,0) -> -0.077322034 | E21: =IFERROR(E18/E22,0) -> -0.074168007 | F21: =IFERROR(F18/F22,0) -> -0.07202931 | G21: =IFERROR(G18/G22,0) -> -0.057515299 | H21: =IFERROR(H18/H22,0) -> -0.067129235
B22: Total net sales and operating revenue | C22: =SUM(C10,C14,C18) -> 6594.68 | D22: =SUM(D10,D14,D18) -> 5793.95 | E22: =SUM(E10,E14,E18) -> 5945.96 | F22: =SUM(F10,F14,F18) -> 25881.131 | G22: =SUM(G10,G14,G18) -> 8013.52 | H22: =SUM(H10,H14,H18) -> 6807.7642
B23: Y/Y | H23: =IFERROR(H22/C22-1,0) -> 0.03231153
B24: Q/Q | D24: =IFERROR(D22/C22-1,0) -> -0.1214206 | E24: =IFERROR(E22/D22-1,0) -> 0.026235988 | G24: =IFERROR(G22/E22-1,0) -> 0.34772518 | H24: =IFERROR(H22/G22-1,0) -> -0.15046519
B25: Retail vehicle mix of sales | C25: =C26/C22 -> 0.79923514 | D25: =D26/D22 -> 0.78499124 | E25: =E26/E22 -> 0.80390719 | F25: =F26/F22 -> 0.79990322 | G25: =G26/G22 -> 0.79756462 | H25: =H26/H22 -> 0.80329104
B26: Retail used vehicle revenue | C26: ='Segment - Sales Operations'!C16 -> 5270.7 | D26: ='Segment - Sales Operations'!D16 -> 4548.2 | E26: ='Segment - Sales Operations'!E16 -> 4780 | F26: ='Segment - Sales Operations'!F16 -> 20702.4 | G26: ='Segment - Sales Operations'!G16 -> 6391.3 | H26: ='Segment - Sales Operations'!H16 -> 5468.616
B27: Y/Y | H27: =IFERROR(H26/C26-1,0) -> 0.037550227
B28: Q/Q | D28: =IFERROR(D26/C26-1,0) -> -0.13707857 | E28: =IFERROR(E26/D26-1,0) -> 0.050965217 | G28: =IFERROR(G26/E26-1,0) -> 0.33709205 | H28: =IFERROR(H26/G26-1,0) -> -0.14436562
B29: Wholesale vehicle revenue | C29: ='Segment - Sales Operations'!C28 -> 1149.6 | D29: ='Segment - Sales Operations'!D28 -> 1095.1 | E29: ='Segment - Sales Operations'!E28 -> 1007.1 | F29: ='Segment - Sales Operations'!F28 -> 4504.6 | G29: ='Segment - Sales Operations'!G28 -> 1427.6 | H29: ='Segment - Sales Operations'!H28 -> 1167.1482
B30: Y/Y | H30: =IFERROR(H29/C29-1,0) -> 0.01526463
B31: Q/Q | D31: =IFERROR(D29/C29-1,0) -> -0.047407794 | E31: =IFERROR(E29/D29-1,0) -> -0.080357958 | G31: =IFERROR(G29/E29-1,0) -> 0.4175355 | H31: =IFERROR(H29/G29-1,0) -> -0.18244031
B32: Other sales and operating revenues | C32: =SUM(C35:C39) -> 174.38 | D32: =SUM(D35:D39) -> 150.65 | E32: =SUM(E35:E39) -> 158.86 | F32: =SUM(F35:F39) -> 674.131 | G32: =SUM(G35:G39) -> 194.62 | H32: =SUM(H35:H39) -> 172
B33: Y/Y | H33: =IFERROR(H32/C32-1,0) -> -0.013648354
B34: Q/Q | D34: =IFERROR(D32/C32-1,0) -> -0.13608212 | E34: =IFERROR(E32/D32-1,0) -> 0.054497179 | G34: =IFERROR(G32/E32-1,0) -> 0.22510387 | H34: =IFERROR(H32/G32-1,0) -> -0.11622649
B35: EPP revenue | C35: ='Segment - Sales Operations'!C33 -> 115.1 | D35: ='Segment - Sales Operations'!D33 -> 96.6 | E35: ='Segment - Sales Operations'!E33 -> 105.3 | F35: ='Segment - Sales Operations'!F33 -> 448.7 | G35: ='Segment - Sales Operations'!G33 -> 133.5 | H35: ='Segment - Sales Operations'!H33 -> 115
B36: Third-party financing fees | C36: ='Segment - Sales Operations'!C38 -> -0.8 | D36: ='Segment - Sales Operations'!D38 -> -3 | E36: ='Segment - Sales Operations'!E38 -> -4.1 | F36: ='Segment - Sales Operations'!F38 -> -8.7 | G36: ='Segment - Sales Operations'!G38 -> -4.5 | H36: ='Segment - Sales Operations'!H38 -> -2
B37: Advertising / subscription | C37: ='Segment - Sales Operations'!C39 -> 37.9 | D37: ='Segment - Sales Operations'!D39 -> 35.1 | E37: ='Segment - Sales Operations'!E39 -> 34.9 | F37: ='Segment - Sales Operations'!F39 -> 144.5 | G37: ='Segment - Sales Operations'!G39 -> 36.7 | H37: ='Segment - Sales Operations'!H39 -> 36
B38: Other service and repair | C38: ='Segment - Sales Operations'!C40 -> 22.2 | D38: ='Segment - Sales Operations'!D40 -> 21.9 | E38: ='Segment - Sales Operations'!E40 -> 22.7 | F38: ='Segment - Sales Operations'!F40 -> 89.7 | G38: ='Segment - Sales Operations'!G40 -> 28.9 | H38: ='Segment - Sales Operations'!H40 -> 23
B39: Component rounding / SEC reconciliation | C39: ='Segment - Sales Operations'!C42 -> -0.02 | D39: ='Segment - Sales Operations'!D42 -> 0.05 | E39: ='Segment - Sales Operations'!E42 -> 0.06 | F39: ='Segment - Sales Operations'!F42 -> -0.069 | G39: ='Segment - Sales Operations'!G42 -> 0.02 | H39: ='Segment - Sales Operations'!H42 -> 0
B40: Segments / consolidated net sales check | C40: =C22-C10-C14-C18 -> 0 | D40: =D22-D10-D14-D18 -> 0 | E40: =E22-E10-E14-E18 -> 0 | F40: =F22-F10-F14-F18 -> 0 | G40: =G22-G10-G14-G18 -> 0 | H40: =H22-H10-H14-H18 -> 0
B41: U.S. operating focus — no geographic revenue split disclosed
B42: ¹ CAF interest and fees are finance income, NOT part of net sales
...

Sheet Segment - Sales Operations
B2: CarMax, Inc.
B3: Segment - Sales Operations
B4: $ millions, except per share
C5: 2Q26A | D5: 3Q26A | E5: 4Q26A | F5: FY26A | G5: 1Q27A | H5: 2Q27E
C6: 45900 | D6: 45991 | E6: 46081 | F6: 46081 | G6: 46173 | H6: 46265
C7: 92 | D7: 91 | E7: 90 | F7: 365 | G7: 92 | H7: 92
B9: RETAIL VEHICLES
B10: Retail used vehicles sold (units) | C10: =Inputs!C16 -> 199729 | D10: =Inputs!D16 -> 169557 | E10: =Inputs!E16 -> 181188 | F10: =Inputs!F16 -> 780684 | G10: =Inputs!G16 -> 230293 | H10: =Inputs!H16 -> 199500
B11: Y/Y units change | H11: =IFERROR(H10/C10-1,0) -> -0.0011465536
B12: Sequential units change | D12: =D10-C10 -> -30172 | E12: =E10-D10 -> 11631 | G12: =G10-E10 -> 49105 | H12: =H10-G10 -> -30793
B13: Average retail price ($/vehicle) | C13: =Inputs!C18 -> 25993 | D13: =Inputs!D18 -> 26383 | E13: =Inputs!E18 -> 26019 | F13: =Inputs!F18 -> 26121 | G13: =Inputs!G18 -> 27288 | H13: =Inputs!H18 -> 27000
B14: Y/Y ASP change | H14: =IFERROR(H13/C13-1,0) -> 0.0387412
B15: Sequential ASP change | D15: =D13-C13 -> 390 | E15: =E13-D13 -> -364 | G15: =G13-E13 -> 1269 | H15: =H13-G13 -> -288
B16: Retail used-vehicle sales | C16: =Inputs!C10 -> 5270.7 | D16: =Inputs!D10 -> 4548.2 | E16: =Inputs!E10 -> 4780 | F16: =Inputs!F10 -> 20702.4 | G16: =Inputs!G10 -> 6391.3 | H16: =C16*H10/C10*H13/C13 -> 5468.616
B17: Organic growth | H17: =(1+H20)/((1+H18)*(1+H19))-1 -> 0.037550227
B18: M&A / scope | H18: =Inputs!H77 -> 0
B19: FX impact | H19: =Inputs!H78 -> 0
B20: Total Y/Y growth | H20: =IFERROR(H16/C16-1,0) -> 0.037550227
B21: WHOLESALE VEHICLES
B22: Wholesale vehicles sold (units) | C22: =Inputs!C17 -> 138302 | D22: =Inputs!D17 -> 127603 | E22: =Inputs!E17 -> 122781 | F22: =Inputs!F17 -> 538203 | G22: =Inputs!G17 -> 162064 | H22: =Inputs!H17 -> 138500
B23: Y/Y units change | H23: =IFERROR(H22/C22-1,0) -> 0.0014316496
B24: Sequential units change | D24: =D22-C22 -> -10699 | E24: =E22-D22 -> -4822 | G24: =G22-E22 -> 39283 | H24: =H22-G22 -> -23564
B25: Average wholesale price ($/vehicle) | C25: =Inputs!C19 -> 7891 | D25: =Inputs!D19 -> 8137 | E25: =Inputs!E19 -> 7776 | F25: =Inputs!F19 -> 7942 | G25: =Inputs!G19 -> 8364 | H25: =Inputs!H19 -> 8000
B26: Y/Y ASP change | H26: =IFERROR(H25/C25-1,0) -> 0.013813205
B27: Sequential ASP change | D27: =D25-C25 -> 246 | E27: =E25-D25 -> -361 | G27: =G25-E25 -> 588 | H27: =H25-G25 -> -364
B28: Wholesale vehicle sales | C28: =Inputs!C11 -> 1149.6 | D28: =Inputs!D11 -> 1095.1 | E28: =Inputs!E11 -> 1007.1 | F28: =Inputs!F11 -> 4504.6 | G28: =Inputs!G11 -> 1427.6 | H28: =C28*H22/C22*H25/C25 -> 1167.1482
B29: Organic growth | H29: =(1+H32)/((1+H30)*(1+H31))-1 -> 0.01526463
B30: M&A / scope | H30: =Inputs!H77 -> 0
B31: FX impact | H31: =Inputs!H78 -> 0
B32: Total Y/Y growth | H32: =IFERROR(H28/C28-1,0) -> 0.01526463
B33: Extended protection plan revenues | C33: =Inputs!C12 -> 115.1 | D33: =Inputs!D12 -> 96.6 | E33: =Inputs!E12 -> 105.3 | F33: =Inputs!F12 -> 448.7 | G33: =Inputs!G12 -> 133.5 | H33: =H10*H54/1000000 -> 115
B34: Organic growth | H34: =(1+H37)/((1+H35)*(1+H36))-1 -> -0.00086880973
B35: M&A / scope | H35: =Inputs!H77 -> 0
B36: FX impact | H36: =Inputs!H78 -> 0
B37: Total Y/Y growth | H37: =IFERROR(H33/C33-1,0) -> -0.00086880973
B38: Third-party finance fees, net | C38: =Inputs!C13 -> -0.8 | D38: =Inputs!D13 -> -3 | E38: =Inputs!E13 -> -4.1 | F38: =Inputs!F13 -> -8.7 | G38: =Inputs!G13 -> -4.5 | H38: =H10*H100/1000000 -> -2 | J38: Vehicle financing fee modeled on disclosed retail units and a forecast fee per unit; source has no separate transaction count.
B39: Advertising and subscription revenue | C39: =Inputs!C14 -> 37.9 | D39: =Inputs!D14 -> 35.1 | E39: =Inputs!E14 -> 34.9 | F39: =Inputs!F14 -> 144.5 | G39: =Inputs!G14 -> 36.7 | H39: =H78*H103/1000000 -> 36 | J39: Advertising/subscription revenue per total sold vehicles is an analyst assumption, not company guidance.
B40: Other service and repair revenue | C40: =Inputs!C15 -> 22.2 | D40: =Inputs!D15 -> 21.9 | E40: =Inputs!E15 -> 22.7 | F40: =Inputs!F15 -> 89.7 | G40: =Inputs!G15 -> 28.9 | H40: =H10*H106/1000000 -> 23 | J40: Other repair/services per retail vehicle is an analyst assumption; issuer does not disclose distinct transaction volumes.
B41: Other sales and revenues subtotal | C41: =SUM(C33,C38:C40) -> 174.4 | D41: =SUM(D33,D38:D40) -> 150.6 | E41: =SUM(E33,E38:E40) -> 158.8 | F41: =SUM(F33,F38:F40) -> 674.2 | G41: =SUM(G33,G38:G40) -> 194.6 | H41: =SUM(H33,H38:H40) -> 172
B42: Disclosed component rounding | C42: =Inputs!C68-SUM(C16,C28,C41) -> -0.02 | D42: =Inputs!D68-SUM(D16,D28,D41) -> 0.05 | E42: =Inputs!E68-SUM(E16,E28,E41) -> 0.06 | F42: =Inputs!F68-SUM(F16,F28,F41) -> -0.069 | G42: =Inputs!G68-SUM(G16,G28,G41) -> 0.02 | H42: =0 -> 0
...

Sheet Segment - Auto Finance
B2: CarMax, Inc.
B3: Segment - Auto Finance
B4: $ millions, except per share
C5: 2Q26A | D5: 3Q26A | E5: 4Q26A | F5: FY26A | G5: 1Q27A | H5: 2Q27E
C6: 45900 | D6: 45991 | E6: 46081 | F6: 46081 | G6: 46173 | H6: 46265
C7: 92 | D7: 91 | E7: 90 | F7: 365 | G7: 92 | H7: 92
B9: CAF REVENUE AND INTEREST MARGIN
B10: Interest and fee income (CAF revenue) | C10: =Inputs!C28 -> 489.8 | D10: =Inputs!D28 -> 448 | E10: =Inputs!E28 -> 441 | F10: =Inputs!F28 -> 1864.2 | G10: =Inputs!G28 -> 460.9 | H10: =H27*Inputs!H110*H7/365 -> 457
B11: Y/Y change | H11: =H10/C10-1 -> -0.066966109
B12: Sequential change | D12: =D10-C10 -> -41.8 | E12: =E10-D10 -> -7 | G12: =G10-E10 -> 19.9 | H12: =H10-G10 -> -3.9
B13: Organic growth | H13: =(1+H16)/((1+H14)*(1+H15))-1 -> -0.066966109
B14: M&A / scope | H14: =Inputs!H77 -> 0
B15: FX effect | H15: =Inputs!H78 -> 0
B16: Total Y/Y growth | H16: =H10/C10-1 -> -0.066966109
B17: Interest expense on securitized funding | C17: =Inputs!C29 -> -199.2 | D17: =Inputs!D29 -> -188.3 | E17: =Inputs!E29 -> -184.2 | F17: =Inputs!F29 -> -769.2 | G17: =Inputs!G29 -> -184.2 | H17: =Inputs!H29 -> -190
B18: Net interest margin | C18: =SUM(C10,C17) -> 290.6 | D18: =SUM(D10,D17) -> 259.7 | E18: =SUM(E10,E17) -> 256.8 | F18: =SUM(F10,F17) -> 1095 | G18: =SUM(G10,G17) -> 276.7 | H18: =SUM(H10,H17) -> 267
B19: Provision for loan losses | C19: =Inputs!C30 -> -142.2 | D19: =Inputs!D30 -> -73.4 | E19: =Inputs!E30 -> -73.9 | F19: =Inputs!F30 -> -391.2 | G19: =Inputs!G30 -> -95.6 | H19: =Inputs!H30 -> -120
B20: Net interest margin after provision | C20: =SUM(C18:C19) -> 148.4 | D20: =SUM(D18:D19) -> 186.3 | E20: =SUM(E18:E19) -> 182.9 | F20: =SUM(F18:F19) -> 703.8 | G20: =SUM(G18:G19) -> 181.1 | H20: =SUM(H18:H19) -> 147
B21: Servicing income | C21: =Inputs!C31 -> 0 | D21: =Inputs!D31 -> 5 | E21: =Inputs!E31 -> 4.7 | F21: =Inputs!F31 -> 9.7 | G21: =Inputs!G31 -> 4.2 | H21: =Inputs!H31 -> 5
B22: Direct operating expense | C22: =Inputs!C32 -> -45.8 | D22: =Inputs!D32 -> -43.6 | E22: =Inputs!E32 -> -44 | F22: =Inputs!F32 -> -177.9 | G22: =Inputs!G32 -> -45.1 | H22: =Inputs!H32 -> -46
B23: Gain (loss) on loan sales | C23: =Inputs!C33 -> 0 | D23: =Inputs!D33 -> 27 | E23: =Inputs!E33 -> -0.1 | F23: =Inputs!F33 -> 26.9 | G23: =Inputs!G33 -> 0 | H23: =Inputs!H33 -> 0
B24: Fair-value adjustments | C24: =Inputs!C34 -> 0 | D24: =Inputs!D34 -> 0 | E24: =Inputs!E34 -> 0.2 | F24: =Inputs!F34 -> 0.2 | G24: =Inputs!G34 -> 0 | H24: =Inputs!H34 -> 0
B25: CarMax Auto Finance segment income | C25: =SUM(C20:C24) -> 102.6 | D25: =SUM(D20:D24) -> 174.7 | E25: =SUM(E20:E24) -> 143.7 | F25: =SUM(F20:F24) -> 562.7 | G25: =SUM(G20:G24) -> 140.2 | H25: =SUM(H20:H24) -> 106
B26: Segment income Y/Y growth | H26: =H25/C25-1 -> 0.033138402
B27: Average auto loans outstanding | C27: =Inputs!C35 -> 17734.5 | D27: =Inputs!D35 -> 16805.2 | E27: =Inputs!E35 -> 16403.5 | F27: =Inputs!F35 -> 17165.8 | G27: =Inputs!G35 -> 16533.7 | H27: =G27 -> 16533.7
B28: Y/Y change | H28: =H27/C27-1 -> -0.067709831
B29: Sequential change | D29: =D27-C27 -> -929.3 | E29: =E27-D27 -> -401.7 | G29: =G27-E27 -> 130.2 | H29: =H27-G27 -> 0
B30: Opening net loans (incl. held for sale) | D30: =C37 -> 17308.164 | E30: =D37 -> 16151.162 | G30: =E37 -> 16052.782 | H30: =G37 -> 16308.931
B31: Gross loan originations | C31: =Inputs!C36 -> 2039.6 | D31: =Inputs!D36 -> 1761.4 | E31: =Inputs!E36 -> 1858.1 | F31: =Inputs!F36 -> 7992.7 | G31: =Inputs!G36 -> 2445.1 | H31: =C31*H44/C44*'Segment - Sales Operations'!H10/'Segment - Sales Operations'!C10 -> 2070.7376
B32: Gross originations Y/Y change ($m) | H32: =H31-C31 -> 31.137617
B33: Gross originations sequential change ($m) | D33: =D31-C31 -> -278.2 | E33: =E31-D31 -> 96.7 | G33: =G31-E31 -> 587 | H33: =H31-G31 -> -374.36238
B34: Loan repayments, sales and writeoffs | D34: =D37-D30-D31 -> -2918.402 | E34: =E37-E30-E31 -> -1956.48 | G34: =G37-G30-G31 -> -2188.951 | H34: =-Inputs!H231 -> -2076.7376 | J34: Gross originations follow units and penetration; $2,076.7m expected paydowns/sales are an analyst assumption in Inputs!H231. Net portfolio changes by approximately ($6m), with separately forecast cash-flow and credit reclassification on the balance sheet.
B35: Paydowns Y/Y change ($m) | H35: unavailable
B36: Paydowns sequential change ($m) | E36: =E34-D34 -> 961.922 | G36: =G34-E34 -> -232.471 | H36: =H34-G34 -> 112.21338
B37: Closing net loans (incl. held for sale) | C37: ='Balance Sheet'!C18+'Balance Sheet'!C13 -> 17308.164 | D37: ='Balance Sheet'!D18+'Balance Sheet'!D13 -> 16151.162 | E37: ='Balance Sheet'!E18+'Balance Sheet'!E13 -> 16052.782 | F37: ='Balance Sheet'!F18+'Balance Sheet'!F13 -> 16052.782 | G37: ='Balance Sheet'!G18+'Balance Sheet'!G13 -> 16308.931 | H37: =SUM(H30:H31,H34) -> 16302.931
B38: Closing loan portfolio Y/Y ($m) | H38: =H37-C37 -> -1005.233
B39: Closing loan portfolio sequential ($m) | D39: =D37-C37 -> -1157.002 | E39: =E37-D37 -> -98.38 | G39: =G37-E37 -> 256.149 | H39: =H37-G37 -> -6
B40: Average period balance as disclosed | C40: =C27 -> 17734.5 | D40: =D27 -> 16805.2 | E40: =E27 -> 16403.5 | F40: =F27 -> 17165.8 | G40: =G27 -> 16533.7 | H40: =H27 -> 16533.7
B41: Loss provision / average loans | C41: =-C19/C27 -> 0.0080182695 | D41: =-D19/D27 -> 0.0043676957 | E41: =-E19/E27 -> 0.0045051361 | F41: =-F19/F27 -> 0.0227895 | G41: =-G19/G27 -> 0.0057821298 | H41: =-H19/H27 -> 0.0072579036
B42: Y/Y change (bp) | H42: =(H41-C41)*10000 -> -7.6036592
...

Sheet Income Statement
B2: CarMax, Inc.
B3: Income Statement
B4: $ millions, except per share
C5: 2Q26A | D5: 3Q26A | E5: 4Q26A | F5: FY26A | G5: 1Q27A | H5: 2Q27E
C6: 45900 | D6: 45991 | E6: 46081 | F6: 46081 | G6: 46173 | H6: 46265
C7: 92 | D7: 91 | E7: 90 | F7: 365 | G7: 92 | H7: 92
B9: GAAP CONSOLIDATED RESULTS
B10: Net sales and operating revenues | C10: ='Revenue summary'!C22 -> 6594.68 | D10: ='Revenue summary'!D22 -> 5793.95 | E10: ='Revenue summary'!E22 -> 5945.96 | F10: ='Revenue summary'!F22 -> 25881.131 | G10: ='Revenue summary'!G22 -> 8013.52 | H10: ='Revenue summary'!H22 -> 6807.7642
B11: Y/Y growth | H11: =H10/C10-1 -> 0.03231153
B12: Retail used vehicle cost of sales | C12: ='Revenue summary'!C26-'Segment - Sales Operations'!C44 -> 4828.1 | D12: ='Revenue summary'!D26-'Segment - Sales Operations'!D44 -> 4169.3 | E12: ='Revenue summary'!E26-'Segment - Sales Operations'!E44 -> 4396.8 | F12: ='Revenue summary'!F26-'Segment - Sales Operations'!F44 -> 18943.4 | G12: ='Revenue summary'!G26-'Segment - Sales Operations'!G44 -> 5889.9 | H12: ='Revenue summary'!H26-'Segment - Sales Operations'!H44 -> 5043.681
B13: Wholesale vehicle cost of sales | C13: ='Revenue summary'!C29-'Segment - Sales Operations'!C45 -> 1012.3 | D13: ='Revenue summary'!D29-'Segment - Sales Operations'!D45 -> 980.3 | E13: ='Revenue summary'!E29-'Segment - Sales Operations'!E45 -> 891.7 | F13: ='Revenue summary'!F29-'Segment - Sales Operations'!F45 -> 3980.5 | G13: ='Revenue summary'!G29-'Segment - Sales Operations'!G45 -> 1258.1 | H13: ='Revenue summary'!H29-'Segment - Sales Operations'!H45 -> 1030.0332
B14: Other services / EPP cost of sales | C14: ='Revenue summary'!C32-'Segment - Sales Operations'!C46 -> 36.58 | D14: ='Revenue summary'!D32-'Segment - Sales Operations'!D46 -> 54.35 | E14: ='Revenue summary'!E32-'Segment - Sales Operations'!E46 -> 52.16 | F14: ='Revenue summary'!F32-'Segment - Sales Operations'!F46 -> 150.631 | G14: ='Revenue summary'!G32-'Segment - Sales Operations'!G46 -> 11.12 | H14: ='Revenue summary'!H32-'Segment - Sales Operations'!H46 -> 27
B15: Total cost of sales | C15: =SUM(C12:C14) -> 5876.98 | D15: =SUM(D12:D14) -> 5203.95 | E15: =SUM(E12:E14) -> 5340.66 | F15: =SUM(F12:F14) -> 23074.531 | G15: =SUM(G12:G14) -> 7159.12 | H15: =SUM(H12:H14) -> 6100.7142
B16: Gross profit | C16: =C10-C15 -> 717.7 | D16: =D10-D15 -> 590 | E16: =E10-E15 -> 605.3 | F16: =F10-F15 -> 2806.6 | G16: =G10-G15 -> 854.4 | H16: =H10-H15 -> 707.05
B17: Gross profit / revenue | C17: =C16/C10 -> 0.10883015 | D17: =D16/D10 -> 0.10183036 | E17: =E16/E10 -> 0.10180021 | F17: =F16/F10 -> 0.10844194 | G17: =G16/G10 -> 0.10661981 | H17: =H16/H10 -> 0.10385936
B18: Y/Y change in margin (bp) | H18: =(H17-C17)*10000 -> -49.707928
B19: CarMax Auto Finance income | C19: ='Segment - Auto Finance'!C25 -> 102.6 | D19: ='Segment - Auto Finance'!D25 -> 174.7 | E19: ='Segment - Auto Finance'!E25 -> 143.7 | F19: ='Segment - Auto Finance'!F25 -> 562.7 | G19: ='Segment - Auto Finance'!G25 -> 140.2 | H19: ='Segment - Auto Finance'!H25 -> 106
B20: Compensation and benefits, excluding stock compensation | C20: =Inputs!C23 -> 323.4 | D20: =Inputs!D23 -> 307.3 | E20: =Inputs!E23 -> 312.7 | F20: =Inputs!F23 -> 1292.4 | G20: =Inputs!G23 -> 329.6 | H20: =Inputs!H23 -> 315
B21: Share-based compensation | C21: =Inputs!C24 -> 22.4 | D21: =Inputs!D24 -> 14.7 | E21: =Inputs!E24 -> 10.7 | F21: =Inputs!F24 -> 93.4 | G21: =Inputs!G24 -> 39.7 | H21: =Inputs!H24 -> 22
B22: Total compensation and benefits | C22: =SUM(C20:C21) -> 345.8 | D22: =SUM(D20:D21) -> 322 | E22: =SUM(E20:E21) -> 323.4 | F22: =SUM(F20:F21) -> 1385.8 | G22: =SUM(G20:G21) -> 369.3 | H22: =SUM(H20:H21) -> 337
B23: Occupancy costs | C23: =Inputs!C25 -> 74.1 | D23: =Inputs!D25 -> 68.6 | E23: =Inputs!E25 -> 93.8 | F23: =Inputs!F25 -> 305.5 | G23: =Inputs!G25 -> 66.8 | H23: =Inputs!H25 -> 72
B24: Advertising spend | C24: =Inputs!C26 -> 63.7 | D24: =Inputs!D26 -> 73.4 | E24: =Inputs!E26 -> 77.9 | F24: =Inputs!F26 -> 283 | G24: =Inputs!G26 -> 75.9 | H24: =Inputs!H26 -> 72
B25: Other SG&A overhead | C25: =Inputs!C27 -> 117.5 | D25: =Inputs!D27 -> 117.4 | E25: =Inputs!E27 -> 116.2 | F25: =Inputs!F27 -> 479.1 | G25: =Inputs!G27 -> 123.2 | H25: =Inputs!H27 -> 116
B26: Total selling, general and administrative expense | C26: =SUM(C22:C25) -> 601.1 | D26: =SUM(D22:D25) -> 581.4 | E26: =SUM(E22:E25) -> 611.3 | F26: =SUM(F22:F25) -> 2453.4 | G26: =SUM(G22:G25) -> 635.2 | H26: =SUM(H22:H25) -> 597
B27: Depreciation and amortization | C27: =Inputs!C45 -> 67.285 | D27: =Inputs!D45 -> 68.943 | E27: =Inputs!E45 -> 71.783 | F27: =Inputs!F45 -> 273.75 | G27: =Inputs!G45 -> 69.213 | H27: =Inputs!H45 -> 69
B28: Noncash goodwill impairment | C28: =Inputs!C81 -> 0 | D28: =Inputs!D81 -> 0 | E28: =Inputs!E81 -> 141.258 | F28: =Inputs!F81 -> 141.258 | G28: =Inputs!G81 -> 0 | H28: =Inputs!H69 -> 0
B29: Corporate interest expense | C29: =Inputs!C46 -> 28.453 | D29: =Inputs!D46 -> 26.12 | E29: =Inputs!E46 -> 28.751 | F29: =Inputs!F46 -> 110.4 | G29: =Inputs!G46 -> 33.811 | H29: =Inputs!H46 -> 32
B30: Other income (expense) | C30: =Inputs!C80 -> 3.624 | D30: =Inputs!D80 -> -4.468 | E30: =Inputs!E80 -> -6.532 | F30: =Inputs!F80 -> -7.067 | G30: =Inputs!G80 -> 2.101 | H30: =Inputs!H75 -> 2
B31: Reported precision / rounding | C31: =Inputs!C82-(C16+C19-C26-C27-C28-C29+C30) -> 0.011 | D31: =Inputs!D82-(D16+D19-D26-D27-D28-D29+D30) -> 0.118 | E31: =Inputs!E82-(E16+E19-E26-E27-E28-E29+E30) -> -0.057 | F31: =Inputs!F82-(F16+F19-F26-F27-F28-F29+F30) -> 0.008 | G31: =Inputs!G82-(G16+G19-G26-G27-G28-G29+G30) -> 0.08 | H31: =Inputs!H69 -> 0
B32: Earnings before income taxes | C32: =SUM(C16,C19,C30:C31)-SUM(C26:C29) -> 127.097 | D32: =SUM(D16,D19,D30:D31)-SUM(D26:D29) -> 83.887 | E32: =SUM(E16,E19,E30:E31)-SUM(E26:E29) -> -110.681 | F32: =SUM(F16,F19,F30:F31)-SUM(F26:F29) -> 383.433 | G32: =SUM(G16,G19,G30:G31)-SUM(G26:G29) -> 258.557 | H32: =SUM(H16,H19,H30:H31)-SUM(H26:H29) -> 117.05
B33: Income tax provision | C33: =Inputs!C47 -> 31.719 | D33: =Inputs!D47 -> 21.672 | E33: =Inputs!E47 -> 10.003 | F33: =Inputs!F47 -> 136.143 | G33: =Inputs!G47 -> 72.93 | H33: =H32*Inputs!H76 -> 29.2625
B34: GAAP net earnings (loss) | C34: =C32-C33 -> 95.378 | D34: =D32-D33 -> 62.215 | E34: =E32-E33 -> -120.684 | F34: =F32-F33 -> 247.29 | G34: =G32-G33 -> 185.627 | H34: =H32-H33 -> 87.7875
B35: Net margin | C35: =C34/C10 -> 0.01446287 | D35: =D34/D10 -> 0.010737925 | E35: =E34/E10 -> -0.020296807 | F35: =F34/F10 -> 0.0095548375 | G35: =G34/G10 -> 0.023164227 | H35: =H34/H10 -> 0.012895203
B36: Y/Y growth in net earnings | H36: =H34/C34-1 -> -0.079583342
B37: Basic weighted average common shares (m) | C37: ='Share Count'!C10 -> 149.291 | D37: ='Share Count'!D10 -> 145.548 | E37: ='Share Count'!E10 -> 141.923 | F37: ='Share Count'!F10 -> 147.258 | G37: ='Share Count'!G10 -> 141.847 | H37: ='Share Count'!H10 -> 141.85
B38: Diluted weighted average common shares (m) | C38: ='Share Count'!C12 -> 149.637 | D38: ='Share Count'!D12 -> 145.864 | E38: ='Share Count'!E12 -> 141.923 | F38: ='Share Count'!F12 -> 147.613 | G38: ='Share Count'!G12 -> 142.148 | H38: ='Share Count'!H12 -> 142.1
B39: GAAP basic earnings per share | C39: =C34/C37 -> 0.63887307 | D39: =D34/D37 -> 0.42745349 | E39: =E34/E37 -> -0.85034843 | F39: =F34/F37 -> 1.6792976 | G39: =G34/G37 -> 1.3086424 | H39: =H34/H37 -> 0.61887557
B40: GAAP diluted earnings per share | C40: =C34/C38 -> 0.63739583 | D40: =D34/D38 -> 0.42652745 | E40: =E34/E38 -> -0.85034843 | F40: =F34/F38 -> 1.675259 | G40: =G34/G38 -> 1.3058713 | H40: =H34/H38 -> 0.61778677
B41: GAAP → NORMALIZED (issuer-reconciled)
B42: Add: impairment charges per diluted share | C42: =Inputs!C83 -> 0 | D42: =Inputs!D83 -> 0 | E42: =Inputs!E83 -> 0.99 | F42: =Inputs!F83 -> 0.96 | G42: =Inputs!G83 -> 0 | H42: =Inputs!H69 -> 0
...

Sheet Balance Sheet
B2: CarMax, Inc.
B3: Balance Sheet
B4: $ millions, except per share
C5: 2Q26A | D5: 3Q26A | E5: 4Q26A | F5: FY26A | G5: 1Q27A | H5: 2Q27E
C6: 45900 | D6: 45991 | E6: 46081 | F6: 46081 | G6: 46173 | H6: 46265
C7: 92 | D7: 91 | E7: 90 | F7: 365 | G7: 92 | H7: 92
B9: ASSETS
B10: Cash and cash equivalents | C10: =Inputs!C48 -> 540.374 | D10: =Inputs!D48 -> 204.938 | E10: =Inputs!E48 -> 122.826 | F10: =Inputs!F48 -> 122.826 | G10: =Inputs!G48 -> 132.223 | H10: =G10+'Income Statement'!H34+'Income Statement'!H27+'Income Statement'!H21-'Segment - Auto Finance'!H19+SUM(Inputs!H220:H225)+Inputs!H73+Inputs!H74 -> 94.0105
B11: Restricted cash: loan collections | C11: =Inputs!C49 -> 618.792 | D11: =Inputs!D49 -> 567.398 | E11: =Inputs!E49 -> 592.033 | F11: =Inputs!F49 -> 592.033 | G11: =Inputs!G49 -> 595.103 | H11: =G11 -> 595.103
B12: Other restricted cash — memorandum, not in total assets | C12: =Inputs!C62 -> 146.009 | D12: =Inputs!D62 -> 140.467 | E12: =Inputs!E62 -> 147.991 | F12: =Inputs!F62 -> 147.991 | G12: =Inputs!G62 -> 144.008 | H12: =G12 -> 144.008
B13: Auto loans held for sale | C13: =Inputs!C51 -> 921.928 | D13: =Inputs!D51 -> 0 | E13: =Inputs!E51 -> 100.491 | F13: =Inputs!F51 -> 100.491 | G13: =Inputs!G51 -> 618.979 | H13: =G13-'Cash Flow Statement'!H41 -> 678.979
B14: Accounts receivable, net | C14: =Inputs!C50 -> 173.556 | D14: =Inputs!D50 -> 151.102 | E14: =Inputs!E50 -> 204.453 | F14: =Inputs!F50 -> 204.453 | G14: =Inputs!G50 -> 263.919 | H14: =G14-'Cash Flow Statement'!H40 -> 293.919
B15: Vehicle inventory | C15: =Inputs!C52 -> 3149.57 | D15: =Inputs!D52 -> 3127.948 | E15: =Inputs!E52 -> 4137.005 | F15: =Inputs!F52 -> 4137.005 | G15: =Inputs!G52 -> 4062.765 | H15: =G15-'Cash Flow Statement'!H42 -> 4142.765
B16: Other current assets | C16: =Inputs!C53 -> 137.798 | D16: =Inputs!D53 -> 146.819 | E16: =Inputs!E53 -> 153.594 | F16: =Inputs!F53 -> 153.594 | G16: =Inputs!G53 -> 161.34 | H16: =G16 -> 161.34
B17: Total current assets | C17: =SUM(C10:C11,C13:C16) -> 5542.018 | D17: =SUM(D10:D11,D13:D16) -> 4198.205 | E17: =SUM(E10:E11,E13:E16) -> 5310.402 | F17: =SUM(F10:F11,F13:F16) -> 5310.402 | G17: =SUM(G10:G11,G13:G16) -> 5834.329 | H17: =SUM(H10:H11,H13:H16) -> 5966.1165
B18: Auto loans held for investment, net | C18: =Inputs!C54 -> 16386.236 | D18: =Inputs!D54 -> 16151.162 | E18: =Inputs!E54 -> 15952.291 | F18: =Inputs!F54 -> 15952.291 | G18: =Inputs!G54 -> 15689.952 | H18: =G18-'Cash Flow Statement'!H44+'Segment - Auto Finance'!H19+Inputs!H228 -> 15623.952
B19: Property and equipment, net | C19: =Inputs!C55 -> 3969.003 | D19: =Inputs!D55 -> 4023.465 | E19: =Inputs!E55 -> 4070.293 | F19: =Inputs!F55 -> 4070.293 | G19: =Inputs!G55 -> 4079.993 | H19: =G19 -> 4079.993
B20: Deferred income-tax assets | C20: =Inputs!C56 -> 105.729 | D20: =Inputs!D56 -> 73.451 | E20: =Inputs!E56 -> 78.479 | F20: =Inputs!F56 -> 78.479 | G20: =Inputs!G56 -> 72.917 | H20: =G20 -> 72.917
B21: Operating lease assets | C21: =Inputs!C57 -> 476.367 | D21: =Inputs!D57 -> 475.078 | E21: =Inputs!E57 -> 459.514 | F21: =Inputs!F57 -> 459.514 | G21: =Inputs!G57 -> 451.441 | H21: =G21 -> 451.441
B22: Goodwill | C22: =Inputs!C58 -> 141.258 | D22: =Inputs!D58 -> 141.258 | E22: =Inputs!E58 -> 0 | F22: =Inputs!F58 -> 0 | G22: =Inputs!G58 -> 0 | H22: =G22 -> 0
B23: Other noncurrent assets | C23: =Inputs!C59 -> 459.033 | D23: =Inputs!D59 -> 499.736 | E23: =Inputs!E59 -> 496.924 | F23: =Inputs!F59 -> 496.924 | G23: =Inputs!G59 -> 498.266 | H23: =G23 -> 498.266
B24: Total assets | C24: =SUM(C17:C23) -> 27079.644 | D24: =SUM(D17:D23) -> 25562.355 | E24: =SUM(E17:E23) -> 26367.903 | F24: =SUM(F17:F23) -> 26367.903 | G24: =SUM(G17:G23) -> 26626.898 | H24: =SUM(H17:H23) -> 26692.685
B25: LIABILITIES AND SHAREHOLDERS’ EQUITY
B26: Accounts payable | C26: =Inputs!C86 -> 913.35 | D26: =Inputs!D86 -> 887.496 | E26: =Inputs!E86 -> 1117.976 | F26: =Inputs!F86 -> 1117.976 | G26: =Inputs!G86 -> 1056.719 | H26: =G26+'Cash Flow Statement'!H46 -> 1076.719
B27: Accrued expenses and other current liabilities | C27: =Inputs!C87 -> 477.994 | D27: =Inputs!D87 -> 418.021 | E27: =Inputs!E87 -> 475.495 | F27: =Inputs!F87 -> 475.495 | G27: =Inputs!G87 -> 417.841 | H27: =G27 -> 417.841
B28: Income taxes payable | C28: =Inputs!C88 -> 4.871 | D28: =Inputs!D88 -> 4.079 | E28: =Inputs!E88 -> 2.019 | F28: =Inputs!F88 -> 2.019 | G28: =Inputs!G88 -> 54.191 | H28: =G28 -> 54.191
B29: Current operating lease liabilities | C29: =Inputs!C89 -> 57.948 | D29: =Inputs!D89 -> 57.173 | E29: =Inputs!E89 -> 57.341 | F29: =Inputs!F89 -> 57.341 | G29: =Inputs!G89 -> 56.988 | H29: =G29 -> 56.988
B30: Current long-term debt | C30: =Inputs!C90 -> 216.855 | D30: =Inputs!D90 -> 216.901 | E30: =Inputs!E90 -> 217.323 | F30: =Inputs!F90 -> 217.323 | G30: =Inputs!G90 -> 17.234 | H30: =G30 -> 17.234
B31: Current non-recourse notes payable | C31: =Inputs!C91 -> 581.018 | D31: =Inputs!D91 -> 522.571 | E31: =Inputs!E91 -> 544.651 | F31: =Inputs!F91 -> 544.651 | G31: =Inputs!G91 -> 554.081 | H31: =G31 -> 554.081
B32: Total current liabilities | C32: =SUM(C26:C31) -> 2252.036 | D32: =SUM(D26:D31) -> 2106.241 | E32: =SUM(E26:E31) -> 2414.805 | F32: =SUM(F26:F31) -> 2414.805 | G32: =SUM(G26:G31) -> 2157.054 | H32: =SUM(H26:H31) -> 2177.054
B33: Long-term debt (excluding current) | C33: =Inputs!C92 -> 1369.764 | D33: =Inputs!D92 -> 1169.768 | E33: =Inputs!E92 -> 2006.217 | F33: =Inputs!F92 -> 2006.217 | G33: =Inputs!G92 -> 2061.271 | H33: =G33+Inputs!H74 -> 2041.271
B34: Non-recourse notes payable (excluding current) | C34: =Inputs!C93 -> 16447.623 | D34: =Inputs!D93 -> 15417.006 | E34: =Inputs!E93 -> 15254.33 | F34: =Inputs!F93 -> 15254.33 | G34: =Inputs!G93 -> 15499.705 | H34: =G34 -> 15499.705
B35: Noncurrent operating lease liabilities | C35: =Inputs!C94 -> 463.844 | D35: =Inputs!D94 -> 462.391 | E35: =Inputs!E94 -> 464.696 | F35: =Inputs!F94 -> 464.696 | G35: =Inputs!G94 -> 453.352 | H35: =G35 -> 453.352
B36: Other noncurrent liabilities | C36: =Inputs!C95 -> 345.855 | D36: =Inputs!D95 -> 342.415 | E36: =Inputs!E95 -> 338.999 | F36: =Inputs!F95 -> 338.999 | G36: =Inputs!G95 -> 336.931 | H36: =G36+'Cash Flow Statement'!H47 -> 314.931
B37: Total liabilities | C37: =SUM(C32:C36) -> 20879.122 | D37: =SUM(D32:D36) -> 19497.821 | E37: =SUM(E32:E36) -> 20479.047 | F37: =SUM(F32:F36) -> 20479.047 | G37: =SUM(G32:G36) -> 20508.313 | H37: =SUM(H32:H36) -> 20486.313
B39: Common stock | C39: =Inputs!C96 -> 73.837 | D39: =Inputs!D96 -> 71.531 | E39: =Inputs!E96 -> 70.9 | F39: =Inputs!F96 -> 70.9 | G39: =Inputs!G96 -> 70.955 | H39: =G39 -> 70.955
B40: Additional paid-in capital | C40: =Inputs!C97 -> 1873.377 | D40: =Inputs!D97 -> 1824.142 | E40: =Inputs!E97 -> 1810.223 | F40: =Inputs!F97 -> 1810.223 | G40: =Inputs!G97 -> 1834.058 | H40: =G40 -> 1834.058
B41: Other comprehensive income / (loss) | C41: =Inputs!C98 -> -21.306 | D41: =Inputs!D98 -> -27.28 | E41: =Inputs!E98 -> -34.126 | F41: =Inputs!F98 -> -34.126 | G41: =Inputs!G98 -> -13.914 | H41: =G41 -> -13.914
B42: Retained earnings | C42: =Inputs!C99 -> 4274.614 | D42: =Inputs!D99 -> 4196.141 | E42: =Inputs!E99 -> 4041.859 | F42: =Inputs!F99 -> 4041.859 | G42: =Inputs!G99 -> 4227.486 | H42: =G42+'Income Statement'!H34 -> 4315.2735
B43: Total shareholders’ equity | C43: =SUM(C39:C42) -> 6200.522 | D43: =SUM(D39:D42) -> 6064.534 | E43: =SUM(E39:E42) -> 5888.856 | F43: =SUM(F39:F42) -> 5888.856 | G43: =SUM(G39:G42) -> 6118.585 | H43: =SUM(H39:H42) -> 6206.3725
...

Sheet Cash Flow Statement
B2: CarMax, Inc.
B3: Cash Flow Statement
B4: $ millions, except per share
C5: 2Q26A | D5: 3Q26A | E5: 4Q26A | F5: FY26A | G5: 1Q27A | H5: 2Q27E
C6: 45900 | D6: 45991 | E6: 46081 | F6: 46081 | G6: 46173 | H6: 46265
C7: 92 | D7: 91 | E7: 90 | F7: 365 | G7: 92 | H7: 92
B9: OPERATING CASH FLOW
B10: GAAP net earnings | C10: ='Income Statement'!C34 -> 95.378 | D10: ='Income Statement'!D34 -> 62.215 | E10: ='Income Statement'!E34 -> -120.684 | F10: ='Income Statement'!F34 -> 247.29 | G10: ='Income Statement'!G34 -> 185.627 | H10: ='Income Statement'!H34 -> 87.7875
B11: Depreciation and amortization (income-statement basis) | C11: ='Income Statement'!C27 -> 67.285 | D11: ='Income Statement'!D27 -> 68.943 | E11: ='Income Statement'!E27 -> 71.783 | F11: ='Income Statement'!F27 -> 273.75 | G11: ='Income Statement'!G27 -> 69.213 | H11: ='Income Statement'!H27 -> 69
B12: Noncash and WC subtotal less IS D&A (details rows 32–47) | C12: =C48-C11 -> 622.831 | D12: =D48-D11 -> 1121.919 | E12: =E48-E11 -> -505.366 | F12: =F48-F11 -> 1262.807 | G12: =G48-G11 -> -237.251 | H12: =H48-H11 -> -75
B13: Cash provided by operating activities | C13: =SUM(C10:C12) -> 785.494 | D13: =SUM(D10:D12) -> 1253.077 | E13: =SUM(E10:E12) -> -554.267 | F13: =SUM(F10:F12) -> 1783.847 | G13: =SUM(G10:G12) -> 17.589 | H13: =SUM(H10:H12) -> 81.7875
B14: Y/Y growth | H14: =H13/C13-1 -> -0.89587763
B15: INVESTING CASH FLOW
B16: Capital spending and investments, net | C16: =C56 -> -131.277 | D16: =D56 -> -138.811 | E16: =E56 -> -128.768 | F16: =F56 -> -540.045 | G16: =G56 -> -99.626 | H16: =H56 -> -100
B17: Cash used in investing activities | C17: =C16 -> -131.277 | D17: =D16 -> -138.811 | E17: =E16 -> -128.768 | F17: =F16 -> -540.045 | G17: =G16 -> -99.626 | H17: =H16 -> -100
B18: FINANCING CASH FLOW
B19: Financing, debt funding and share repurchases, net | C19: =C67 -> -338.281 | D19: =D67 -> -1506.638 | E19: =E67 -> 633.082 | F19: =F67 -> -1341.262 | G19: =G67 -> 90.521 | H19: =H67 -> -20
B20: Cash from (used in) financing | C20: =C19 -> -338.281 | D20: =D19 -> -1506.638 | E20: =E19 -> 633.082 | F20: =F19 -> -1341.262 | G20: =G19 -> 90.521 | H20: =H19 -> -20
B21: Net change in cash including restricted cash | C21: =SUM(C13,C17,C20) -> 315.936 | D21: =SUM(D13,D17,D20) -> -392.372 | E21: =SUM(E13,E17,E20) -> -49.953 | F21: =SUM(F13,F17,F20) -> -97.46 | G21: =SUM(G13,G17,G20) -> 8.484 | H21: =SUM(H13,H17,H20) -> -38.2125
B22: Beginning cash including restricted cash | C22: =Inputs!C66 -> 989.239 | D22: =Inputs!D66 -> 1305.175 | E22: =Inputs!E66 -> 912.803 | F22: =Inputs!F66 -> 960.31 | G22: =Inputs!G66 -> 862.85 | H22: =G23 -> 871.334
B23: Ending cash including restricted cash | C23: =SUM(C21:C22) -> 1305.175 | D23: =SUM(D21:D22) -> 912.803 | E23: =SUM(E21:E22) -> 862.85 | F23: =SUM(F21:F22) -> 862.85 | G23: =SUM(G21:G22) -> 871.334 | H23: =SUM(H21:H22) -> 833.1215
B24: Balance sheet cash / cash equivalents | C24: ='Balance Sheet'!C10 -> 540.374 | D24: ='Balance Sheet'!D10 -> 204.938 | E24: ='Balance Sheet'!E10 -> 122.826 | F24: ='Balance Sheet'!F10 -> 122.826 | G24: ='Balance Sheet'!G10 -> 132.223 | H24: ='Balance Sheet'!H10 -> 94.0105
B25: Restricted collections on auto loans | C25: ='Balance Sheet'!C11 -> 618.792 | D25: ='Balance Sheet'!D11 -> 567.398 | E25: ='Balance Sheet'!E11 -> 592.033 | F25: ='Balance Sheet'!F11 -> 592.033 | G25: ='Balance Sheet'!G11 -> 595.103 | H25: ='Balance Sheet'!H11 -> 595.103
B26: Other cash restricted in securitization vehicles | C26: ='Balance Sheet'!C12 -> 146.009 | D26: ='Balance Sheet'!D12 -> 140.467 | E26: ='Balance Sheet'!E12 -> 147.991 | F26: ='Balance Sheet'!F12 -> 147.991 | G26: ='Balance Sheet'!G12 -> 144.008 | H26: ='Balance Sheet'!H12 -> 144.008
B27: Cash flow to balance sheet check | C27: =C23-SUM(C24:C26) -> 0 | D27: =D23-SUM(D24:D26) -> 0 | E27: =E23-SUM(E24:E26) -> 0 | F27: =F23-SUM(F24:F26) -> 0 | G27: =G23-SUM(G24:G26) -> 0 | H27: =H23-SUM(H24:H26) -> 0
B28: Operating cash flow source check | C28: =C13-Inputs!C63 -> 0 | D28: =D13-Inputs!D63 -> 0 | E28: =E13-Inputs!E63 -> 0 | F28: =F13-Inputs!F63 -> 0 | G28: =G13-Inputs!G63 -> 0 | H28: =H13-H10-H11-H12 -> 0
B29: Change in cash check | C29: =C23-Inputs!C67 -> 0 | D29: =D23-Inputs!D67 -> 0 | E29: =E23-Inputs!E67 -> 0 | F29: =F23-Inputs!F67 -> 0 | G29: =G23-Inputs!G67 -> 0 | H29: =('Balance Sheet'!H10-'Balance Sheet'!G10)+('Balance Sheet'!H11-'Balance Sheet'!G11)+('Balance Sheet'!H12-'Balance Sheet'!G12)-H21 -> 0
B30: Capital expenditures only (not all investing cash) | C30: =C51 -> -131.468 | D30: =D51 -> -139.758 | E30: =E51 -> -133.027 | F30: =F51 -> -540.989 | G30: =G51 -> -103.335 | H30: =H51 -> -100
B31: DETAIL — OPERATING ACTIVITIES
B32: Operating depreciation and loan amortization | C32: =Inputs!C190-Inputs!E190 -> 83.931 | D32: =Inputs!D190-Inputs!C190 -> 88.483 | E32: =Inputs!F190-Inputs!D190 -> 93.764 | F32: =Inputs!F190 -> 345.962 | G32: =Inputs!G190 -> 92.895 | H32: ='Income Statement'!H27 -> 69
B33: Share-based compensation | C33: =Inputs!C191-Inputs!E191 -> 24.274 | D33: =Inputs!D191-Inputs!C191 -> 16.106 | E33: =Inputs!F191-Inputs!D191 -> 11.657 | F33: =Inputs!F191 -> 99.018 | G33: =Inputs!G191 -> 41.946 | H33: ='Income Statement'!H21 -> 22
B34: Provision for loan losses | C34: =Inputs!C192-Inputs!E192 -> 142.197 | D34: =Inputs!D192-Inputs!C192 -> 73.431 | E34: =Inputs!F192-Inputs!D192 -> 73.865 | F34: =Inputs!F192 -> 391.2 | G34: =Inputs!G192 -> 95.584 | H34: =-'Segment - Auto Finance'!H19 -> 120
B35: Cancellation-reserve provision | C35: =Inputs!C193-Inputs!E193 -> 17.094 | D35: =Inputs!D193-Inputs!C193 -> 15.26 | E35: =Inputs!F193-Inputs!D193 -> 18.67 | F35: =Inputs!F193 -> 75.827 | G35: =Inputs!G193 -> 26.166 | H35: =Inputs!H219 -> 0
B36: Deferred income tax provision / benefit | C36: =Inputs!C194-Inputs!E194 -> 39.642 | D36: =Inputs!D194-Inputs!C194 -> 34.194 | E36: =Inputs!F194-Inputs!D194 -> -2.818 | F36: =Inputs!F194 -> 73.8 | G36: =Inputs!G194 -> -0.991 | H36: =Inputs!H219 -> 0
B37: Proceeds from loan sale | C37: =Inputs!C195-Inputs!E195 -> 0 | D37: =Inputs!D195-Inputs!C195 -> 909.016 | E37: =Inputs!F195-Inputs!D195 -> -0.089 | F37: =Inputs!F195 -> 908.927 | G37: =Inputs!G195 -> 0 | H37: =Inputs!H219 -> 0
B38: Goodwill impairment noncash addback | C38: =Inputs!C196-Inputs!E196 -> 0 | D38: =Inputs!D196-Inputs!C196 -> 0 | E38: =Inputs!F196-Inputs!D196 -> 141.258 | F38: =Inputs!F196 -> 141.258 | G38: =Inputs!G196 -> 0 | H38: =Inputs!H219 -> 0
B39: Other noncash operating items | C39: =Inputs!C197-Inputs!E197 -> 0.083 | D39: =Inputs!D197-Inputs!C197 -> -20.2 | E39: =Inputs!F197-Inputs!D197 -> 28.152 | F39: =Inputs!F197 -> 9.345 | G39: =Inputs!G197 -> -3.252 | H39: =Inputs!H219 -> 0
B40: Change in receivables | C40: =Inputs!C198-Inputs!E198 -> 26.749 | D40: =Inputs!D198-Inputs!C198 -> 22.454 | E40: =Inputs!F198-Inputs!D198 -> -53.351 | F40: =Inputs!F198 -> -15.72 | G40: =Inputs!G198 -> -59.466 | H40: =Inputs!H220 -> -30
B41: Change in loans held for sale | C41: =Inputs!C199-Inputs!E199 -> -283.981 | D41: =Inputs!D199-Inputs!C199 -> 921.928 | E41: =Inputs!F199-Inputs!D199 -> -100.491 | F41: =Inputs!F199 -> -100.491 | G41: =Inputs!G199 -> -518.488 | H41: =Inputs!H221 -> -60
B42: Change in inventory | C42: =Inputs!C200-Inputs!E200 -> 474.783 | D42: =Inputs!D200-Inputs!C200 -> 21.622 | E42: =Inputs!F200-Inputs!D200 -> -1009.057 | F42: =Inputs!F200 -> -202.383 | G42: =Inputs!G200 -> 74.24 | H42: =Inputs!H222 -> -80
...

Sheet Share Count
B2: CarMax, Inc.
B3: Share Count
B4: $ millions, except per share
C5: 2Q26A | D5: 3Q26A | E5: 4Q26A | F5: FY26A | G5: 1Q27A | H5: 2Q27E
C6: 45900 | D6: 45991 | E6: 46081 | F6: 46081 | G6: 46173 | H6: 46265
C7: 92 | D7: 91 | E7: 90 | F7: 365 | G7: 92 | H7: 92
B9: SHARES / CAPITAL RETURN
B10: Basic weighted average common shares (m) | C10: =Inputs!C42 -> 149.291 | D10: =Inputs!D42 -> 145.548 | E10: =Inputs!E42 -> 141.923 | F10: =Inputs!F42 -> 147.258 | G10: =Inputs!G42 -> 141.847 | H10: =Inputs!H42 -> 141.85
B11: Dilution from outstanding awards (m) | C11: =C12-C10 -> 0.346 | D11: =D12-D10 -> 0.316 | E11: =E12-E10 -> 0 | F11: =F12-F10 -> 0.355 | G11: =G12-G10 -> 0.301 | H11: =H12-H10 -> 0.25
B12: Diluted weighted average shares (m) | C12: =Inputs!C43 -> 149.637 | D12: =Inputs!D43 -> 145.864 | E12: =Inputs!E43 -> 141.923 | F12: =Inputs!F43 -> 147.613 | G12: =Inputs!G43 -> 142.148 | H12: =Inputs!H43 -> 142.1
B13: Shares used in normalized EPS (m) | C13: =C12 -> 149.637 | D13: =D12 -> 145.864 | E13: =E12 -> 141.923 | F13: =F12 -> 147.613 | G13: =G12 -> 142.148 | H13: =H12 -> 142.1
B14: Repurchases under announced program ($m) | C14: 180 | D14: 201.6 | E14: 50.4 | F14: 631.8 | G14: 0 | H14: =G14 -> 0
B15: Shares repurchased under program (m) | C15: 2.9 | D15: 4.6 | E15: 1.3 | F15: 11.8 | G15: 0 | H15: =G15 -> 0
B16: Equity issuances / shares from vesting (m) | H16: =G16 -> 0.110029
B17: Shares outstanding at quarter end (m) | C17: 147.67334 | D17: 143.06244 | E17: 141.79907 | F17: =E17 -> 141.79907 | G17: 141.9091 | H17: =G17+H16-H15 -> 142.01913
B18: Y/Y change | H18: =H17-C17 -> -5.65421
B19: Sequential change | H19: =H17-G17 -> 0.110029
B20: Buyback program status | C20: Active | D20: Active | E20: Active | F20: Active | G20: Paused | H20: =G20 -> Paused | J20: Q1 FY27 program repurchases were paused; no program buyback assumed for Q2.
B21: Fully diluted share count check | C21: =C13-C12 -> 0 | D21: =D13-D12 -> 0 | E21: =E13-E12 -> 0 | F21: =F13-F12 -> 0 | G21: =G13-G12 -> 0 | H21: =H13-H12 -> 0

Sheet Guidance
B2: CarMax, Inc.
B3: Guidance
B4: $ millions, except per share
C5: 2Q26A | D5: 3Q26A | E5: 4Q26A | F5: FY26A | G5: 1Q27A | H5: 2Q27E
C6: 45900 | D6: 45991 | E6: 46081 | F6: 46081 | G6: 46173 | H6: 46265
C7: 92 | D7: 91 | E7: 90 | F7: 365 | G7: 92 | H7: 92
B9: Publication date | C9: Guidance period | D9: Metric | E9: Low | F9: High | G9: Midpoint | H9: Reported actual | I9: Beat / miss | J9: Source ID
B10: 46126 | C10: FY2027 | D10: Capital expenditures ($m) | E10: 400 | F10: 400 | G10: =AVERAGE(E10:F10) -> 400 | J10: S04
B11: 46126 | C11: FY2027 | D11: New retail stores | E11: 4 | F11: 4 | G11: =AVERAGE(E11:F11) -> 4 | J11: S04
B12: 46126 | C12: FY2027 | D12: New recon / auction centers | E12: 2 | F12: 2 | G12: =AVERAGE(E12:F12) -> 2 | J12: S04
B13: 46126 | C13: FY2027 | D13: New stand-alone auction sites | E13: 2 | F13: 2 | G13: =AVERAGE(E13:F13) -> 2 | J13: S04
B14: 46190 | C14: FY2027 exit | D14: SG&A savings exit run-rate ($m) | E14: 200 | F14: 200 | G14: =AVERAGE(E14:F14) -> 200 | J14: S05
B15: 46126 | C15: 1Q27 | D15: Retail gross profit/unit decline (maximum $) | F15: 300 | G15: 300 | H15: 230 | I15: =IF(H15<G15,"BEAT","MISS") -> BEAT | J15: S04
B16: 46190 | C16: 2Q27 | D16: Revenue guidance midpoint | G16: unavailable | I16: not guided | J16: S05
B17: 46190 | C17: 2Q27 | D17: Net income / EPS guidance midpoint | G17: unavailable | I17: not guided | J17: S05

Sheet Sources
B2: CarMax, Inc.
B3: Sources
B4: $ millions, except per share
C5: 2Q26A | D5: 3Q26A | E5: 4Q26A | F5: FY26A | G5: 1Q27A | H5: 2Q27E
C6: 45900 | D6: 45991 | E6: 46081 | F6: 46081 | G6: 46173 | H6: 46265
C7: 92 | D7: 91 | E7: 90 | F7: 365 | G7: 92 | H7: 92
B9: ID | C9: Published | D9: Publisher | E9: Source → J | F9: Notes → K | J9: URL / input file | K9: What the source feeds / method notes
B10: S01 | C10: 45925 | D10: SEC / CarMax | E10: see J10 | F10: see K10 | J10: https://www.sec.gov/Archives/edgar/data/1170010/000117001025000115/q2fy26earningsrelease.htm | K10: 2Q26 revenue, units, income, loan operations
B11: S02 | C11: 46009 | D11: SEC / CarMax | E11: see J11 | F11: see K11 | J11: https://www.sec.gov/Archives/edgar/data/1170010/000117001025000129/q3fy26earningsrelease.htm | K11: 3Q26 operating and GAAP/non-GAAP history
B12: S03 | C12: 46127 | D12: SEC / CarMax | E12: see J12 | F12: see K12 | J12: https://www.sec.gov/Archives/edgar/data/1170010/000117001026000021/kmx-20260228.htm | K12: FY26 statements; reportable segments and geography
B13: S04 | C13: 46126 | D13: SEC / CarMax | E13: see J13 | F13: see K13 | J13: https://www.sec.gov/Archives/edgar/data/1170010/000117001026000017/q4fy26earningsrelease.htm | K13: 4Q26/FY26 operations, impairment/adjusted EPS, guidance
B14: S05 | C14: 46190 | D14: SEC / CarMax | E14: see J14 | F14: see K14 | J14: https://www.sec.gov/Archives/edgar/data/1170010/000117001026000053/q1fy27earningsrelease.htm | K14: 1Q27 results, costs and September 29 date
B15: S06 | C15: 46197 | D15: SEC / CarMax | E15: see J15 | F15: see K15 | J15: https://www.sec.gov/Archives/edgar/data/1170010/000117001026000055/kmx-20260531.htm | K15: CAF segment, servicing account balance, US reporting
B16: S07 | C16: 45926 | D16: SEC / CarMax | E16: see J16 | F16: see K16 | J16: https://www.sec.gov/Archives/edgar/data/1170010/000117001025000118/kmx-20250831.htm | K16: 2Q26 formal financial statements
B17: S08 | C17: 46190 | D17: Stock Analysis / conference call | E17: see J17 | F17: see K17 | J17: https://stockanalysis.com/stocks/kmx/transcripts/649232-q1-2027/ | K17: Management pricing strategy and $200m savings
B18: S09 | C18: 46276 | D18: Cox Automotive | E18: see J18 | F18: see K18 | J18: https://www.coxautoinc.com/insights/used-vehicle-inventory-august-2026/ | K18: Aug used sales -3.2% YoY; list price +7%
B19: S10 | C19: 46283 | D19: MarketBeat / Zacks Research | E19: see J19 | F19: see K19 | J19: https://www.marketbeat.com/instant-alerts/estimates-zacks-research-issues-negative-forecast-for-carmax-earnings-2026-09-18/ | K19: Q2 analyst EPS revision $0.60 → $0.57
B20: S11 | C20: 46289 | D20: S&P Capital IQ | E20: see J20 | F20: see K20 | J20: KMX_consensus.json | K20: Sep 24 normalized EPS 0.72; revenue 6,984.29m
B21: S12 | C21: 46289 | D21: S&P Capital IQ | E21: see J21 | F21: see K21 | J21: KMX_history.csv | K21: Six reported quarterly normalized and GAAP comparisons
B23: Geo omitted | K23: Geo tab omitted — checked CarMax FY2026 Form 10-K (S03); no material multi-country revenue disclosure.
B24: CAF account detail | K24: CAF accounts opening/adds/churn omitted as unavailable in 10-Q (S06); closing accounts disclosed (~1.1m).
B25: 2Q27 guidance | K25: No numerical guidance for 2Q27 revenue, earnings or EPS (S05); guidance midpoint unavailable.
B26: Historical precision | K26: Historical periods source exact statement totals; component rounding explicitly reconciled on segment.
B27: Consensus as-of date | K27: Capital IQ consensus capture date is September 24, 2026 (day only, no timestamp).
B28: KMX_history.csv SHA256 | C28: see J28 | J28: 93a210cab0650669d3ad322710e17442fe3f9c1722ff425a98cf87ae6c6634be
B29: KMX_consensus.json SHA256 | C29: see J29 | J29: 32a99021143fc82190fad85a22e72d1fc3ecc6fefbd005e6bce2de6780a20609
B30: Information cutoff UTC | C30: see J30 | J30: 2026-09-26T18:44:22.240587+00:00
B32: S13 | C32: 46248 | D32: Cox Automotive | E32: see J32 | F32: see K32 | J32: https://www.coxautoinc.com/insights/used-vehicle-inventory-july-2026/ | K32: July retail used units -2.2% Y/Y and list ASP +6%
B33: S14 | C33: 46232 | D33: Carvana | E33: see J33 | F33: see K33 | J33: https://investors.carvana.com/news-releases/2026/07-29-2026-210525685 | K33: Competitor Q2 2026 used retail units +38% Y/Y
B34: S15 | C34: 46232 | D34: Auto Remarketing / Lithia | E34: see J34 | F34: see K34 | J34: https://www.autoremarketing.com/ar/retail/lithia-drives-used-car-gross-profit-per-unit-20-higher-from-q1/ | K34: Lithia used units -2.7%, GPU +5.4% Y/Y

Sheet Inputs
B2: CarMax, Inc.
B3: Inputs
B4: $ millions, except per share
C5: 2Q26A | D5: 3Q26A | E5: 4Q26A | F5: FY26A | G5: 1Q27A | H5: 2Q27E
C6: 45900 | D6: 45991 | E6: 46081 | F6: 46081 | G6: 46173 | H6: 46265
C7: 92 | D7: 91 | E7: 90 | F7: 365 | G7: 92 | H7: 92
B10: used rev | C10: 5270.7 | D10: 4548.2 | E10: 4780 | F10: 20702.4 | G10: 6391.3
B11: wh rev | C11: 1149.6 | D11: 1095.1 | E11: 1007.1 | F11: 4504.6 | G11: 1427.6
B12: epp | C12: 115.1 | D12: 96.6 | E12: 105.3 | F12: 448.7 | G12: 133.5 | H12: =H109*H16/1000000 -> 115
B13: finance fees | C13: -0.8 | D13: -3 | E13: -4.1 | F13: -8.7 | G13: -4.5 | H13: =H180*H16/1000000 -> -2
B14: ads rev | C14: 37.9 | D14: 35.1 | E14: 34.9 | F14: 144.5 | G14: 36.7 | H14: =H181*(H16+H17)/1000000 -> 36
B15: other rev | C15: 22.2 | D15: 21.9 | E15: 22.7 | F15: 89.7 | G15: 28.9 | H15: =H182*H16/1000000 -> 23
B16: units used | C16: 199729 | D16: 169557 | E16: 181188 | F16: 780684 | G16: 230293 | H16: 199500
B17: units wh | C17: 138302 | D17: 127603 | E17: 122781 | F17: 538203 | G17: 162064 | H17: 138500
B18: asp used | C18: 25993 | D18: 26383 | E18: 26019 | F18: 26121 | G18: 27288 | H18: 27000
B19: asp wh | C19: 7891 | D19: 8137 | E19: 7776 | F19: 7942 | G19: 8364 | H19: 8000
B20: Used vehicle gross profit, historical ($m) | C20: 442.6 | D20: 378.9 | E20: 383.2 | F20: 1759 | G20: 501.4
B21: Wholesale gross profit, historical ($m) | C21: 137.3 | D21: 114.8 | E21: 115.4 | F21: 524.1 | G21: 169.5
B22: other gp | C22: 137.8 | D22: 96.3 | E22: 106.7 | F22: 523.5 | G22: 183.5 | H22: 145
B23: sga wages | C23: 323.4 | D23: 307.3 | E23: 312.7 | F23: 1292.4 | G23: 329.6 | H23: 315
B24: sga stock | C24: 22.4 | D24: 14.7 | E24: 10.7 | F24: 93.4 | G24: 39.7 | H24: 22
B25: sga occupancy | C25: 74.1 | D25: 68.6 | E25: 93.8 | F25: 305.5 | G25: 66.8 | H25: 72
B26: sga advert | C26: 63.7 | D26: 73.4 | E26: 77.9 | F26: 283 | G26: 75.9 | H26: 72
B27: sga other | C27: 117.5 | D27: 117.4 | E27: 116.2 | F27: 479.1 | G27: 123.2 | H27: 116
B28: caf interest | C28: 489.8 | D28: 448 | E28: 441 | F28: 1864.2 | G28: 460.9 | H28: 457
B29: caf funding | C29: -199.2 | D29: -188.3 | E29: -184.2 | F29: -769.2 | G29: -184.2 | H29: -190
B30: caf provision | C30: -142.2 | D30: -73.4 | E30: -73.9 | F30: -391.2 | G30: -95.6 | H30: -120
B31: caf servicing | C31: 0 | D31: 5 | E31: 4.7 | F31: 9.7 | G31: 4.2 | H31: 5
B32: caf direct | C32: -45.8 | D32: -43.6 | E32: -44 | F32: -177.9 | G32: -45.1 | H32: -46
B33: caf gain | C33: 0 | D33: 27 | E33: -0.1 | F33: 26.9 | G33: 0 | H33: 0
B34: caf fv | C34: 0 | D34: 0 | E34: 0.2 | F34: 0.2 | G34: 0 | H34: 0
B35: caf avg loans | C35: 17734.5 | D35: 16805.2 | E35: 16403.5 | F35: 17165.8 | G35: 16533.7
B36: caf originations | C36: 2039.6 | D36: 1761.4 | E36: 1858.1 | F36: 7992.7 | G36: 2445.1
B37: caf penetration | C37: 42.6 | D37: 42.6 | E37: 42.8 | F37: 42.4 | G37: 43.3
B38: caf contract | C38: 11.2 | D38: 11 | E38: 11.1 | F38: 11.2 | G38: 11.3
B39: caf allowance | C39: 507.3 | D39: 474.8 | E39: 453 | F39: 453 | G39: 475
B40: comp units | C40: -6.3 | D40: -9 | E40: -1.9 | F40: -2 | G40: -0.8
B41: net income | C41: 95.378 | D41: 62.215 | E41: -120.684 | F41: 247.29 | G41: 185.627
B42: basic shares | C42: 149.291 | D42: 145.548 | E42: 141.923 | F42: 147.258 | G42: 141.847 | H42: 141.85
B43: diluted shares | C43: 149.637 | D43: 145.864 | E43: 141.923 | F43: 147.613 | G43: 142.148 | H43: 142.1
...
