Workbook

Sheet Cover
B2: Vail Resorts, Inc.
B3: Company Model — built by Shortcut
B4: $ millions, except per share
B5: Period | C5: 4Q25A | D5: FY25A | E5: 1Q26A | F5: 2Q26A | G5: 3Q26A | H5: 4Q26E
B6: Period end | C6: 45869 | D6: 45869 | E6: 45961 | F6: 46053 | G6: 46142 | H6: 46234
B7: Days in period | C7: 92 | D7: 365 | E7: 92 | F7: 92 | G7: 89 | H7: 92
B9: Company / ticker / exchange | C9: Vail Resorts, Inc. / NYSE:MTN
B10: Fiscal year end / reporting basis | C10: July 31 / USD per common share
B11: Information cutoff / report date | C11: 2026-09-26 18:44 UTC / 2026-09-28
B12: ESTIMATE / CONSENSUS | C12: Shortcut estimate | D12: CapIQ Sep 24 | E12: Variance | F12: FY26 guide → Q4
B13: Revenue, USD millions | C13: ='Revenue summary'!H22 -> 258.99703 | D13: =Inputs!C46 -> 269.3 | E13: =C13-D13 -> -10.302967 | F13: Not issued | J13: Management did not give FY2026 or Q4 revenue guidance; no midpoint can be calculated.
B14: Normalized net income | C14: ='Income Statement'!H50 -> -200.59378 | D14: =D15*'Share Count'!H16 -> -191.34921 | E14: =C14-D14 -> -9.244567 | F14: =Guidance!H25 -> -192.69 | J14: Net-income consensus is implied from CapIQ normalized EPS × 35.633m forecast shares; CapIQ provides no standalone net-income consensus.
B15: Normalized diluted EPS, USD | C15: ='Income Statement'!H51 -> -5.6294384 | D15: =Inputs!C29 -> -5.37 | E15: =C15-D15 -> -0.25943836 | F15: =Guidance!H27 -> -5.4076278
B16: OVERALL MODEL CHECK | C16: =IF(AND(ABS('Revenue summary'!H25)<Inputs!C127,ABS('Balance Sheet'!H44)<Inputs!C127,ABS('Cash Flow Statement'!H25)<Inputs!C127,ABS(Geo!H15)<Inputs!C127,ABS('Income Statement'!H52)<Inputs!C127,ABS(C13-'Income Statement'!H14)<Inputs!C127,ABS(C14-'Income Statement'!H50)<Inputs!C127,ABS(C15-'Income Statement'!H51)<Inputs!C127),"PASS","FAIL") -> PASS
B17: P(beat consensus EPS) | C17: 0.3
B18: Confidence | C18: low
B21: GAAP diluted EPS, USD | C21: ='Income Statement'!H43 -> -5.6294384 | D21: =Inputs!C38 -> -5.35 | E21: =C21-D21 -> -0.27943836
B22: EPS basis explanation | J22: Issuer reports GAAP USD/common share; CapIQ normalized actuals equal GAAP for the six supplied historical quarters.
J23: Notes
B24: FY26 guidance context | J24: FY26 Total reported EBITDA guide 739–761 million; resort guide 735–755 million.
B25: Weather risk | J25: Australian 2026 winter skiing was unusually poor; June FY guidance assumed normal Australian weather.

Sheet Revenue summary
B2: Vail Resorts, Inc.
B3: Revenue summary
B4: $ millions, except per share
B5: Period | C5: 4Q25A | D5: FY25A | E5: 1Q26A | F5: 2Q26A | G5: 3Q26A | H5: 4Q26E
B6: Period end | C6: 45869 | D6: 45869 | E6: 45961 | F6: 46053 | G6: 46142 | H6: 46234
B7: Days in period | C7: 92 | D7: 365 | E7: 92 | F7: 92 | G7: 89 | H7: 92
B10: Mountain revenue | C10: ='Segment - Mountain'!C35 -> 180.934 | D10: ='Segment - Mountain'!D35 -> 2629.873 | E10: ='Segment - Mountain'!E35 -> 185.239 | F10: ='Segment - Mountain'!F35 -> 1012.304 | G10: ='Segment - Mountain'!G35 -> 1129.778 | H10: ='Segment - Mountain'!H35 -> 169.33324
B11: Y/Y growth | H11: =H10/C10-1 -> -0.064116004
B12: Q/Q growth | H12: =H10/G10-1 -> -0.85011813
B13: % of total revenue | C13: =IFERROR(C10/C22,0) -> 0.6669419 | D13: =IFERROR(D10/D22,0) -> 0.88716773 | E13: =IFERROR(E10/E22,0) -> 0.68346561 | F13: =IFERROR(F10/F22,0) -> 0.93391836 | G13: =IFERROR(G10/G22,0) -> 0.93743896 | H13: =IFERROR(H10/H22,0) -> 0.65380376
B14: Lodging revenue | C14: ='Segment - Lodging'!C50 -> 90.269 | D14: ='Segment - Lodging'!D50 -> 334.039 | E14: ='Segment - Lodging'!E50 -> 85.71 | F14: ='Segment - Lodging'!F50 -> 71.586 | G14: ='Segment - Lodging'!G50 -> 75.315 | H14: ='Segment - Lodging'!H50 -> 89.577798
B15: Y/Y growth | H15: =H14/C14-1 -> -0.0076571359
B16: Q/Q growth | H16: =H14/G14-1 -> 0.18937526
B17: % of total revenue | C17: =IFERROR(C14/C22,0) -> 0.3327411 | D17: =IFERROR(D14/D22,0) -> 0.11268553 | E17: =IFERROR(E14/E22,0) -> 0.31623922 | F17: =IFERROR(F14/F22,0) -> 0.066042888 | G17: =IFERROR(G14/G22,0) -> 0.062492999 | H17: =IFERROR(H14/H22,0) -> 0.34586419
B18: Real Estate revenue | C18: ='Segment - Real Estate'!C15 -> 0.086 | D18: ='Segment - Real Estate'!D15 -> 0.435 | E18: ='Segment - Real Estate'!E15 -> 0.08 | F18: ='Segment - Real Estate'!F15 -> 0.042 | G18: ='Segment - Real Estate'!G15 -> 0.082 | H18: ='Segment - Real Estate'!H15 -> 0.086
B19: Y/Y growth | H19: =H18/C18-1 -> 0
B20: Q/Q growth | H20: =H18/G18-1 -> 0.048780488
B21: % of total revenue | C21: =IFERROR(C18/C22,0) -> 0.00031700511 | D21: =IFERROR(D18/D22,0) -> 0.00014674395 | E21: =IFERROR(E18/E22,0) -> 0.00029517137 | F21: =IFERROR(F18/F22,0) -> 3.8747818e-05 | G21: =IFERROR(G18/G22,0) -> 6.8039911e-05 | H21: =IFERROR(H18/H22,0) -> 0.00033205014
B22: Total net revenue | C22: =SUM(C10,C14,C18) -> 271.289 | D22: =SUM(D10,D14,D18) -> 2964.347 | E22: =SUM(E10,E14,E18) -> 271.029 | F22: =SUM(F10,F14,F18) -> 1083.932 | G22: =SUM(G10,G14,G18) -> 1205.175 | H22: =SUM(H10,H14,H18) -> 258.99703
B23: Y/Y growth | H23: =H22/C22-1 -> -0.045309493
B24: Q/Q growth | H24: =H22/G22-1 -> -0.78509591
B25: Segment reconciliation | C25: =C22-SUM(C10,C14,C18) -> 0 | D25: =D22-SUM(D10,D14,D18) -> 0 | E25: =E22-SUM(E10,E14,E18) -> 0 | F25: =F22-SUM(F10,F14,F18) -> 0 | G25: =G22-SUM(G10,G14,G18) -> 0 | H25: =H22-SUM(H10,H14,H18) -> 0
B27: Compared with CapIQ historical actual | C27: =C22-Inputs!H11 -> -0.001 | E27: =E22-Inputs!H12 -> -0.001 | F27: =F22-Inputs!H13 -> 0.002 | G27: =G22-Inputs!H14 -> -0.005
B29: Australia winter visit indicator
B30: Perisher seasonal visits (000; through Sep) | H30: ='Segment - Mountain'!H87 -> 610
B31: Perisher decade-average visits (000) | H31: ='Segment - Mountain'!H90 -> 1000
B32: FY26 vs decade average | H32: =H30/H31-1 -> -0.39
B34: International operations meaningful: Geo tab

Sheet Segment - Mountain
B2: Vail Resorts, Inc.
B3: Segment - Mountain
B4: $ millions, except per share
B5: Period | C5: 4Q25A | D5: FY25A | E5: 1Q26A | F5: 2Q26A | G5: 3Q26A | H5: 4Q26E
B6: Period end | C6: 45869 | D6: 45869 | E6: 45961 | F6: 46053 | G6: 46142 | H6: 46234
B7: Days in period | C7: 92 | D7: 365 | E7: 92 | F7: 92 | G7: 89 | H7: 92
B10: Lift | C10: =D10-Inputs!C103 -> 47.587 | D10: 1503.187 | E10: 49.643 | F10: 625.927 | G10: 729.378 | H10: =C10*(H93/C93)*(H96/C96) -> 42.590365
B11: Organic growth | H11: =(1+H14)/((1+H12)*(1+H13))-1 -> -0.105
B12: M&A / scope | H12: 0
B13: FX impact | H13: 0
B14: Total Y/Y | H14: =H10/C10-1 -> -0.105
B15: Ski School | C15: =D15-Inputs!C104 -> 9.772 | D15: 309.863 | E15: 7.886 | F15: 120.625 | G15: 141.758 | H15: =C15*(H93/C93)*(H100/C100) -> 8.01304
B16: Organic growth | H16: =(1+H19)/((1+H17)*(1+H18))-1 -> -0.18
B17: M&A / scope | H17: 0
B18: FX impact | H18: 0
B19: Total Y/Y | H19: =H15/C15-1 -> -0.18
B20: Mountain Dining | C20: =D20-Inputs!C105 -> 18.393 | D20: 240.9 | E20: 19.787 | F20: 84.625 | G20: 99.142 | H20: =C20*(H93/C93)*(H104/C104) -> 15.909945
B21: Organic growth | H21: =(1+H24)/((1+H22)*(1+H23))-1 -> -0.135
B22: M&A / scope | H22: 0
B23: FX impact | H23: 0
B24: Total Y/Y | H24: =H20/C20-1 -> -0.135
B25: Retail/Rental | C25: =D25-Inputs!C106 -> 24.087 | D25: 302.45 | E25: 30.791 | F25: 126.012 | G25: 104.211 | H25: =C25*(H93/C93)*(H108/C108) -> 21.076125
B26: Organic growth | H26: =(1+H29)/((1+H27)*(1+H28))-1 -> -0.125
B27: M&A / scope | H27: 0
B28: FX impact | H28: 0
B29: Total Y/Y | H29: =H25/C25-1 -> -0.125
B30: Mountain Other | C30: =D30-Inputs!C107 -> 81.095 | D30: 273.473 | E30: 77.132 | F30: 55.115 | G30: 55.289 | H30: =C30*(H112/C112) -> 81.74376
B31: Organic growth | H31: =(1+H34)/((1+H32)*(1+H33))-1 -> 0.008
B32: M&A / scope | H32: 0
B33: FX impact | H33: 0
B34: Total Y/Y | H34: =H30/C30-1 -> 0.008
B35: Mountain net revenue | C35: =SUM(C10,C15,C20,C25,C30) -> 180.934 | D35: =SUM(D10,D15,D20,D25,D30) -> 2629.873 | E35: =SUM(E10,E15,E20,E25,E30) -> 185.239 | F35: =SUM(F10,F15,F20,F25,F30) -> 1012.304 | G35: =SUM(G10,G15,G20,G25,G30) -> 1129.778 | H35: =SUM(H10,H15,H20,H25,H30) -> 169.33324
B36: Y/Y growth | H36: =IFERROR(H35/C35-1,0) -> -0.064116004
B37: Q/Q growth | H37: =IFERROR(H35/G35-1,0) -> -0.85011813
B38: Reported EBITDA margin | C38: =IFERROR(C47/C35,0) -> -0.70550588 | D38: =IFERROR(D47/D35,0) -> 0.31231204 | E38: =IFERROR(E47/E35,0) -> -0.76975151 | F38: =IFERROR(F47/F35,0) -> 0.41703974 | G38: =IFERROR(G47/G35,0) -> 0.51303088 | H38: =IFERROR(H47/H35,0) -> -0.76989237
B40: Labor / benefits | C40: =D40-Inputs!C90 -> 121.592 | D40: 760.955 | E40: 122.079 | F40: 253.685 | G40: 238.346 | H40: =C40*(1+H115) -> 118.5522
B41: Retail cost of sales | C41: =D41-Inputs!C91 -> 11.168 | D41: 97.289 | E41: 14.932 | F41: 34.175 | G41: 29.744 | H41: =C41*(1+H116) -> 10.0512
B42: Resort related fees | C42: =D42-Inputs!C92 -> 4.5 | D42: 111.83 | F42: 46.793 | G42: 55.604 | H42: =C42*(1+H117) -> 4.365
B43: General and administrative | C43: =D43-Inputs!C93 -> 91.816 | D43: 373.404 | E43: 96.491 | F43: 106.452 | G43: 89.335 | H43: =C43*(1+H118) -> 87.2252
B44: Other operating expense | C44: =D44-Inputs!C94 -> 79.865 | D44: 468.973 | E44: 95.418 | F44: 147.866 | G44: 137.596 | H44: =C44*(1+H119) -> 79.865
...

Sheet Segment - Lodging
B2: Vail Resorts, Inc.
B3: Segment - Lodging
B4: $ millions, except per share
B5: Period | C5: 4Q25A | D5: FY25A | E5: 1Q26A | F5: 2Q26A | G5: 3Q26A | H5: 4Q26E
B6: Period end | C6: 45869 | D6: 45869 | E6: 45961 | F6: 46053 | G6: 46142 | H6: 46234
B7: Days in period | C7: 92 | D7: 365 | E7: 92 | F7: 92 | G7: 89 | H7: 92
B10: Owned hotel rooms | C10: =D10-Inputs!C108 -> 31.566 | D10: 88.184 | E10: 28.447 | F10: 12.741 | G10: 12.861 | H10: =C10*(H66/C66)*(H69/C69) -> 31.944792
B11: Organic growth | H11: =(1+H14)/((1+H12)*(1+H13))-1 -> 0.012
B12: M&A / scope | H12: 0
B13: FX impact | H13: 0
B14: Total Y/Y | H14: =H10/C10-1 -> 0.012
B15: Managed condominium rooms | C15: =D15-Inputs!C109 -> 10.112 | D15: 81.525 | E15: 9.69 | F15: 26.089 | G15: 28.345 | H15: =C15*(H73/C73)*(H122/C122) -> 9.55584
B16: Organic growth | H16: =(1+H19)/((1+H17)*(1+H18))-1 -> -0.055
B17: M&A / scope | H17: 0
B18: FX impact | H18: 0
B19: Total Y/Y | H19: =H15/C15-1 -> -0.055
B20: Lodging Dining | C20: =D20-Inputs!C110 -> 17.798 | D20: 66.374 | E20: 19.382 | F20: 13.379 | G20: 13.816 | H20: =C20*(H76/C76)*(H125/C125) -> 17.477636
B21: Organic growth | H21: =(1+H24)/((1+H22)*(1+H23))-1 -> -0.018
B22: M&A / scope | H22: 0
B23: FX impact | H23: 0
B24: Total Y/Y | H24: =H20/C20-1 -> -0.018
B25: Transportation | C25: =D25-Inputs!C111 -> 1.069 | D25: 14.853 | F25: 4.804 | G25: 5.2 | H25: =C25*(H128/C128) -> 1.02624
B26: Organic growth | H26: =(1+H29)/((1+H27)*(1+H28))-1 -> -0.04
B27: M&A / scope | H27: 0
B28: FX impact | H28: 0
B29: Total Y/Y | H29: =H25/C25-1 -> -0.04
B30: Golf | C30: =D30-Inputs!C112 -> 7.877 | D30: 16.008 | E30: 7.772 | F30: 0 | G30: 0 | H30: =C30*(H131/C131) -> 7.680075
B31: Organic growth | H31: =(1+H34)/((1+H32)*(1+H33))-1 -> -0.025
B32: M&A / scope | H32: 0
B33: FX impact | H33: 0
B34: Total Y/Y | H34: =H30/C30-1 -> -0.025
B35: Lodging Other | C35: =D35-Inputs!C113 -> 18.696 | D35: 52.805 | E35: 16.583 | F35: 10.202 | G35: 9.981 | H35: =C35*(H134/C134) -> 18.78948
B36: Organic growth | H36: =(1+H39)/((1+H37)*(1+H38))-1 -> 0.005
B37: M&A / scope | H37: 0
B38: FX impact | H38: 0
B39: Total Y/Y | H39: =H35/C35-1 -> 0.005
B40: Payroll cost reimbursements | C40: =D40-Inputs!C114 -> 3.151 | D40: 14.29 | E40: 3.836 | F40: 4.371 | G40: 5.112 | H40: =C40*(H137/C137) -> 3.103735
B41: Organic growth | H41: =(1+H44)/((1+H42)*(1+H43))-1 -> -0.015
B42: M&A / scope | H42: 0
B43: FX impact | H43: 0
...

Sheet Segment - Real Estate
B2: Vail Resorts, Inc.
B3: Segment - Real Estate
B4: $ millions, except per share
B5: Period | C5: 4Q25A | D5: FY25A | E5: 1Q26A | F5: 2Q26A | G5: 3Q26A | H5: 4Q26E
B6: Period end | C6: 45869 | D6: 45869 | E6: 45961 | F6: 46053 | G6: 46142 | H6: 46234
B7: Days in period | C7: 92 | D7: 365 | E7: 92 | F7: 92 | G7: 89 | H7: 92
B10: Real estate property-sale revenue | C10: =D10-Inputs!C115 -> 0.086 | D10: 0.435 | E10: 0.08 | F10: 0.042 | G10: 0.082 | H10: =C10*(H30/C30)*(H33/C33) -> 0.086
B11: Organic Y/Y | H11: =(1+H14)/((1+H12)*(1+H13))-1 -> 0
B12: M&A / scope Y/Y | H12: 0
B13: FX impact Y/Y | H13: 0
B14: Total Y/Y | H14: =H10/C10-1 -> 0
B15: Real estate net revenue | C15: =C10 -> 0.086 | D15: =D10 -> 0.435 | E15: =E10 -> 0.08 | F15: =F10 -> 0.042 | G15: =G10 -> 0.082 | H15: =H10 -> 0.086
B16: Y/Y growth | H16: =IFERROR(H15/C15-1,0) -> 0
B17: Q/Q growth | H17: =IFERROR(H15/G15-1,0) -> 0.048780488
B20: Other segment expense | C20: =D20-Inputs!C99 -> 1.302 | D20: 6.213 | E20: 1.624 | F20: 1.669 | G20: 1.475 | H20: =C20*(1+H37) -> 1.302
B21: Total real estate operating costs | C21: =C20 -> 1.302 | D21: =D20 -> 6.213 | E21: =E20 -> 1.624 | F21: =F20 -> 1.669 | G21: =G20 -> 1.475 | H21: =H20 -> 1.302
B22: Gain on real property sales | C22: 0 | D22: 24.404 | E22: 13.02 | F22: -1.962 | G22: 0.4 | H22: =C22 -> 0
B23: Real estate reported EBITDA | C23: =C15-C21+C22 -> -1.216 | D23: =D15-D21+D22 -> 18.626 | E23: =E15-E21+E22 -> 11.476 | F23: =F15-F21+F22 -> -3.589 | G23: =G15-G21+G22 -> -0.993 | H23: =H15-H21+H22 -> -1.216
B24: EBITDA margin | C24: =IFERROR(C23/C15,0) -> -14.139535 | D24: =IFERROR(D23/D15,0) -> 42.818391 | E24: =IFERROR(E23/E15,0) -> 143.45 | F24: =IFERROR(F23/F15,0) -> -85.452381 | G24: =IFERROR(G23/G15,0) -> -12.109756 | H24: =IFERROR(H23/H15,0) -> -14.139535
B25: Change in EBITDA margin (bps) | H25: =(H24-C24)*10000 -> 0
B27: Held-for-sale / investment real estate | C27: 87.853 | D27: 87.853 | E27: 85.222 | F27: 76.317 | G27: 76.439 | H27: =G27+H38 -> 76.439
B28: Y/Y asset balance change | H28: =H27-C27 -> -11.414
B29: Sequential asset balance change | H29: =H27-G27 -> 0
B30: Property sale transaction / volume index | C30: 100 | H30: 100
B31: Y/Y volume change | H31: =H30/C30-1 -> 0
B32: Sequential volume change | H32: =IF(COUNT(G30)=0,"n.a.",H30-G30) -> n.a.
B33: Price / realised property-sale index | C33: 100 | H33: 100
B34: Y/Y price change | H34: =H33/C33-1 -> 0
B35: Sequential price change | H35: =IF(COUNT(G33)=0,"n.a.",H33-G33) -> n.a.
B37: Forecast operating cost change Y/Y | H37: 0
B38: Forecast change held-for-sale asset | H38: 0
J61: Quarterly indexed pass/booking volumes are not disclosed before the July forecast; sequential change is n.a., not a change from the year-ago July quarter.

Sheet Income Statement
B2: Vail Resorts, Inc.
B3: Income Statement
B4: $ millions, except per share
B5: Period | C5: 4Q25A | D5: FY25A | E5: 1Q26A | F5: 2Q26A | G5: 3Q26A | H5: 4Q26E
B6: Period end | C6: 45869 | D6: 45869 | E6: 45961 | F6: 46053 | G6: 46142 | H6: 46234
B7: Days in period | C7: 92 | D7: 365 | E7: 92 | F7: 92 | G7: 89 | H7: 92
B10: Mountain & Lodging services / other | C10: 205.738 | D10: 2464.91 | E10: 198.052 | F10: 918.554 | G10: 1043.884 | H10: ='Revenue summary'!H22-H11-H13 -> 196.52289
B11: Mountain & Lodging retail / dining | C11: 65.465 | D11: 499.002 | E11: 72.897 | F11: 165.336 | G11: 161.209 | H11: =C11*(1+H57) -> 62.388145
B12: Resort net revenue | C12: =SUM(C10:C11) -> 271.203 | D12: =SUM(D10:D11) -> 2963.912 | E12: =SUM(E10:E11) -> 270.949 | F12: =SUM(F10:F11) -> 1083.89 | G12: =SUM(G10:G11) -> 1205.093 | H12: =SUM(H10:H11) -> 258.91103
B13: Real Estate net revenue | C13: ='Revenue summary'!C18 -> 0.086 | D13: ='Revenue summary'!D18 -> 0.435 | E13: ='Revenue summary'!E18 -> 0.08 | F13: ='Revenue summary'!F18 -> 0.042 | G13: ='Revenue summary'!G18 -> 0.082 | H13: ='Revenue summary'!H18 -> 0.086
B14: Total net revenue | C14: =SUM(C12:C13) -> 271.289 | D14: =SUM(D12:D13) -> 2964.347 | E14: =SUM(E12:E13) -> 271.029 | F14: =SUM(F12:F13) -> 1083.932 | G14: =SUM(G12:G13) -> 1205.175 | H14: =SUM(H12:H13) -> 258.99703
B15: Total revenue Y/Y | H15: =H14/C14-1 -> -0.045309493
B16: Total revenue Q/Q | H16: =H14/G14-1 -> -0.78509591
B18: Mountain & Lodging operating expense | C18: 262.983 | D18: 1507.993 | E18: 273.069 | F18: 481.277 | G18: 459.875 | H18: ='Segment - Mountain'!H45+'Segment - Lodging'!H59-H19-H20 -> 258.69592
B19: Retail and dining cost of products | C19: 25.824 | D19: 181.988 | E19: 28.234 | F19: 58.536 | G19: 56.701 | H19: =C19*(1+H58) -> 22.85424
B20: General and administrative expense | C20: 106.306 | D20: 433.714 | E20: 110.424 | F20: 121.618 | G20: 102.559 | H20: =C20*(1+H65) -> 103.64835
B21: Resort operating expenses | C21: =SUM(C18:C20) -> 395.113 | D21: =SUM(D18:D20) -> 2123.695 | E21: =SUM(E18:E20) -> 411.727 | F21: =SUM(F18:F20) -> 661.431 | G21: =SUM(G18:G20) -> 619.135 | H21: =SUM(H18:H20) -> 385.19851
B22: Real Estate operating expenses | C22: 1.302 | D22: 6.213 | E22: 1.624 | F22: 1.669 | G22: 1.475 | H22: ='Segment - Real Estate'!H21 -> 1.302
B23: Total segment operating expenses | C23: =SUM(C21:C22) -> 396.415 | D23: =SUM(D21:D22) -> 2129.908 | E23: =SUM(E21:E22) -> 413.351 | F23: =SUM(F21:F22) -> 663.1 | G23: =SUM(G21:G22) -> 620.61 | H23: =SUM(H21:H22) -> 386.50051
B24: Reported total EBITDA | C24: =C14-C23+C26+C30 -> -124.769 | D24: =D14-D23+D26+D30 -> 862.762 | E24: =E14-E23+E26+E30 -> -128.209 | F24: =F14-F23+F26+F30 -> 417.708 | G24: =G14-G23+G26+G30 -> 585.423 | H24: =H14-H23+H26+H30 -> -127.14648
B25: Depreciation and amortization | C25: -77.079 | D25: -296.437 | E25: -73.117 | F25: -74.35 | G25: -77.219 | H25: =C25*(1+H59) -> -77.84979
B26: Gain / (loss) on real property | C26: 0 | D26: 24.404 | E26: 13.02 | F26: -1.962 | G26: 0.4 | H26: ='Segment - Real Estate'!H22 -> 0
B27: Contingent consideration FV change | C27: -5.3 | D27: -9.379 | E27: -4.639 | F27: 3.7 | G27: -13.5 | H27: =H62 -> -4
B28: Fixed asset disposals, net | C28: 3.902 | D28: 6.933 | E28: -2.763 | F28: -3.172 | G28: -0.118 | H28: =H63 -> -1
B29: Operating income / (loss) | C29: =C14-C23+SUM(C25:C28) -> -203.603 | D29: =D14-D23+SUM(D25:D28) -> 559.96 | E29: =E14-E23+SUM(E25:E28) -> -209.821 | F29: =F14-F23+SUM(F25:F28) -> 345.048 | G29: =G14-G23+SUM(G25:G28) -> 494.128 | H29: =H14-H23+SUM(H25:H28) -> -210.35327
B30: Mountain equity investment income | C30: ='Segment - Mountain'!C46 -> 0.357 | D30: ='Segment - Mountain'!D46 -> 3.919 | E30: ='Segment - Mountain'!E46 -> 1.093 | F30: ='Segment - Mountain'!F46 -> -1.162 | G30: ='Segment - Mountain'!G46 -> 0.458 | H30: ='Segment - Mountain'!H46 -> 0.357
B31: Investment and other income | C31: 1.458 | D31: 10.126 | E31: 3.023 | F31: 3.525 | G31: 2.62 | H31: =C31*(1+H61) -> 1.458
B32: FX gain / (loss) on interco loans | C32: -0.033 | D32: 0.02 | E32: -0.079 | F32: 0.197 | G32: -0.034 | H32: =C32 -> -0.033
B33: Interest expense, net | C33: -45.789 | D33: -171.628 | E33: -51.287 | F33: -49.476 | G33: -51.318 | H33: =C33*(1+H60) -> -53.11524
B34: Pre-tax income / (loss) | C34: =SUM(C29:C33) -> -247.61 | D34: =SUM(D29:D33) -> 402.397 | E34: =SUM(E29:E33) -> -257.071 | F34: =SUM(F29:F33) -> 298.132 | G34: =SUM(G29:G33) -> 445.854 | H34: =SUM(H29:H33) -> -261.68651
B35: Income tax benefit / (expense) | C35: 54.703 | D35: -104.421 | E35: 60.615 | F35: -72.287 | G35: -105.631 | H35: =-H34*H56 -> 53.645735
B36: Consolidated net income / (loss) | C36: =SUM(C34:C35) -> -192.907 | D36: =SUM(D34:D35) -> 297.976 | E36: =SUM(E34:E35) -> -196.456 | F36: =SUM(F34:F35) -> 225.845 | G36: =SUM(G34:G35) -> 340.223 | H36: =SUM(H34:H35) -> -208.04078
B37: (Income) loss attributed to NCI | C37: 7.447 | D37: -17.972 | E37: 9.704 | F37: -15.838 | G37: -25.788 | H37: =C37*(1+H64) -> 7.447
B38: GAAP net income attributed to Vail | C38: =SUM(C36:C37) -> -185.46 | D38: =SUM(D36:D37) -> 280.004 | E38: =SUM(E36:E37) -> -186.752 | F38: =SUM(F36:F37) -> 210.007 | G38: =SUM(G36:G37) -> 314.435 | H38: =SUM(H36:H37) -> -200.59378
B39: Net income / net revenue | C39: =IFERROR(C38/C14,0) -> -0.68362521 | D39: =IFERROR(D38/D14,0) -> 0.094457228 | E39: =IFERROR(E38/E14,0) -> -0.68904804 | F39: =IFERROR(F38/F14,0) -> 0.19374555 | G39: =IFERROR(G38/G14,0) -> 0.26090402 | H39: =IFERROR(H38/H14,0) -> -0.77450222
B40: Weighted basic shares (millions) | C40: ='Share Count'!C10 -> 36.524 | D40: ='Share Count'!D10 -> 37.155 | E40: ='Share Count'!E10 -> 35.91 | F40: ='Share Count'!F10 -> 35.753 | G40: ='Share Count'!G10 -> 35.633 | H40: ='Share Count'!H10 -> 35.633
B41: Weighted diluted shares (millions) | C41: ='Share Count'!C16 -> 36.524 | D41: ='Share Count'!D16 -> 37.204 | E41: ='Share Count'!E16 -> 35.91 | F41: ='Share Count'!F16 -> 35.783 | G41: ='Share Count'!G16 -> 35.686 | H41: ='Share Count'!H16 -> 35.633
B42: GAAP basic EPS, USD | C42: =C38/C40 -> -5.0777571 | D42: =D38/D40 -> 7.5361055 | E42: =E38/E40 -> -5.2005569 | F42: =F38/F40 -> 5.8738288 | G42: =G38/G40 -> 8.824264 | H42: =H38/H40 -> -5.6294384
B43: GAAP diluted EPS, USD | C43: =C38/C41 -> -5.0777571 | D43: =D38/D41 -> 7.52618 | E43: =E38/E41 -> -5.2005569 | F43: =F38/F41 -> 5.8689042 | G43: =G38/G41 -> 8.8111584 | H43: =H38/H41 -> -5.6294384
B44: GAAP → normalized adjustments
...

Sheet Balance Sheet
B2: Vail Resorts, Inc.
B3: Balance Sheet
B4: $ millions, except per share
B5: Period | C5: 4Q25A | D5: FY25A | E5: 1Q26A | F5: 2Q26A | G5: 3Q26A | H5: 4Q26E
B6: Period end | C6: 45869 | D6: 45869 | E6: 45961 | F6: 46053 | G6: 46142 | H6: 46234
B7: Days in period | C7: 92 | D7: 365 | E7: 92 | F7: 92 | G7: 89 | H7: 92
B10: Cash and cash equivalents | C10: =D10 -> 440.29 | D10: 440.29 | E10: 581.465 | F10: 384.737 | G10: 371.374 | H10: ='Cash Flow Statement'!H23-H11 -> 262.41487
B11: Restricted cash | C11: =D11 -> 16.129 | D11: 16.129 | E11: 19.12 | F11: 21.1 | G11: 15.946 | H11: =G11 -> 15.946
B12: Trade accounts receivable | C12: =D12 -> 382.37 | D12: 382.37 | E12: 97.53 | F12: 160.049 | G12: 356.917 | H12: =C12*(1+H50) -> 378.5463
B13: Inventories | C13: =D13 -> 117.178 | D13: 117.178 | E13: 154.378 | F13: 141.381 | G13: 129.069 | H13: =C13*(1+H51) -> 121.86512
B14: Other current assets | C14: =D14 -> 93.823 | D14: 93.823 | E14: 195.115 | F14: 115.455 | G14: 78.916 | H14: =C14*(1+H52) -> 93.823
B15: Total current assets | C15: =SUM(C10:C14) -> 1049.79 | D15: =SUM(D10:D14) -> 1049.79 | E15: =SUM(E10:E14) -> 1047.608 | F15: =SUM(F10:F14) -> 822.722 | G15: =SUM(G10:G14) -> 952.222 | H15: =SUM(H10:H14) -> 872.59529
B17: Property, plant & equipment | C17: =D17 -> 2374.654 | D17: 2374.654 | E17: 2380.418 | F17: 2413.722 | G17: 2371.161 | H17: =C17*(1+H53) -> 2339.0342
B18: Real estate held for sale / invest | C18: =D18 -> 87.853 | D18: 87.853 | E18: 85.222 | F18: 76.317 | G18: 76.439 | H18: ='Segment - Real Estate'!H27 -> 76.439
B19: Goodwill | C19: =D19 -> 1675.215 | D19: 1675.215 | E19: 1664.522 | F19: 1698.098 | G19: 1703.085 | H19: =C19*(1+H54) -> 1675.215
B20: Identifiable intangibles | C20: =D20 -> 298.497 | D20: 298.497 | E20: 296.035 | F20: 300.084 | G20: 299.505 | H20: =G20 -> 299.505
B21: Operating ROU lease assets | C21: =D21 -> 242.485 | D21: 242.485 | E21: 236.527 | F21: 237.117 | G21: 231.501 | H21: =G21 -> 231.501
B22: Other assets | C22: =D22 -> 49.391 | D22: 49.391 | E22: 53.43 | F22: 51.942 | G22: 52.037 | H22: =G22 -> 52.037
B23: TOTAL ASSETS | C23: =SUM(C15,C17:C22) -> 5777.885 | D23: =SUM(D15,D17:D22) -> 5777.885 | E23: =SUM(E15,E17:E22) -> 5763.762 | F23: =SUM(F15,F17:F22) -> 5600.002 | G23: =SUM(G15,G17:G22) -> 5685.95 | H23: =SUM(H15,H17:H22) -> 5546.3265
B25: Accounts payable & accrued | C25: =D25 -> 1056.665 | D25: 1056.665 | E25: 1346.298 | F25: 1236.488 | G25: 894.951 | H25: =G25*(1+H58) -> 859.15296
B26: Income taxes payable | C26: =D26 -> 11.452 | D26: 11.452 | E26: 0.923 | F26: 13.875 | G26: 76.241 | H26: =C26 -> 11.452
B27: Current portion of debt | C27: =D27 -> 599.509 | D27: 599.509 | E27: 589.744 | F27: 73.005 | G27: 73.512 | H27: =G27 -> 73.512
B28: Total current liabilities | C28: =SUM(C25:C27) -> 1667.626 | D28: =SUM(D25:D27) -> 1667.626 | E28: =SUM(E25:E27) -> 1936.965 | F28: =SUM(F25:F27) -> 1323.368 | G28: =SUM(G25:G27) -> 1044.704 | H28: =H25+H26+H27 -> 944.11696
B30: Long-term debt | C30: =D30 -> 2594.765 | D30: 2594.765 | E30: 2583.298 | F30: 2857.753 | G30: 2949.629 | H30: =G30+'Cash Flow Statement'!H17 -> 3159.629
B31: Operating lease liabilities | C31: =D31 -> 215.085 | D31: 215.085 | E31: 211.193 | F31: 211.9 | G31: 198.406 | H31: =G31 -> 198.406
B32: Other long-term liabilities | C32: =D32 -> 294.464 | D32: 294.464 | E32: 300.002 | F32: 297.938 | G32: 312.469 | H32: =G32*(1+H59) -> 331.21714
B33: Deferred taxes, net | C33: =D33 -> 252.041 | D33: 252.041 | E33: 264.256 | F33: 264.257 | G33: 264.648 | H33: =G33*(1+H56) -> 276.55716
B34: TOTAL LIABILITIES | C34: =SUM(C28,C30:C33) -> 5023.981 | D34: =SUM(D28,D30:D33) -> 5023.981 | E34: =SUM(E28,E30:E33) -> 5295.714 | F34: =SUM(F28,F30:F33) -> 4955.216 | G34: =SUM(G28,G30:G33) -> 4769.856 | H34: =H28+H30+H31+H32+H33 -> 4909.9263
B36: Common shares at par | C36: =D36 -> 0.469 | D36: 0.469 | E36: 0.47 | F36: 0.47 | G36: 0.47 | H36: =G36 -> 0.47
B37: Additional paid-in capital | C37: =D37 -> 1171.536 | D37: 1171.536 | E37: 1173.902 | F37: 1180.671 | G37: 1188.112 | H37: =G37 -> 1188.112
B38: Accumulated OCI / translation | C38: =D38 -> -57.889 | D38: -57.889 | E38: -61.727 | F38: -8.457 | G38: -1.317 | H38: =G38 -> -1.317
B39: Retained earnings | C39: =D39 -> 718.662 | D39: 718.662 | E39: 452.097 | F39: 583.001 | G39: 818.331 | H39: =G39+'Income Statement'!H38-H57 -> 538.63722
B40: Treasury stock at cost | C40: =D40 -> -1408.279 | D40: -1408.279 | E40: -1408.279 | F40: -1453.869 | G40: -1453.869 | H40: =G40 -> -1453.869
B41: Equity attributable to common | C41: =SUM(C36:C40) -> 424.499 | D41: =SUM(D36:D40) -> 424.499 | E41: =SUM(E36:E40) -> 156.463 | F41: =SUM(F36:F40) -> 301.816 | G41: =SUM(G36:G40) -> 551.727 | H41: =SUM(H36:H40) -> 272.03322
B42: Noncontrolling interests | C42: =D42 -> 329.405 | D42: 329.405 | E42: 311.585 | F42: 342.97 | G42: 364.367 | H42: =G42 -> 364.367
B43: TOTAL EQUITY | C43: =SUM(C41:C42) -> 753.904 | D43: =SUM(D41:D42) -> 753.904 | E43: =SUM(E41:E42) -> 468.048 | F43: =SUM(F41:F42) -> 644.786 | G43: =SUM(G41:G42) -> 916.094 | H43: =SUM(H41:H42) -> 636.40022
B44: CHECK: assets − liabilities − equity | C44: =C23-C34-C43 -> 0 | D44: =D23-D34-D43 -> 0 | E44: =E23-E34-E43 -> 0 | F44: =F23-F34-F43 -> 0 | G44: =G23-G34-G43 -> 0 | H44: =H23-H34-H43 -> 0
B50: Accounts receivable forecast Y/Y | H50: -0.01
B51: Inventory forecast Y/Y | H51: 0.04
B52: Other current assets forecast Y/Y | H52: 0
...

Sheet Cash Flow Statement
B2: Vail Resorts, Inc.
B3: Cash Flow Statement
B4: $ millions, except per share
B5: Period | C5: 4Q25A | D5: FY25A | E5: 1Q26A | F5: 2Q26A | G5: 3Q26A | H5: 4Q26E
B6: Period end | C6: 45869 | D6: 45869 | E6: 45961 | F6: 46053 | G6: 46142 | H6: 46234
B7: Days in period | C7: 92 | D7: 365 | E7: 92 | F7: 92 | G7: 89 | H7: 92
B10: Operating cash flow | C10: =D10-Inputs!C121 -> -169.728 | D10: 554.87 | E10: 315.943 | F10: =Inputs!D121-E10 -> 259.907 | G10: =Inputs!E121-Inputs!D121 -> 6.816 | H10: =H39+H40 -> -181.68049
B11: Capital expenditures | C11: =D11-Inputs!C122 -> -55.941 | D11: -235.191 | E11: -71.673 | F11: =Inputs!D122-E11 -> -74.911 | G11: =Inputs!E122-Inputs!D122 -> -35.056 | H11: =C11*(1+H34) -> -58.17864
B12: Other investing cash flow | C12: =C13-C11 -> 6.926 | D12: =D13-D11 -> 30.694 | E12: =E13-E11 -> 0 | F12: =F13-F11 -> 0.583 | G12: =G13-G11 -> 2.116 | H12: =H35 -> 0
B13: Investing cash flow | C13: =D13-Inputs!C123 -> -49.015 | D13: -204.497 | E13: -71.673 | F13: =Inputs!D123-E13 -> -74.328 | G13: =Inputs!E123-Inputs!D123 -> -32.94 | H13: =SUM(H11:H12) -> -58.17864
B15: Stock repurchases | C15: -200 | D15: -270 | E15: 0 | F15: -45 | G15: 0 | H15: =-'Share Count'!H13 -> 0
B16: Cash dividends | C16: -79.713 | D16: -328.168 | E16: -79.813 | F16: -79.103 | G16: -79.105 | H16: =-'Balance Sheet'!H57 -> -79.1
B17: Debt and other financing | C17: =C18-SUM(C15:C16) -> 472.782 | D17: =D18-SUM(D15:D16) -> 355.521 | E17: =E18-SUM(E15:E16) -> -21.168 | F17: =F18-SUM(F15:F16) -> -268.072 | G17: =G18-SUM(G15:G16) -> 85.009 | H17: =H36 -> 210
B18: Financing cash flow | C18: =D18-Inputs!C124 -> 193.069 | D18: -242.647 | E18: -100.981 | F18: =Inputs!D124-E18 -> -392.175 | G18: =Inputs!E124-Inputs!D124 -> 5.904 | H18: =SUM(H15:H17) -> 130.9
B19: Currency impact on cash | C19: =D19-Inputs!C125 -> 1.281 | D19: 11.63 | E19: 0.877 | F19: =Inputs!D125-E19 -> 11.848 | G19: =Inputs!E125-Inputs!D125 -> 1.703 | H19: =H37 -> 0
B21: NET CHANGE IN CASH | C21: =SUM(C10,C13,C18:C19) -> -24.393 | D21: =SUM(D10,D13,D18:D19) -> 119.356 | E21: =SUM(E10,E13,E18:E19) -> 144.166 | F21: =SUM(F10,F13,F18:F19) -> -194.748 | G21: =SUM(G10,G13,G18:G19) -> -18.517 | H21: =H10+H13+H18+H19 -> -108.95913
B22: Beginning cash incl restricted | C22: 480.812 | D22: 337.063 | E22: ='Balance Sheet'!C10+'Balance Sheet'!C11 -> 456.419 | F22: ='Balance Sheet'!E10+'Balance Sheet'!E11 -> 600.585 | G22: ='Balance Sheet'!F10+'Balance Sheet'!F11 -> 405.837 | H22: ='Balance Sheet'!G10+'Balance Sheet'!G11 -> 387.32
B23: Ending cash incl restricted | C23: =SUM(C22,C21) -> 456.419 | D23: =SUM(D22,D21) -> 456.419 | E23: =SUM(E22,E21) -> 600.585 | F23: =SUM(F22,F21) -> 405.837 | G23: =SUM(G22,G21) -> 387.32 | H23: =H22+H21 -> 278.36087
B24: Balance Sheet cash incl restricted | C24: ='Balance Sheet'!C10+'Balance Sheet'!C11 -> 456.419 | D24: ='Balance Sheet'!D10+'Balance Sheet'!D11 -> 456.419 | E24: ='Balance Sheet'!E10+'Balance Sheet'!E11 -> 600.585 | F24: ='Balance Sheet'!F10+'Balance Sheet'!F11 -> 405.837 | G24: ='Balance Sheet'!G10+'Balance Sheet'!G11 -> 387.32 | H24: ='Balance Sheet'!H10+'Balance Sheet'!H11 -> 278.36087
B25: CHECK: cash flow ties to BS | C25: =C23-C24 -> 0 | D25: =D23-D24 -> 0 | E25: =E23-E24 -> 0 | F25: =F23-F24 -> 0 | G25: =G23-G24 -> 0 | H25: =H23-H24 -> 0
B33: CFO before working-capital recon: Y/Y | H33: 0.06
B34: Forecast capex change vs FY25 Q4 | H34: 0.04
B35: Forecast other investing, $m | H35: 0
B36: Forecast net debt financing, $m | H36: 210
B37: Forecast FX cash, $m | H37: 0
B39: Seasonal CFO before balance changes | H39: =C10*(1+H33) -> -179.91168
B40: Other working-capital / noncash recon | H40: ='Balance Sheet'!H34+'Balance Sheet'!H43-SUM('Balance Sheet'!H12:H14)-SUM('Balance Sheet'!H17:H22)-H22-H13-H18-H19-H39 -> -1.768807 | J40: Explicit indirect cash-flow adjustment implied by independent BS assets, liabilities and equity; not a typed payables or liability plug.

Sheet Geo
B2: Vail Resorts, Inc.
B3: Geo
B4: $ millions, except per share
B5: Period | C5: 4Q25A | D5: FY25A | E5: 1Q26A | F5: 2Q26A | G5: 3Q26A | H5: 4Q26E
B6: Period end | C6: 45869 | D6: 45869 | E6: 45961 | F6: 46053 | G6: 46142 | H6: 46234
B7: Days in period | C7: 92 | D7: 365 | E7: 92 | F7: 92 | G7: 89 | H7: 92
B10: United States revenue | C10: ='Revenue summary'!C22*C17 -> 187.18941 | D10: 2423.245 | E10: ='Revenue summary'!E22*E17 -> 208.69233 | F10: ='Revenue summary'!F22*F17 -> 932.18152 | G10: ='Revenue summary'!G22*G17 -> 1048.5023 | H10: ='Revenue summary'!H22*H17 -> 181.29792 | J10: Quarterly country splits are analyst allocations, NOT reported by Vail. FY25 annual split from 10-K geographic note.
B11: Canada revenue | C11: ='Revenue summary'!C22*C18 -> 28.485345 | D11: =Inputs!C85 -> 335.3 | E11: ='Revenue summary'!E22*E18 -> 33.878625 | F11: ='Revenue summary'!F22*F18 -> 119.23252 | G11: ='Revenue summary'!G22*G18 -> 126.54337 | H11: ='Revenue summary'!H22*H18 -> 27.194688
B12: Other international revenue | C12: ='Revenue summary'!C22-SUM(C10:C11) -> 55.614245 | D12: ='Revenue summary'!D22-SUM(D10:D11) -> 205.802 | E12: ='Revenue summary'!E22-SUM(E10:E11) -> 28.458045 | F12: ='Revenue summary'!F22-SUM(F10:F11) -> 32.51796 | G12: ='Revenue summary'!G22-SUM(G10:G11) -> 30.129375 | H12: ='Revenue summary'!H22*H19 -> 50.504421
B13: International subtotal | C13: =SUM(C11:C12) -> 84.09959 | D13: =SUM(D11:D12) -> 541.102 | E13: =SUM(E11:E12) -> 62.33667 | F13: =SUM(F11:F12) -> 151.75048 | G13: =SUM(G11:G12) -> 156.67275 | H13: =H11+H12 -> 77.69911
B14: Total by geography | C14: =SUM(C10,C13) -> 271.289 | D14: =SUM(D10,D13) -> 2964.347 | E14: =SUM(E10,E13) -> 271.029 | F14: =SUM(F10,F13) -> 1083.932 | G14: =SUM(G10,G13) -> 1205.175 | H14: =H10+H13 -> 258.99703
B15: CHECK: geo less consolidated | C15: =C14-'Revenue summary'!C22 -> 0 | D15: =D14-'Revenue summary'!D22 -> 0 | E15: =E14-'Revenue summary'!E22 -> 0 | F15: =F14-'Revenue summary'!F22 -> 0 | G15: =G14-'Revenue summary'!G22 -> 0 | H15: =H14-'Revenue summary'!H22 -> 0
B17: United States % of revenue | C17: 0.69 | D17: =D10/D14 -> 0.81746334 | E17: 0.77 | F17: 0.86 | G17: 0.87 | H17: 0.7
B18: Canada % of revenue | C18: 0.105 | D18: =D11/D14 -> 0.11311091 | E18: 0.125 | F18: 0.11 | G18: 0.105 | H18: 0.105
B19: Other international % | C19: =IFERROR(C12/C14,0) -> 0.205 | D19: =D12/D14 -> 0.069425745 | E19: =IFERROR(E12/E14,0) -> 0.105 | F19: =IFERROR(F12/F14,0) -> 0.03 | G19: =IFERROR(G12/G14,0) -> 0.025 | H19: 0.195
B22: Geographic disclosure basis | J22: Issuer reports geography annually only (FY2025 10-K). Quarterly geographic values shown as analyst estimates.

Sheet Share Count
B2: Vail Resorts, Inc.
B3: Share Count
B4: $ millions, except per share
B5: Period | C5: 4Q25A | D5: FY25A | E5: 1Q26A | F5: 2Q26A | G5: 3Q26A | H5: 4Q26E
B6: Period end | C6: 45869 | D6: 45869 | E6: 45961 | F6: 46053 | G6: 46142 | H6: 46234
B7: Days in period | C7: 92 | D7: 365 | E7: 92 | F7: 92 | G7: 89 | H7: 92
B10: Weighted basic shares, millions | C10: 36.524 | D10: 37.155 | E10: 35.91 | F10: 35.753 | G10: 35.633 | H10: =G10+H15-H14 -> 35.633
B11: Potential dilutive securities | C11: =C12-C10 -> 0 | D11: =D12-D10 -> 0.049 | E11: =E12-E10 -> 0 | F11: =F12-F10 -> 0.03 | G11: =G12-G10 -> 0.053 | H11: =IF('Income Statement'!H38<0,0,G11) -> 0
B12: Weighted diluted shares, millions | C12: 36.524 | D12: 37.204 | E12: 35.91 | F12: 35.783 | G12: 35.686 | H12: =SUM(H10:H11) -> 35.633
B13: Common stock repurchases, $m | C13: 200 | D13: 270 | E13: 0 | F13: 45 | G13: 0 | H13: 0
B14: Common shares repurchased, millions | C14: 1.29 | D14: 1.69 | E14: 0 | F14: 0.322709 | G14: 0 | H14: 0
B15: Gross shares issued, millions | H15: 0
B16: Forecast EPS denominator, millions | C16: =IF('Income Statement'!C38<0,C10,C12) -> 36.524 | D16: =IF('Income Statement'!D38<0,D10,D12) -> 37.204 | E16: =IF('Income Statement'!E38<0,E10,E12) -> 35.91 | F16: =IF('Income Statement'!F38<0,F10,F12) -> 35.783 | G16: =IF('Income Statement'!G38<0,G10,G12) -> 35.686 | H16: =IF('Income Statement'!H38<0,H10,H12) -> 35.633
B17: Basic share Y/Y change | H17: =H10/C10-1 -> -0.024394918
B18: Basic sequential change | H18: =H10-G10 -> 0
B19: Diluted shares check | C19: =C12-C10-C11 -> 0 | D19: =D12-D10-D11 -> 0 | E19: =E12-E10-E11 -> 0 | F19: =F12-F10-F11 -> 0 | G19: =G12-G10-G11 -> 0 | H19: =H12-H10-H11 -> 0
B21: Outstanding shares at period end (m)

Sheet Guidance
B2: Vail Resorts, Inc.
B3: Guidance
B4: $ millions, except per share
B5: Period | C5: 4Q25A | D5: FY25A | E5: 1Q26A | F5: 2Q26A | G5: 3Q26A | H5: 4Q26E
B6: Period end | C6: 45869 | D6: 45869 | E6: 45961 | F6: 46053 | G6: 46142 | H6: 46234
B7: Days in period | C7: 92 | D7: 365 | E7: 92 | F7: 92 | G7: 89 | H7: 92
B9: Management guidance: USD millions | C9: Published | D9: Period | E9: Metric | F9: Low | G9: High | H9: Midpoint | I9: Actual | J9: Beat / miss
C10: 2026-06-08 | D10: FY2026 | E10: Net income attributed to MTN | F10: 128 | G10: 162 | H10: =AVERAGE(F10:G10) -> 145
C11: 2026-06-08 | D11: FY2026 | E11: Resort reported EBITDA | F11: 735 | G11: 755 | H11: =AVERAGE(F11:G11) -> 745
C12: 2026-06-08 | D12: FY2026 | E12: Total reported EBITDA | F12: 739 | G12: 761 | H12: =AVERAGE(F12:G12) -> 750
C13: 2026-06-08 | D13: FY2026 | E13: Mountain reported EBITDA | F13: 721 | G13: 739 | H13: =AVERAGE(F13:G13) -> 730
C14: 2026-06-08 | D14: FY2026 | E14: Lodging reported EBITDA | F14: 14 | G14: 16 | H14: =AVERAGE(F14:G14) -> 15
C15: 2026-06-08 | D15: FY2026 | E15: Real Estate EBITDA | F15: 4 | G15: 6 | H15: =AVERAGE(F15:G15) -> 5
C16: 2026-06-08 | D16: FY2026 | E16: Provision for income taxes | F16: 55 | G16: 65 | H16: =AVERAGE(F16:G16) -> 60
C17: 2026-06-08 | D17: FY2026 | E17: Depreciation and amortization | F17: 299 | G17: 303 | H17: =AVERAGE(F17:G17) -> 301
C18: 2026-06-08 | D18: FY2026 | E18: Interest expense, net | F18: 203 | G18: 207 | H18: =AVERAGE(F18:G18) -> 205
C19: 2025-09-29 | D19: FY2026 | E19: Initial net income | F19: 201 | G19: 276 | H19: =AVERAGE(F19:G19) -> 238.5
C20: 2025-09-29 | D20: FY2026 | E20: Resort EBITDA | F20: 842 | G20: 898 | H20: =AVERAGE(F20:G20) -> 870
B22: Forecast implied by latest guidance
B23: FY26 nine months net income attributed | H23: =SUM('Income Statement'!E38:G38) -> 337.69
B24: FY26 nine months reported EBITDA | H24: =SUM('Income Statement'!E24:G24) -> 874.922
B25: Guidance midpoint Q4 net income | H25: =H10-H23 -> -192.69
B26: Guidance midpoint Q4 EBITDA | H26: =H12-H24 -> -124.922
B27: Guidance midpoint Q4 EPS, USD | H27: =H25/'Share Count'!H16 -> -5.4076278
B28: FY26 total EBITDA vs midpoint | H28: =H24+'Income Statement'!H24-H12 -> -2.224482
B29: FY26 net income vs midpoint | H29: =H23+'Income Statement'!H38-H10 -> -7.903777
B31: Guidance risk factor | J31: June guidance assumed normal Australian winter; September pre-release reports show sparse snow and visitation.

Sheet Sources
B2: Vail Resorts, Inc.
B3: Sources
B4: $ millions, except per share
B5: Period | C5: 4Q25A | D5: FY25A | E5: 1Q26A | F5: 2Q26A | G5: 3Q26A | H5: 4Q26E
B6: Period end | C6: 45869 | D6: 45869 | E6: 45961 | F6: 46053 | G6: 46142 | H6: 46234
B7: Days in period | C7: 92 | D7: 365 | E7: 92 | F7: 92 | G7: 89 | H7: 92
B9: Source ID | C9: Published | D9: Publisher | E9: URL or attachment | F9: Feeds / evidence | J9: Source details / full links
B10: I01 | C10: 2026-09-24 | D10: S&P Capital IQ | E10: =HYPERLINK("MTN_consensus.json","Consensus") -> Consensus | F10: Street inputs | J10: CapIQ summary; Sept 24 capture
B11: I02 | C11: 2026-09-24 | D11: S&P Capital IQ | E11: =HYPERLINK("MTN_history.csv","History CSV") -> History CSV | F11: CapIQ history | J11: Six reported CapIQ history rows
B12: S01 | C12: 2025-09-29 | D12: SEC (Vail 10-K) | E12: =HYPERLINK("https://www.sec.gov/Archives/edgar/data/812011/000081201125000104/mtn-20250731.htm","FY25 10-K") -> FY25 10-K | F12: FY25 actuals | J12: FY25 audited accounts and geography
B13: S02 | C13: 2025-09-29 | D13: Vail Resorts / SEC | E13: =HYPERLINK("https://www.sec.gov/Archives/edgar/data/812011/000081201125000103/a20250731pressrelease.htm","FY25 Q4") -> FY25 Q4 | F13: 4Q25 actuals | J13: FY25 Q4 quarterly results
B14: S03 | C14: 2025-12-10 | D14: SEC (Vail 10-Q) | E14: =HYPERLINK("https://www.sec.gov/Archives/edgar/data/812011/000081201125000241/mtn-20251031.htm","FY26 Q1") -> FY26 Q1 | F14: 1Q26 actuals | J14: FY26 first-quarter issuer 10-Q
B15: S04 | C15: 2026-03-09 | D15: SEC (Vail 10-Q) | E15: =HYPERLINK("https://www.sec.gov/Archives/edgar/data/812011/000081201126000014/mtn-20260131.htm","FY26 Q2") -> FY26 Q2 | F15: 2Q26 actuals | J15: FY26 second-quarter issuer 10-Q
B16: S05 | C16: 2026-06-08 | D16: SEC (Vail 10-Q) | E16: =HYPERLINK("https://www.sec.gov/Archives/edgar/data/812011/000081201126000026/mtn-20260430.htm","FY26 Q3") -> FY26 Q3 | F16: 3Q26 actuals | J16: FY26 third-quarter issuer 10-Q
B17: S06 | C17: 2026-06-08 | D17: Vail Resorts / SEC | E17: =HYPERLINK("https://www.sec.gov/Archives/edgar/data/812011/000081201126000025/a2026430pressrelease.htm","FY26 guide") -> FY26 guide | F17: FY26 guide | J17: FY26 net income / EBITDA guide
B18: S07 | C18: 2025-09-29 | D18: SEC annual note | E18: =HYPERLINK("https://www.sec.gov/Archives/edgar/data/812011/000081201125000104/R36.htm","Geo + EBITDA") -> Geo + EBITDA | F18: FY25 geo | J18: FY25 geography and segment profit
B19: S08 | C19: 2025-09-29 | D19: SEC annual note | E19: =HYPERLINK("https://www.sec.gov/Archives/edgar/data/812011/000081201125000104/R28.htm","Products") -> Products | F19: Sales detail | J19: FY25 segment product revenues
B20: S09 | C20: 2025-09-29 | D20: SEC annual statement | E20: =HYPERLINK("https://www.sec.gov/Archives/edgar/data/812011/000081201125000104/R3.htm","FY25 BS") -> FY25 BS | F20: FY25 balance | J20: FY25 audited balance sheet
B21: S10 | C21: 2025-09-29 | D21: SEC annual statement | E21: =HYPERLINK("https://www.sec.gov/Archives/edgar/data/812011/000081201125000104/R8.htm","FY25 CF") -> FY25 CF | F21: FY25 cash | J21: FY25 audited cash-flow statement
B22: N01 | C22: 2026-09-03 | D22: ABC Australia | E22: =HYPERLINK("https://www.abc.net.au/news/2026-09-03/winter-delivers-record-low-snow-and-warmth-to-australian-alps/107108342","AUS snow") -> AUS snow | F22: AUS weather | J22: Australia winter: record-low snow
B23: N02 | C23: 2026-09-11 | D23: Alpine Observer | E23: =HYPERLINK("https://www.alpineobserver.com.au/news/warm-weather-throws-ice-on-season-h0zs63kj","Perisher") -> Perisher | F23: Visits data | J23: Perisher visitation and ski visits
B24: N03 | C24: 2026-09-25 | D24: Zacks Investment Research | E24: =HYPERLINK("https://www.metatrader.com/en/news/zacks/4214605-vail-resorts-to-post-q4-earnings-what-s-in-the-cards-for","EPS preview") -> EPS preview | F24: Miss signals | J24: Street EPS revision / miss case
B25: N04 | C25: 2026-08-12 | D25: J2Ski | E25: =HYPERLINK("https://au.j2ski.com/ski-news/item/21638/perisher-expands-open-terrain-offer-world-right","August snow") -> August snow | F25: August snow | J25: August Australian terrain recovery
B27: Attachment audit | C27: SHA256 / detail
B28: MTN_history.csv | C28: =Inputs!C78 -> 6ab94ee31f100c0c2f72127b6e337655929ce42400e91464dad1287d7a5fdf9a
B29: MTN_consensus.json | C29: =Inputs!C79 -> 598e59b445e357d8ef0d6fdba4a186362b0cb0d3b05cc61dbe62e3b7d1d3c3ac
B30: Consensus as-of | C30: =Inputs!C77 -> 2026-09-24
B31: Scope of omitted tabs | J31: All substantive tabs retained: three reported segments, international geography and three financial statements.
B32: Standalone Dates / Consensus / Checks | J32: Dates repeated within sheet headers; consensus in Cover; checks in artifacts/checks.md.

Sheet Inputs
B2: Vail Resorts, Inc.
B3: Inputs
B4: $ millions, except per share
B5: Period | C5: 4Q25A | D5: FY25A | E5: 1Q26A | F5: 2Q26A | G5: 3Q26A | H5: 4Q26E
B6: Period end | C6: 45869 | D6: 45869 | E6: 45961 | F6: 46053 | G6: 46142 | H6: 46234
B7: Days in period | C7: 92 | D7: 365 | E7: 92 | F7: 92 | G7: 89 | H7: 92
B8: period_end_date | C8: eps_normalized_consensus | D8: eps_normalized_actual | E8: eps_gaap_consensus | F8: eps_gaap_actual | G8: revenue_m_consensus | H8: revenue_m_actual | I8: report_date_x000D_
B9: 45688 | C9: 6.31 | D9: 6.56 | E9: 6.32 | F9: 6.56 | G9: 1139.59 | H9: 1137.23 | I9: 45726
B10: 45777 | C10: 10.06 | D10: 10.54 | E10: 10.06 | F10: 10.54 | G10: 1301.36 | H10: 1295.56 | I10: 45813
B11: 45869 | C11: -4.73 | D11: -5.08 | E11: -4.72 | F11: -5.08 | G11: 276.17 | H11: 271.29 | I11: 45929
B12: 45961 | C12: -5.13 | D12: -5.2 | E12: -5.17 | F12: -5.2 | G12: 277.59 | H12: 271.03 | I12: 46001
B13: 46053 | C13: 6.15 | D13: 5.87 | E13: 6.15 | F13: 5.87 | G13: 1107.09 | H13: 1083.93 | I13: 46090
B14: 46142 | C14: 8.93 | D14: 8.81 | E14: 8.96 | F14: 8.81 | G14: 1201.59 | H14: 1205.18 | I14: 46181
B17: S&P Capital IQ full summary row — captured 2026-09-24 (date precision only)
B20: ticker | C20: MTN
B21: company | C21: Vail Resorts, Inc.
B22: exchange_ticker | C22: NYSE:MTN
B23: capiq_company_id | C23: 36122
B24: analyst_count | C24: 13
B25: fiscal_year_end | C25: Jul-31
B26: forward_quarter_label | C26: FQ4 2026 - Jul 2026
B27: period_end_date | C27: 2026-07-31
B28: expected_report_date | C28: 2026-09-28
B29: eps_normalized_mean | C29: -5.37
B30: eps_normalized_median | C30: -5.35
B31: eps_normalized_high | C31: -4.9
B32: eps_normalized_low | C32: -5.81
B33: eps_normalized_std_dev | C33: 0.28
B34: eps_normalized_n_est | C34: 10
B35: eps_normalized_guidance
B36: eps_normalized_guidance_low
B37: eps_normalized_guidance_high
B38: eps_gaap_mean | C38: -5.35
B39: eps_gaap_median | C39: -5.25
B40: eps_gaap_high | C40: -4.9
B41: eps_gaap_low | C41: -5.81
B42: eps_gaap_std_dev | C42: 0.28
B43: eps_gaap_n_est | C43: 11
B44: eps_gaap_guidance_low
B45: eps_gaap_guidance_high
...
